BEGIN:VCALENDAR
VERSION:2.0
PRODID:-//Seaside Creative Art, Inc - ECPv6.15.20//NONSGML v1.0//EN
CALSCALE:GREGORIAN
METHOD:PUBLISH
X-WR-CALNAME:Seaside Creative Art, Inc
X-ORIGINAL-URL:https://seasidecreativeart.com
X-WR-CALDESC:Events for Seaside Creative Art, Inc
REFRESH-INTERVAL;VALUE=DURATION:PT1H
X-Robots-Tag:noindex
X-PUBLISHED-TTL:PT1H
BEGIN:VTIMEZONE
TZID:America/New_York
BEGIN:DAYLIGHT
TZOFFSETFROM:-0500
TZOFFSETTO:-0400
TZNAME:EDT
DTSTART:20250309T070000
END:DAYLIGHT
BEGIN:STANDARD
TZOFFSETFROM:-0400
TZOFFSETTO:-0500
TZNAME:EST
DTSTART:20251102T060000
END:STANDARD
BEGIN:DAYLIGHT
TZOFFSETFROM:-0500
TZOFFSETTO:-0400
TZNAME:EDT
DTSTART:20260308T070000
END:DAYLIGHT
BEGIN:STANDARD
TZOFFSETFROM:-0400
TZOFFSETTO:-0500
TZNAME:EST
DTSTART:20261101T060000
END:STANDARD
BEGIN:DAYLIGHT
TZOFFSETFROM:-0500
TZOFFSETTO:-0400
TZNAME:EDT
DTSTART:20270314T070000
END:DAYLIGHT
BEGIN:STANDARD
TZOFFSETFROM:-0400
TZOFFSETTO:-0500
TZNAME:EST
DTSTART:20271107T060000
END:STANDARD
END:VTIMEZONE
BEGIN:VEVENT
DTSTART;TZID=America/New_York:20260306T180000
DTEND;TZID=America/New_York:20260306T210000
DTSTAMP:20260423T200957
CREATED:20251125T054735Z
LAST-MODIFIED:20260203T153543Z
UID:10000356-1772820000-1772830800@seasidecreativeart.com
SUMMARY:Warm Quilt Reading Nook – Oil Acrylic Painting Class
DESCRIPTION:Warm Quilt Reading Nook – Oil/Acrylic Painting Class\nSoft Light • Multi-Color Quilt  • Cozy Brown Background \nCreate a comforting\, peaceful scene as you paint a woman reading a book\, wrapped in a beautiful multi-color quilt\, resting gently on a rustic cushion. A warm brown backdrop and soft\, glowing light on the open book create an inviting atmosphere full of calm and quiet reflection. \nPerfect for painters who love warm tones\, storytelling art\, and gentle figurative scenes. \nYou Will Learn: \n\n\nPainting a warm brown background with soft depth and glow \n\n\nCreating a believable light source focused on the open book \n\n\nRendering a multi-color quilt with folds\, patchwork patterns\, and texture \n\n\nAdding subtle figure details in a relaxed\, seated pose \n\n\nPainting wood grain and stool structure with simple highlights \n\n\nUsing color temperature to achieve a warm\, cozy atmosphere \n\n\n🎨 All supplies included👩‍🏫 Step-by-step instruction for all skill levels🌟 Leave with a warm\, inviting reading nook painting that tells its own story
URL:https://seasidecreativeart.com/event/warm-quilt-reading-nook-oil-acrylic-painting-class/
LOCATION:Seaside Creative Art Studio\, 150 East Columbia Lane\, Cocoa Beach\, FL\, 32931\, United States
CATEGORIES:Classes
ATTACH;FMTTYPE=image/png:https://seasidecreativeart.com/wp-content/uploads/2025/11/Screenshot-2025-11-24-211218.png
END:VEVENT
BEGIN:VEVENT
DTSTART;TZID=America/New_York:20260307T180000
DTEND;TZID=America/New_York:20260307T210000
DTSTAMP:20260423T200957
CREATED:20251125T055927Z
LAST-MODIFIED:20260203T153736Z
UID:10000357-1772906400-1772917200@seasidecreativeart.com
SUMMARY:Winter Wonderland Cabin – Oil Painting Class
DESCRIPTION:Snow Techniques • Sunlit Trees • Hidden Cabin • Icy Meandering Stream \nStep into a peaceful snowy world as you paint a winter wonderland cabin tucked quietly among frosted trees. In this relaxing oil painting class\, you’ll learn how to create realistic snow\, glowing sunlight filtering through branches\, and a gentle meandering stream lined with ice—all brought to life with soft blends and winter atmosphere. \nPerfect for beginners and experienced painters who love serene\, magical winter scenes. \nYou Will Learn: \n\n\nPainting convincing snow with oils using shadows\, blends\, and texture \n\n\nCreating warm sun reflections filtering through winter trees \n\n\nShaping a hidden\, cozy cabin nestled within the snow \n\n\nPainting an icy stream with reflections and soft movement \n\n\nBlending cool winter blues with warm golden sun tones \n\n\nUsing depth and composition to create a peaceful\, inviting scene \n\n\n🎨 All supplies included👩‍🏫 Step-by-step instruction for all skill levels❄️ Leave with a tranquil Winter Wonderland Cabin painting full of warmth and winter beauty
URL:https://seasidecreativeart.com/event/winter-wonderland-cabin-oil-painting-class/
LOCATION:Seaside Creative Art Studio\, 150 East Columbia Lane\, Cocoa Beach\, FL\, 32931\, United States
CATEGORIES:Classes
ATTACH;FMTTYPE=image/png:https://seasidecreativeart.com/wp-content/uploads/2025/11/Screenshot-2025-11-24-212433.png
END:VEVENT
BEGIN:VEVENT
DTSTART;TZID=America/New_York:20260321T100000
DTEND;TZID=America/New_York:20260321T130000
DTSTAMP:20260423T200957
CREATED:20260204T201940Z
LAST-MODIFIED:20260204T201940Z
UID:10000364-1774087200-1774098000@seasidecreativeart.com
SUMMARY:Block Acrylic Art Canoe and Trees
DESCRIPTION:Create a modern block acrylic landscape featuring a peaceful canoe resting along a tree-lined lake. This class focuses on bold color blocking\, simple shapes\, and strong contrast\, making it approachable for beginners yet visually striking for experienced artists. \nThis style is very popular in coastal and nature-inspired décor and fits beautifully with workshop offerings like your Seaside Creative Art themes. \nAll supplies included\, beginners to learners come join us!
URL:https://seasidecreativeart.com/event/block-acrylic-art-canoe-and-trees/
LOCATION:Seaside Creative Art Studio\, 150 East Columbia Lane\, Cocoa Beach\, FL\, 32931\, United States
CATEGORIES:Classes
ATTACH;FMTTYPE=image/jpeg:https://seasidecreativeart.com/wp-content/uploads/2025/10/Screenshot_20251016_071806_Chrome-scaled.jpg
END:VEVENT
END:VCALENDAR