BEGIN:VCALENDAR
VERSION:2.0
PRODID:-//Seaside Creative Art, Inc - ECPv6.15.20//NONSGML v1.0//EN
CALSCALE:GREGORIAN
METHOD:PUBLISH
X-WR-CALNAME:Seaside Creative Art, Inc
X-ORIGINAL-URL:https://seasidecreativeart.com
X-WR-CALDESC:Events for Seaside Creative Art, Inc
REFRESH-INTERVAL;VALUE=DURATION:PT1H
X-Robots-Tag:noindex
X-PUBLISHED-TTL:PT1H
BEGIN:VTIMEZONE
TZID:America/New_York
BEGIN:DAYLIGHT
TZOFFSETFROM:-0500
TZOFFSETTO:-0400
TZNAME:EDT
DTSTART:20240310T070000
END:DAYLIGHT
BEGIN:STANDARD
TZOFFSETFROM:-0400
TZOFFSETTO:-0500
TZNAME:EST
DTSTART:20241103T060000
END:STANDARD
BEGIN:DAYLIGHT
TZOFFSETFROM:-0500
TZOFFSETTO:-0400
TZNAME:EDT
DTSTART:20250309T070000
END:DAYLIGHT
BEGIN:STANDARD
TZOFFSETFROM:-0400
TZOFFSETTO:-0500
TZNAME:EST
DTSTART:20251102T060000
END:STANDARD
BEGIN:DAYLIGHT
TZOFFSETFROM:-0500
TZOFFSETTO:-0400
TZNAME:EDT
DTSTART:20260308T070000
END:DAYLIGHT
BEGIN:STANDARD
TZOFFSETFROM:-0400
TZOFFSETTO:-0500
TZNAME:EST
DTSTART:20261101T060000
END:STANDARD
END:VTIMEZONE
BEGIN:VEVENT
DTSTART;TZID=America/New_York:20250509T170000
DTEND;TZID=America/New_York:20250509T190000
DTSTAMP:20260424T105434
CREATED:20250501T132402Z
LAST-MODIFIED:20250501T133039Z
UID:10000179-1746810000-1746817200@seasidecreativeart.com
SUMMARY:Moonlight on the BEACH
DESCRIPTION:Paint a romantic scene in oils on COCOA BEACH. Sand in between your toes\, tropical breeze on you face and the flow of a sunset to enhance your creative experience. \nAll Inclusive. Families Welcome. Bring a water bottle!
URL:https://seasidecreativeart.com/event/moonlight-on-the-beach/
LOCATION:Seaside Creative Art Studio\, 150 East Columbia Lane\, Cocoa Beach\, FL\, 32931\, United States
CATEGORIES:Classes,On the BEACH Class
ATTACH;FMTTYPE=image/png:https://seasidecreativeart.com/wp-content/uploads/2025/05/May-3-4-6pm.png
END:VEVENT
BEGIN:VEVENT
DTSTART;TZID=America/New_York:20250510T160000
DTEND;TZID=America/New_York:20250510T180000
DTSTAMP:20260424T105434
CREATED:20250428T161355Z
LAST-MODIFIED:20250428T161355Z
UID:10000152-1746892800-1746900000@seasidecreativeart.com
SUMMARY:Dolphins on the Beach
DESCRIPTION:BEACH VIBES and PAINTING Experience. Acrylic Painting on the BEACH for FUN and JOY!  Breeze in your hair\, Sun on your face\, Sand in your toes! \nAll-Inclusive Class for Beginners to Fun-Lovers. Bring a bottle of water and sunscreen.
URL:https://seasidecreativeart.com/event/dolphins-on-the-beach/
LOCATION:Seaside Creative Art Studio\, 150 East Columbia Lane\, Cocoa Beach\, FL\, 32931\, United States
CATEGORIES:Classes,On the BEACH Class
ATTACH;FMTTYPE=image/png:https://seasidecreativeart.com/wp-content/uploads/2025/04/May-10-BEACH-4-6pm.png
END:VEVENT
BEGIN:VEVENT
DTSTART;TZID=America/New_York:20250514T180000
DTEND;TZID=America/New_York:20250514T200000
DTSTAMP:20260424T105434
CREATED:20250428T165549Z
LAST-MODIFIED:20250428T165549Z
UID:10000155-1747245600-1747252800@seasidecreativeart.com
SUMMARY:Silver Beach
DESCRIPTION:Beach Vibe and Painting Experience on Cocoa Beach!  Silver\, Grey\, Tourquoise\, Blue\, and Aqua color blending create an awe-inspiring painting. \nNo Experience Needed! Come paint with the sand between your toes and wind in your hair! It will be an enjoyable\, serene afternoon! \nFamilies and Friends are Welcome.  Age Limit +4 with an adult
URL:https://seasidecreativeart.com/event/silver-beach/
LOCATION:Seaside Creative Art Studio\, 150 East Columbia Lane\, Cocoa Beach\, FL\, 32931\, United States
CATEGORIES:Classes,On the BEACH Class
ATTACH;FMTTYPE=image/png:https://seasidecreativeart.com/wp-content/uploads/2025/04/May-14-BEACH-6-8-pm.png
END:VEVENT
BEGIN:VEVENT
DTSTART;TZID=America/New_York:20250522T080000
DTEND;TZID=America/New_York:20250522T170000
DTSTAMP:20260424T105434
CREATED:20250522T160153Z
LAST-MODIFIED:20250522T160153Z
UID:10000242-1747900800-1747933200@seasidecreativeart.com
SUMMARY:Cornflower Coast
DESCRIPTION:Cornflower Coast blends the soft beauty of wild cornflowers with the breezy charm of the East Coast shoreline. Picture vibrant blue petals swaying gently beside salty sea air and distant waves—nature’s calm at its finest. This all-inclusive class is perfect for ages 4+ and all skill levels\, offering a relaxing\, creative escape into a coastal meadow. All supplies are provided: canvas\, paints\, brushes\, aprons\, and more. No experience needed—just bring your love of flowers\, ocean views\, and peaceful moments.
URL:https://seasidecreativeart.com/event/cornflower-coast/
LOCATION:Seaside Creative Art Studio\, 150 East Columbia Lane\, Cocoa Beach\, FL\, 32931\, United States
CATEGORIES:Classes,On the BEACH Class
ATTACH;FMTTYPE=image/jpeg:https://seasidecreativeart.com/wp-content/uploads/2025/05/Aug-8-BEACH-5-7pm.jpg
END:VEVENT
BEGIN:VEVENT
DTSTART;TZID=America/New_York:20250523T180000
DTEND;TZID=America/New_York:20250523T200000
DTSTAMP:20260424T105434
CREATED:20250428T172444Z
LAST-MODIFIED:20250428T172444Z
UID:10000157-1748023200-1748030400@seasidecreativeart.com
SUMMARY:Tropical Beach Painting
DESCRIPTION:There’s something truly magical about painting near the beach; Take the beach home with you… sand between your toes\, the wind gently caressing your face\, and the soothing sound of waves crashing in the background. It’s a sensory experience like no other\, and it’s the perfect setting to unleash your creativity and capture the beauty of nature on canvas. \nImagine waking up early in the morning\, just as the sun rises over the horizon\, casting a warm golden glow over the beach. The colors are vibrant and ever-changing\, creating a stunning backdrop for your painting. With each brushstroke\, you will learn how to capture the essence of a Cocoa Beach summer night sky.  Wet on Wet Bob Ross technique allows you to blend soft blues and hues of pink\, turquoise to recreate the magical moment on your canvas. \nFun for the Whole Family – All Welcome! Beginners to Hobbyists. All-Inclusive Class.  Class Age Limit >10 years old; ages 10-13 with an adult painting too\, please.
URL:https://seasidecreativeart.com/event/tropical-beach-painting/
LOCATION:Seaside Creative Art Studio\, 150 East Columbia Lane\, Cocoa Beach\, FL\, 32931\, United States
CATEGORIES:Classes,On the BEACH Class
ATTACH;FMTTYPE=image/png:https://seasidecreativeart.com/wp-content/uploads/2025/04/May-23-6-8-pm.png
END:VEVENT
BEGIN:VEVENT
DTSTART;TZID=America/New_York:20250524T130000
DTEND;TZID=America/New_York:20250524T150000
DTSTAMP:20260424T105434
CREATED:20250509T182902Z
LAST-MODIFIED:20250509T183006Z
UID:10000195-1748091600-1748098800@seasidecreativeart.com
SUMMARY:PRIVATE EVENT: Kaylynn's Beach Birthday Party & Painting
DESCRIPTION:On the BEACH. Toes in the sand\, sun on your face\, tropical breeze….. Perfect location for a Beach Birthday Party and Painting! \nEverything is included to paint the perfect painting. It is a fun\, awesome environment to create and explore young talents. \n 
URL:https://seasidecreativeart.com/event/kaylynns-beach-birthday-party-painting/
LOCATION:Seaside Creative Art Studio\, 150 East Columbia Lane\, Cocoa Beach\, FL\, 32931\, United States
CATEGORIES:Classes,On the BEACH Class,Private Event
ATTACH;FMTTYPE=image/png:https://seasidecreativeart.com/wp-content/uploads/2025/05/Beach-Birthday-Party.png
END:VEVENT
BEGIN:VEVENT
DTSTART;TZID=America/New_York:20250524T160000
DTEND;TZID=America/New_York:20250524T180000
DTSTAMP:20260424T105434
CREATED:20250124T145053Z
LAST-MODIFIED:20250428T180640Z
UID:10000141-1748102400-1748109600@seasidecreativeart.com
SUMMARY:Pathway to Beach
DESCRIPTION:Transform your canvas into a dreamy sunrise or sunset. It’s magical and inspiring to experience capturing the vibrant colors of the sky reflecting on the surf.  We use acrylic\, oil\, and pastel paints.  ANYONE can learn to paint on the beach. You will discover the perfect balance of wind on your face\, sand between your toes\, soothing balm of crashing waves\, and your creative side. This is the perfect opportunity to gather friends and your family for a couple of hours of fun. \nAll-Inclusive Class – Everything! Children >6 years are welcome with an adult. You are welcome to bring a snack\, and don’t forget your sunscreen and water bottle.
URL:https://seasidecreativeart.com/event/paint-the-beach-on-the-beach/
LOCATION:Seaside Creative Art Studio\, 150 East Columbia Lane\, Cocoa Beach\, FL\, 32931\, United States
CATEGORIES:Classes,On the BEACH Class
ATTACH;FMTTYPE=image/png:https://seasidecreativeart.com/wp-content/uploads/2025/04/May-24-BEACH-4-6pm.png
END:VEVENT
END:VCALENDAR