BEGIN:VCALENDAR
VERSION:2.0
PRODID:-//Seaside Creative Art, Inc - ECPv6.15.20//NONSGML v1.0//EN
CALSCALE:GREGORIAN
METHOD:PUBLISH
X-WR-CALNAME:Seaside Creative Art, Inc
X-ORIGINAL-URL:https://seasidecreativeart.com
X-WR-CALDESC:Events for Seaside Creative Art, Inc
REFRESH-INTERVAL;VALUE=DURATION:PT1H
X-Robots-Tag:noindex
X-PUBLISHED-TTL:PT1H
BEGIN:VTIMEZONE
TZID:America/New_York
BEGIN:DAYLIGHT
TZOFFSETFROM:-0500
TZOFFSETTO:-0400
TZNAME:EDT
DTSTART:20240310T070000
END:DAYLIGHT
BEGIN:STANDARD
TZOFFSETFROM:-0400
TZOFFSETTO:-0500
TZNAME:EST
DTSTART:20241103T060000
END:STANDARD
BEGIN:DAYLIGHT
TZOFFSETFROM:-0500
TZOFFSETTO:-0400
TZNAME:EDT
DTSTART:20250309T070000
END:DAYLIGHT
BEGIN:STANDARD
TZOFFSETFROM:-0400
TZOFFSETTO:-0500
TZNAME:EST
DTSTART:20251102T060000
END:STANDARD
BEGIN:DAYLIGHT
TZOFFSETFROM:-0500
TZOFFSETTO:-0400
TZNAME:EDT
DTSTART:20260308T070000
END:DAYLIGHT
BEGIN:STANDARD
TZOFFSETFROM:-0400
TZOFFSETTO:-0500
TZNAME:EST
DTSTART:20261101T060000
END:STANDARD
END:VTIMEZONE
BEGIN:VEVENT
DTSTART;TZID=America/New_York:20250704T090000
DTEND;TZID=America/New_York:20250704T120000
DTSTAMP:20260423T152800
CREATED:20250519T165738Z
LAST-MODIFIED:20250611T213030Z
UID:10000206-1751619600-1751630400@seasidecreativeart.com
SUMMARY:Paradise Glows in Orange & Ocean Blues
DESCRIPTION:Paradise Glows in Orange & Ocean Blues brings the warmth of a tropical sunset to life—with glowing orange skies melting into serene ocean blues\, swaying palms\, and tranquil shoreline vibes. \nLearn simple yet stunning techniques to blend vibrant colors and capture that dreamy island glow on canvas. You’ll be amazed at how easily your brush brings paradise to life! \nAll-Inclusive Painting Class: Designed for Beginners to Improvers.No experience needed—just come ready to relax\, create\, and take home your own sun-soaked masterpiece.
URL:https://seasidecreativeart.com/event/paradise-glows-in-orange-ocean-blues/
LOCATION:Seaside Creative Art Studio\, 150 East Columbia Lane\, Cocoa Beach\, FL\, 32931\, United States
CATEGORIES:Classes,On the BEACH Class
ATTACH;FMTTYPE=image/jpeg:https://seasidecreativeart.com/wp-content/uploads/2025/05/JULY-4-scaled.jpg
END:VEVENT
BEGIN:VEVENT
DTSTART;TZID=America/New_York:20250705T160000
DTEND;TZID=America/New_York:20250705T183000
DTSTAMP:20260423T152800
CREATED:20250519T171258Z
LAST-MODIFIED:20250519T172807Z
UID:10000207-1751731200-1751740200@seasidecreativeart.com
SUMMARY:Salt in the Breeze\, Sun on the Sand
DESCRIPTION:Salt in the Breeze\, Sun on the Sand invites you to capture the golden charm of a tropical beach afternoon—where sunlight dances on white sands and the ocean whispers in shades of blue. \nIn this all-inclusive painting class\, you’ll learn how to create soft textures\, blend warm and cool hues\, and bring your own seaside escape to life on canvas. Perfect for beginners and budding artists alike\, this joyful session offers a peaceful\, creative retreat. \nAll supplies are provided—just bring a water bottle\, your imagination\, and a love for sunshine and salty air. Let’s paint your perfect beach day together!
URL:https://seasidecreativeart.com/event/salt-in-the-breeze-sun-on-the-sand/
LOCATION:Seaside Creative Art Studio\, 150 East Columbia Lane\, Cocoa Beach\, FL\, 32931\, United States
CATEGORIES:Classes,On the BEACH Class
ATTACH;FMTTYPE=image/jpeg:https://seasidecreativeart.com/wp-content/uploads/2025/05/July-5-BEACH-4-6_30pm.jpg
END:VEVENT
BEGIN:VEVENT
DTSTART;TZID=America/New_York:20250711T100000
DTEND;TZID=America/New_York:20250711T120000
DTSTAMP:20260423T152800
CREATED:20250519T193201Z
LAST-MODIFIED:20250520T191653Z
UID:10000213-1752228000-1752235200@seasidecreativeart.com
SUMMARY:Purple Sunset Beach
DESCRIPTION:Beach Vibe and Painting Experience on Cocoa Beach!Immerse yourself in the magic of a purple sunset beach\, where soft blends of lavender\, violet\, blush\, and twilight blue come together to create an unforgettable painting. \nNo experience needed! Come paint with the sand between your toes and the breeze in your hair—a serene and joyful afternoon awaits. \nPerfect for families\, friends\, or solo creatives.Ages 4+ welcome with an accompanying adult. All supplies are included—just bring your smile and a sense of adventure!
URL:https://seasidecreativeart.com/event/purple-sunset-beach-2/
LOCATION:Seaside Creative Art Studio\, 150 East Columbia Lane\, Cocoa Beach\, FL\, 32931\, United States
CATEGORIES:Classes,On the BEACH Class
ATTACH;FMTTYPE=image/jpeg:https://seasidecreativeart.com/wp-content/uploads/2025/05/July-11-BEACH-5-7pm.jpg
END:VEVENT
BEGIN:VEVENT
DTSTART;TZID=America/New_York:20250719T160000
DTEND;TZID=America/New_York:20250719T183000
DTSTAMP:20260423T152800
CREATED:20250520T204450Z
LAST-MODIFIED:20250520T204450Z
UID:10000221-1752940800-1752949800@seasidecreativeart.com
SUMMARY:Coastal Calm
DESCRIPTION:Paint the Serenity of the Sea \nCapture the peaceful beauty of the ocean in Coastal Calm\, a relaxing painting experience that brings the seashore to life. Learn to blend soft blues\, sandy neutrals\, and gentle waves as you create your own tranquil beach scene. With step-by-step\, hands-on instruction\, this class is perfect for beginners and art lovers looking to unwind through creativity. \nAll materials are included: a prepped 16 x 20″ canvas\, professional brushes\, oil paints\, aprons\, and more. \nNo experience needed—just bring your love for the sea. Ages 14+. Spots are limited—book your seaside escape today!
URL:https://seasidecreativeart.com/event/coastal-calm/
LOCATION:Seaside Creative Art Studio\, 150 East Columbia Lane\, Cocoa Beach\, FL\, 32931\, United States
CATEGORIES:Classes,On the BEACH Class
ATTACH;FMTTYPE=image/jpeg:https://seasidecreativeart.com/wp-content/uploads/2025/05/July-19-BEACH-4-6_30-pm.jpg
END:VEVENT
END:VCALENDAR