BEGIN:VCALENDAR
VERSION:2.0
PRODID:-//Seaside Creative Art, Inc - ECPv6.15.20//NONSGML v1.0//EN
CALSCALE:GREGORIAN
METHOD:PUBLISH
X-ORIGINAL-URL:https://seasidecreativeart.com
X-WR-CALDESC:Events for Seaside Creative Art, Inc
REFRESH-INTERVAL;VALUE=DURATION:PT1H
X-Robots-Tag:noindex
X-PUBLISHED-TTL:PT1H
BEGIN:VTIMEZONE
TZID:America/New_York
BEGIN:DAYLIGHT
TZOFFSETFROM:-0500
TZOFFSETTO:-0400
TZNAME:EDT
DTSTART:20240310T070000
END:DAYLIGHT
BEGIN:STANDARD
TZOFFSETFROM:-0400
TZOFFSETTO:-0500
TZNAME:EST
DTSTART:20241103T060000
END:STANDARD
BEGIN:DAYLIGHT
TZOFFSETFROM:-0500
TZOFFSETTO:-0400
TZNAME:EDT
DTSTART:20250309T070000
END:DAYLIGHT
BEGIN:STANDARD
TZOFFSETFROM:-0400
TZOFFSETTO:-0500
TZNAME:EST
DTSTART:20251102T060000
END:STANDARD
BEGIN:DAYLIGHT
TZOFFSETFROM:-0500
TZOFFSETTO:-0400
TZNAME:EDT
DTSTART:20260308T070000
END:DAYLIGHT
BEGIN:STANDARD
TZOFFSETFROM:-0400
TZOFFSETTO:-0500
TZNAME:EST
DTSTART:20261101T060000
END:STANDARD
END:VTIMEZONE
BEGIN:VEVENT
DTSTART;TZID=America/New_York:20250524T130000
DTEND;TZID=America/New_York:20250524T150000
DTSTAMP:20260424T173634
CREATED:20250509T182902Z
LAST-MODIFIED:20250509T183006Z
UID:10000195-1748091600-1748098800@seasidecreativeart.com
SUMMARY:PRIVATE EVENT: Kaylynn's Beach Birthday Party & Painting
DESCRIPTION:On the BEACH. Toes in the sand\, sun on your face\, tropical breeze….. Perfect location for a Beach Birthday Party and Painting! \nEverything is included to paint the perfect painting. It is a fun\, awesome environment to create and explore young talents. \n 
URL:https://seasidecreativeart.com/event/kaylynns-beach-birthday-party-painting/
LOCATION:Seaside Creative Art Studio\, 150 East Columbia Lane\, Cocoa Beach\, FL\, 32931\, United States
CATEGORIES:Classes,On the BEACH Class,Private Event
ATTACH;FMTTYPE=image/png:https://seasidecreativeart.com/wp-content/uploads/2025/05/Beach-Birthday-Party.png
END:VEVENT
BEGIN:VEVENT
DTSTART;TZID=America/New_York:20250524T160000
DTEND;TZID=America/New_York:20250524T180000
DTSTAMP:20260424T173634
CREATED:20250124T145053Z
LAST-MODIFIED:20250428T180640Z
UID:10000141-1748102400-1748109600@seasidecreativeart.com
SUMMARY:Pathway to Beach
DESCRIPTION:Transform your canvas into a dreamy sunrise or sunset. It’s magical and inspiring to experience capturing the vibrant colors of the sky reflecting on the surf.  We use acrylic\, oil\, and pastel paints.  ANYONE can learn to paint on the beach. You will discover the perfect balance of wind on your face\, sand between your toes\, soothing balm of crashing waves\, and your creative side. This is the perfect opportunity to gather friends and your family for a couple of hours of fun. \nAll-Inclusive Class – Everything! Children >6 years are welcome with an adult. You are welcome to bring a snack\, and don’t forget your sunscreen and water bottle.
URL:https://seasidecreativeart.com/event/paint-the-beach-on-the-beach/
LOCATION:Seaside Creative Art Studio\, 150 East Columbia Lane\, Cocoa Beach\, FL\, 32931\, United States
CATEGORIES:Classes,On the BEACH Class
ATTACH;FMTTYPE=image/png:https://seasidecreativeart.com/wp-content/uploads/2025/04/May-24-BEACH-4-6pm.png
END:VEVENT
END:VCALENDAR