BEGIN:VCALENDAR
VERSION:2.0
PRODID:-//Seaside Creative Art, Inc - ECPv6.15.20//NONSGML v1.0//EN
CALSCALE:GREGORIAN
METHOD:PUBLISH
X-WR-CALNAME:Seaside Creative Art, Inc
X-ORIGINAL-URL:https://seasidecreativeart.com
X-WR-CALDESC:Events for Seaside Creative Art, Inc
REFRESH-INTERVAL;VALUE=DURATION:PT1H
X-Robots-Tag:noindex
X-PUBLISHED-TTL:PT1H
BEGIN:VTIMEZONE
TZID:America/New_York
BEGIN:DAYLIGHT
TZOFFSETFROM:-0500
TZOFFSETTO:-0400
TZNAME:EDT
DTSTART:20240310T070000
END:DAYLIGHT
BEGIN:STANDARD
TZOFFSETFROM:-0400
TZOFFSETTO:-0500
TZNAME:EST
DTSTART:20241103T060000
END:STANDARD
BEGIN:DAYLIGHT
TZOFFSETFROM:-0500
TZOFFSETTO:-0400
TZNAME:EDT
DTSTART:20250309T070000
END:DAYLIGHT
BEGIN:STANDARD
TZOFFSETFROM:-0400
TZOFFSETTO:-0500
TZNAME:EST
DTSTART:20251102T060000
END:STANDARD
BEGIN:DAYLIGHT
TZOFFSETFROM:-0500
TZOFFSETTO:-0400
TZNAME:EDT
DTSTART:20260308T070000
END:DAYLIGHT
BEGIN:STANDARD
TZOFFSETFROM:-0400
TZOFFSETTO:-0500
TZNAME:EST
DTSTART:20261101T060000
END:STANDARD
END:VTIMEZONE
BEGIN:VEVENT
DTSTART;TZID=America/New_York:20250816T170000
DTEND;TZID=America/New_York:20250816T190000
DTSTAMP:20260423T195924
CREATED:20250522T174317Z
LAST-MODIFIED:20250810T112244Z
UID:10000247-1755363600-1755370800@seasidecreativeart.com
SUMMARY:Moon over the Waves
DESCRIPTION:Moon Over the Waves invites you to paint a tranquil night scene where the moonlight dances across gentle ocean waves. With soft blues\, silvers\, and deep navy tones\, this serene seascape captures the quiet magic of a moonlit coast. Perfect for all skill levels and ages 4+\, this all-inclusive painting class provides everything you need—canvas\, paints\, brushes\, aprons\, and step-by-step guidance. No experience needed—just bring your creativity and let the calming rhythm of the sea inspire your masterpiece.
URL:https://seasidecreativeart.com/event/moon-over-the-waves/
LOCATION:Seaside Creative Art Studio\, 150 East Columbia Lane\, Cocoa Beach\, FL\, 32931\, United States
CATEGORIES:Classes,On the BEACH Class
ATTACH;FMTTYPE=image/jpeg:https://seasidecreativeart.com/wp-content/uploads/2025/05/August-16-scaled.jpg
END:VEVENT
BEGIN:VEVENT
DTSTART;TZID=America/New_York:20250822T170000
DTEND;TZID=America/New_York:20250822T190000
DTSTAMP:20260423T195924
CREATED:20250522T211950Z
LAST-MODIFIED:20250616T214513Z
UID:10000251-1755882000-1755889200@seasidecreativeart.com
SUMMARY:Coconut Tree Escape
DESCRIPTION:Coconut Tree Escape takes you to a sun-soaked shore where a lone coconut tree sways gently in the ocean breeze. With golden sand\, soft waves\, and tropical skies\, this peaceful scene captures the feeling of a perfect island getaway. Ideal for all ages 4+ and every skill level\, this all-inclusive painting class provides everything you need—canvas\, paints\, brushes\, aprons\, and step-by-step guidance. No experience needed—just bring your creativity and let the calm of the tropics inspire your masterpiece.
URL:https://seasidecreativeart.com/event/coconut-tree-escape/
LOCATION:Seaside Creative Art Studio\, 150 East Columbia Lane\, Cocoa Beach\, FL\, 32931\, United States
CATEGORIES:Classes,On the BEACH Class
ATTACH;FMTTYPE=image/jpeg:https://seasidecreativeart.com/wp-content/uploads/2025/05/August-22-scaled.jpg
END:VEVENT
BEGIN:VEVENT
DTSTART;TZID=America/New_York:20250823T090000
DTEND;TZID=America/New_York:20250823T110000
DTSTAMP:20260423T195924
CREATED:20250522T212753Z
LAST-MODIFIED:20250616T213252Z
UID:10000252-1755939600-1755946800@seasidecreativeart.com
SUMMARY:Beach Builders
DESCRIPTION:Beach Builders celebrates the joyful bond between parent and child as they build a sandcastle together under the sun. With warm golden sand\, seashells\, and the sound of waves nearby\, this heartwarming scene captures a timeless beach memory. Perfect for all ages 4+ and all skill levels\, this all-inclusive painting class provides everything you need—canvas\, paints\, brushes\, aprons\, and step-by-step guidance. No experience needed—just bring your creativity and relive the magic of building\, laughing\, and making memories by the sea.
URL:https://seasidecreativeart.com/event/beach-builders/
LOCATION:Seaside Creative Art Studio\, 150 East Columbia Lane\, Cocoa Beach\, FL\, 32931\, United States
CATEGORIES:Classes,On the BEACH Class
ATTACH;FMTTYPE=image/jpeg:https://seasidecreativeart.com/wp-content/uploads/2025/05/Aug.-23-BEACH-4-6_30-pm.jpg
END:VEVENT
BEGIN:VEVENT
DTSTART;TZID=America/New_York:20250829T160000
DTEND;TZID=America/New_York:20250829T180000
DTSTAMP:20260423T195924
CREATED:20250523T172440Z
LAST-MODIFIED:20250616T181255Z
UID:10000257-1756483200-1756490400@seasidecreativeart.com
SUMMARY:Purple Sunset Beach
DESCRIPTION:Beach Vibe and Painting Experience on Cocoa Beach!  \nImmerse yourself in the magic of a purple sunset beach\, where soft blends of lavender\, violet\, blush\, and twilight blue come together to create an unforgettable painting. \nNo experience needed! Come paint with the sand between your toes and the breeze in your hair—a serene and joyful afternoon awaits. \nPerfect for families\, friends\, or solo creatives.Ages +10 welcome with an accompanying adult. All supplies are included—just bring your smile and a sense of adventure!
URL:https://seasidecreativeart.com/event/purple-sunset-beach-3/
LOCATION:Seaside Creative Art Studio\, 150 East Columbia Lane\, Cocoa Beach\, FL\, 32931\, United States
CATEGORIES:Classes,On the BEACH Class
ATTACH;FMTTYPE=image/jpeg:https://seasidecreativeart.com/wp-content/uploads/2025/05/August-29-scaled.jpg
END:VEVENT
BEGIN:VEVENT
DTSTART;TZID=America/New_York:20250830T160000
DTEND;TZID=America/New_York:20250830T183000
DTSTAMP:20260423T195924
CREATED:20250523T172817Z
LAST-MODIFIED:20250616T180946Z
UID:10000258-1756569600-1756578600@seasidecreativeart.com
SUMMARY:Heron at Sunset
DESCRIPTION:Heron at Sunset captures a graceful heron standing still as the golden sun dips below the horizon\, casting warm hues of orange\, pink\, and purple across the water. This peaceful moment blends the elegance of the bird with the calming beauty of dusk\, creating a serene and timeless scene. Perfect for all ages 4+ and all skill levels\, this all-inclusive painting class includes canvas\, paints\, brushes\, aprons\, and step-by-step guidance. No experience needed—just bring your creativity and enjoy the stillness of sunset.
URL:https://seasidecreativeart.com/event/heron-at-sunset/
LOCATION:Seaside Creative Art Studio\, 150 East Columbia Lane\, Cocoa Beach\, FL\, 32931\, United States
CATEGORIES:Classes,On the BEACH Class
ATTACH;FMTTYPE=image/jpeg:https://seasidecreativeart.com/wp-content/uploads/2025/05/Aug.-30-4-6_30-pm.jpg
END:VEVENT
END:VCALENDAR