BEGIN:VCALENDAR
VERSION:2.0
PRODID:-//Seaside Creative Art, Inc - ECPv6.15.20//NONSGML v1.0//EN
CALSCALE:GREGORIAN
METHOD:PUBLISH
X-ORIGINAL-URL:https://seasidecreativeart.com
X-WR-CALDESC:Events for Seaside Creative Art, Inc
REFRESH-INTERVAL;VALUE=DURATION:PT1H
X-Robots-Tag:noindex
X-PUBLISHED-TTL:PT1H
BEGIN:VTIMEZONE
TZID:America/New_York
BEGIN:DAYLIGHT
TZOFFSETFROM:-0500
TZOFFSETTO:-0400
TZNAME:EDT
DTSTART:20240310T070000
END:DAYLIGHT
BEGIN:STANDARD
TZOFFSETFROM:-0400
TZOFFSETTO:-0500
TZNAME:EST
DTSTART:20241103T060000
END:STANDARD
BEGIN:DAYLIGHT
TZOFFSETFROM:-0500
TZOFFSETTO:-0400
TZNAME:EDT
DTSTART:20250309T070000
END:DAYLIGHT
BEGIN:STANDARD
TZOFFSETFROM:-0400
TZOFFSETTO:-0500
TZNAME:EST
DTSTART:20251102T060000
END:STANDARD
BEGIN:DAYLIGHT
TZOFFSETFROM:-0500
TZOFFSETTO:-0400
TZNAME:EDT
DTSTART:20260308T070000
END:DAYLIGHT
BEGIN:STANDARD
TZOFFSETFROM:-0400
TZOFFSETTO:-0500
TZNAME:EST
DTSTART:20261101T060000
END:STANDARD
END:VTIMEZONE
BEGIN:VEVENT
DTSTART;TZID=America/New_York:20250719T160000
DTEND;TZID=America/New_York:20250719T183000
DTSTAMP:20260423T164623
CREATED:20250520T204450Z
LAST-MODIFIED:20250520T204450Z
UID:10000221-1752940800-1752949800@seasidecreativeart.com
SUMMARY:Coastal Calm
DESCRIPTION:Paint the Serenity of the Sea \nCapture the peaceful beauty of the ocean in Coastal Calm\, a relaxing painting experience that brings the seashore to life. Learn to blend soft blues\, sandy neutrals\, and gentle waves as you create your own tranquil beach scene. With step-by-step\, hands-on instruction\, this class is perfect for beginners and art lovers looking to unwind through creativity. \nAll materials are included: a prepped 16 x 20″ canvas\, professional brushes\, oil paints\, aprons\, and more. \nNo experience needed—just bring your love for the sea. Ages 14+. Spots are limited—book your seaside escape today!
URL:https://seasidecreativeart.com/event/coastal-calm/
LOCATION:Seaside Creative Art Studio\, 150 East Columbia Lane\, Cocoa Beach\, FL\, 32931\, United States
CATEGORIES:Classes,On the BEACH Class
ATTACH;FMTTYPE=image/jpeg:https://seasidecreativeart.com/wp-content/uploads/2025/05/July-19-BEACH-4-6_30-pm.jpg
END:VEVENT
END:VCALENDAR