BEGIN:VCALENDAR
VERSION:2.0
PRODID:-//Seaside Creative Art, Inc - ECPv6.15.20//NONSGML v1.0//EN
CALSCALE:GREGORIAN
METHOD:PUBLISH
X-WR-CALNAME:Seaside Creative Art, Inc
X-ORIGINAL-URL:https://seasidecreativeart.com
X-WR-CALDESC:Events for Seaside Creative Art, Inc
REFRESH-INTERVAL;VALUE=DURATION:PT1H
X-Robots-Tag:noindex
X-PUBLISHED-TTL:PT1H
BEGIN:VTIMEZONE
TZID:America/New_York
BEGIN:DAYLIGHT
TZOFFSETFROM:-0500
TZOFFSETTO:-0400
TZNAME:EDT
DTSTART:20240310T070000
END:DAYLIGHT
BEGIN:STANDARD
TZOFFSETFROM:-0400
TZOFFSETTO:-0500
TZNAME:EST
DTSTART:20241103T060000
END:STANDARD
BEGIN:DAYLIGHT
TZOFFSETFROM:-0500
TZOFFSETTO:-0400
TZNAME:EDT
DTSTART:20250309T070000
END:DAYLIGHT
BEGIN:STANDARD
TZOFFSETFROM:-0400
TZOFFSETTO:-0500
TZNAME:EST
DTSTART:20251102T060000
END:STANDARD
BEGIN:DAYLIGHT
TZOFFSETFROM:-0500
TZOFFSETTO:-0400
TZNAME:EDT
DTSTART:20260308T070000
END:DAYLIGHT
BEGIN:STANDARD
TZOFFSETFROM:-0400
TZOFFSETTO:-0500
TZNAME:EST
DTSTART:20261101T060000
END:STANDARD
END:VTIMEZONE
BEGIN:VEVENT
DTSTART;TZID=America/New_York:20250731T140000
DTEND;TZID=America/New_York:20250731T170000
DTSTAMP:20260425T001601
CREATED:20250521T164741Z
LAST-MODIFIED:20250521T164741Z
UID:10000230-1753970400-1753981200@seasidecreativeart.com
SUMMARY:Tropical Walk
DESCRIPTION:Escape into a Tropical Walk \nStep into a world of lush colors and island vibes with this vibrant floral arrangement experience. Inspired by the beauty of a tropical path lined with exotic blooms\, participants will create a lively display that brings the warmth and wonder of the tropics into any room. \nBright\, fresh flowers in bold\, sun-soaked hues capture the spirit of a breezy seaside stroll. This creative and relaxing activity is perfect for all skill levels and offers a refreshing way to connect with nature’s bold palette. \nAll supplies are included: a selection of tropical-inspired flowers\, a stylish vase\, floral foam\, scissors\, and decorative accents. \nNo experience needed—just a love for color and creativity. Ages 4+. Come take a Tropical Walk and let your imagination bloom!
URL:https://seasidecreativeart.com/event/tropical-walk/
LOCATION:Seaside Creative Art Studio\, 150 East Columbia Lane\, Cocoa Beach\, FL\, 32931\, United States
CATEGORIES:Classes
ATTACH;FMTTYPE=image/jpeg:https://seasidecreativeart.com/wp-content/uploads/2025/05/July-31-Acrylic-2-5-pm.jpg
END:VEVENT
END:VCALENDAR