BEGIN:VCALENDAR
VERSION:2.0
PRODID:-//Seaside Creative Art, Inc - ECPv6.15.20//NONSGML v1.0//EN
CALSCALE:GREGORIAN
METHOD:PUBLISH
X-WR-CALNAME:Seaside Creative Art, Inc
X-ORIGINAL-URL:https://seasidecreativeart.com
X-WR-CALDESC:Events for Seaside Creative Art, Inc
REFRESH-INTERVAL;VALUE=DURATION:PT1H
X-Robots-Tag:noindex
X-PUBLISHED-TTL:PT1H
BEGIN:VTIMEZONE
TZID:America/New_York
BEGIN:DAYLIGHT
TZOFFSETFROM:-0500
TZOFFSETTO:-0400
TZNAME:EDT
DTSTART:20240310T070000
END:DAYLIGHT
BEGIN:STANDARD
TZOFFSETFROM:-0400
TZOFFSETTO:-0500
TZNAME:EST
DTSTART:20241103T060000
END:STANDARD
BEGIN:DAYLIGHT
TZOFFSETFROM:-0500
TZOFFSETTO:-0400
TZNAME:EDT
DTSTART:20250309T070000
END:DAYLIGHT
BEGIN:STANDARD
TZOFFSETFROM:-0400
TZOFFSETTO:-0500
TZNAME:EST
DTSTART:20251102T060000
END:STANDARD
BEGIN:DAYLIGHT
TZOFFSETFROM:-0500
TZOFFSETTO:-0400
TZNAME:EDT
DTSTART:20260308T070000
END:DAYLIGHT
BEGIN:STANDARD
TZOFFSETFROM:-0400
TZOFFSETTO:-0500
TZNAME:EST
DTSTART:20261101T060000
END:STANDARD
END:VTIMEZONE
BEGIN:VEVENT
DTSTART;TZID=America/New_York:20250808T170000
DTEND;TZID=America/New_York:20250808T190000
DTSTAMP:20260425T001652
CREATED:20250613T185713Z
LAST-MODIFIED:20250804T184623Z
UID:10000261-1754672400-1754679600@seasidecreativeart.com
SUMMARY:Blue Shoreline
DESCRIPTION:Blue Shoreline captures the gentle rhythm of waves meeting land\, where soft sands and coastal breeze invite a moment of peace. In this class\, you’ll paint the tranquil beauty of the shoreline—where land\, sea\, and imagination come together. \nOur all-inclusive art classes go beyond painting—they offer a space to grow creatively\, build confidence\, and experience the calming effect of artistic expression. \nOpen to all ages (6+ with a guardian)\, all materials are provided. Just bring a water bottle and your creativity.Let the shoreline guide your brush into a peaceful\, inspiring evening of art.
URL:https://seasidecreativeart.com/event/blue-shoreline/
LOCATION:Seaside Creative Art Studio\, 150 East Columbia Lane\, Cocoa Beach\, FL\, 32931\, United States
CATEGORIES:Classes
ATTACH;FMTTYPE=image/jpeg:https://seasidecreativeart.com/wp-content/uploads/2025/06/Aug-8-BEACH-5-7pm-1.jpg
END:VEVENT
END:VCALENDAR