BEGIN:VCALENDAR
VERSION:2.0
PRODID:-//Seaside Creative Art, Inc - ECPv6.15.20//NONSGML v1.0//EN
CALSCALE:GREGORIAN
METHOD:PUBLISH
X-ORIGINAL-URL:https://seasidecreativeart.com
X-WR-CALDESC:Events for Seaside Creative Art, Inc
REFRESH-INTERVAL;VALUE=DURATION:PT1H
X-Robots-Tag:noindex
X-PUBLISHED-TTL:PT1H
BEGIN:VTIMEZONE
TZID:America/New_York
BEGIN:DAYLIGHT
TZOFFSETFROM:-0500
TZOFFSETTO:-0400
TZNAME:EDT
DTSTART:20240310T070000
END:DAYLIGHT
BEGIN:STANDARD
TZOFFSETFROM:-0400
TZOFFSETTO:-0500
TZNAME:EST
DTSTART:20241103T060000
END:STANDARD
BEGIN:DAYLIGHT
TZOFFSETFROM:-0500
TZOFFSETTO:-0400
TZNAME:EDT
DTSTART:20250309T070000
END:DAYLIGHT
BEGIN:STANDARD
TZOFFSETFROM:-0400
TZOFFSETTO:-0500
TZNAME:EST
DTSTART:20251102T060000
END:STANDARD
BEGIN:DAYLIGHT
TZOFFSETFROM:-0500
TZOFFSETTO:-0400
TZNAME:EDT
DTSTART:20260308T070000
END:DAYLIGHT
BEGIN:STANDARD
TZOFFSETFROM:-0400
TZOFFSETTO:-0500
TZNAME:EST
DTSTART:20261101T060000
END:STANDARD
END:VTIMEZONE
BEGIN:VEVENT
DTSTART;TZID=America/New_York:20250812T140000
DTEND;TZID=America/New_York:20250812T170000
DTSTAMP:20260424T223242
CREATED:20250522T151750Z
LAST-MODIFIED:20250810T112827Z
UID:10000240-1755007200-1755018000@seasidecreativeart.com
SUMMARY:Azure Escape
DESCRIPTION:Azure Escape invites you to step into a serene coastal scene where a vibrant blue door opens to the endless beauty of the sea. Inspired by the whitewashed charm of Santorini\, this peaceful setting blends ocean breeze\, sunlit walls\, and timeless Mediterranean elegance. Perfect for artists of all levels\, this creative experience offers relaxation and inspiration in every stroke. All supplies are included—just bring your imagination. No experience needed. Ages 4+. Let the calm of the coast guide your journey!
URL:https://seasidecreativeart.com/event/azure-escape/
LOCATION:Seaside Creative Art Studio\, 150 East Columbia Lane\, Cocoa Beach\, FL\, 32931\, United States
CATEGORIES:Classes
ATTACH;FMTTYPE=image/jpeg:https://seasidecreativeart.com/wp-content/uploads/2025/05/August-12-2-5pm.jpg
END:VEVENT
END:VCALENDAR