BEGIN:VCALENDAR
VERSION:2.0
PRODID:-//Seaside Creative Art, Inc - ECPv6.15.20//NONSGML v1.0//EN
CALSCALE:GREGORIAN
METHOD:PUBLISH
X-WR-CALNAME:Seaside Creative Art, Inc
X-ORIGINAL-URL:https://seasidecreativeart.com
X-WR-CALDESC:Events for Seaside Creative Art, Inc
REFRESH-INTERVAL;VALUE=DURATION:PT1H
X-Robots-Tag:noindex
X-PUBLISHED-TTL:PT1H
BEGIN:VTIMEZONE
TZID:America/New_York
BEGIN:DAYLIGHT
TZOFFSETFROM:-0500
TZOFFSETTO:-0400
TZNAME:EDT
DTSTART:20240310T070000
END:DAYLIGHT
BEGIN:STANDARD
TZOFFSETFROM:-0400
TZOFFSETTO:-0500
TZNAME:EST
DTSTART:20241103T060000
END:STANDARD
BEGIN:DAYLIGHT
TZOFFSETFROM:-0500
TZOFFSETTO:-0400
TZNAME:EDT
DTSTART:20250309T070000
END:DAYLIGHT
BEGIN:STANDARD
TZOFFSETFROM:-0400
TZOFFSETTO:-0500
TZNAME:EST
DTSTART:20251102T060000
END:STANDARD
BEGIN:DAYLIGHT
TZOFFSETFROM:-0500
TZOFFSETTO:-0400
TZNAME:EDT
DTSTART:20260308T070000
END:DAYLIGHT
BEGIN:STANDARD
TZOFFSETFROM:-0400
TZOFFSETTO:-0500
TZNAME:EST
DTSTART:20261101T060000
END:STANDARD
END:VTIMEZONE
BEGIN:VEVENT
DTSTART;TZID=America/New_York:20251028T140000
DTEND;TZID=America/New_York:20251028T173000
DTSTAMP:20260424T152653
CREATED:20251015T205716Z
LAST-MODIFIED:20251015T211021Z
UID:10000270-1761660000-1761672600@seasidecreativeart.com
SUMMARY:My Favorite Lighthouse Painting
DESCRIPTION:My Favorite Lighthouse — Island Escape Acrylic and Oil Painting Class \nDon’t ask if you can paint this Lighthouse Island – YOU REALLY CAN with our help. \nEscape to a tropical paradise as you paint your very own favorite lighthouse\, standing tall on a sun-kissed island surrounded by sparkling turquoise waters and vibrant tropical palm trees. \nThis acrylic and oil painting class invites you to capture the beauty and tranquility of island life with bold colors and easy layering techniques. Perfect beginners too!  Youll leave with a bright\, joyful masterpiece that transports you to your dream getaway. \nWhat’s included: \n\n\nAll acrylic and oil paints and materials provided \n\n\nStep-by-step\, hands-on instruction \n\n\nTips on painting water reflections and palm tree details \n\n\nA relaxing\, creative atmosphere \n\n\nJoin us and bring your island vision to life — no passport required!
URL:https://seasidecreativeart.com/event/my-favorite-lighthouse-painting/
LOCATION:Seaside Creative Art Studio\, 150 East Columbia Lane\, Cocoa Beach\, FL\, 32931\, United States
CATEGORIES:Classes
ATTACH;FMTTYPE=image/jpeg:https://seasidecreativeart.com/wp-content/uploads/2025/09/Screenshot_20250916_234527_Gallery.jpg
END:VEVENT
END:VCALENDAR