BEGIN:VCALENDAR
VERSION:2.0
PRODID:-//Seaside Creative Art, Inc - ECPv6.15.20//NONSGML v1.0//EN
CALSCALE:GREGORIAN
METHOD:PUBLISH
X-WR-CALNAME:Seaside Creative Art, Inc
X-ORIGINAL-URL:https://seasidecreativeart.com
X-WR-CALDESC:Events for Seaside Creative Art, Inc
REFRESH-INTERVAL;VALUE=DURATION:PT1H
X-Robots-Tag:noindex
X-PUBLISHED-TTL:PT1H
BEGIN:VTIMEZONE
TZID:America/New_York
BEGIN:DAYLIGHT
TZOFFSETFROM:-0500
TZOFFSETTO:-0400
TZNAME:EDT
DTSTART:20240310T070000
END:DAYLIGHT
BEGIN:STANDARD
TZOFFSETFROM:-0400
TZOFFSETTO:-0500
TZNAME:EST
DTSTART:20241103T060000
END:STANDARD
BEGIN:DAYLIGHT
TZOFFSETFROM:-0500
TZOFFSETTO:-0400
TZNAME:EDT
DTSTART:20250309T070000
END:DAYLIGHT
BEGIN:STANDARD
TZOFFSETFROM:-0400
TZOFFSETTO:-0500
TZNAME:EST
DTSTART:20251102T060000
END:STANDARD
BEGIN:DAYLIGHT
TZOFFSETFROM:-0500
TZOFFSETTO:-0400
TZNAME:EDT
DTSTART:20260308T070000
END:DAYLIGHT
BEGIN:STANDARD
TZOFFSETFROM:-0400
TZOFFSETTO:-0500
TZNAME:EST
DTSTART:20261101T060000
END:STANDARD
END:VTIMEZONE
BEGIN:VEVENT
DTSTART;TZID=America/New_York:20251203T170000
DTEND;TZID=America/New_York:20251203T200000
DTSTAMP:20260424T123710
CREATED:20251124T181106Z
LAST-MODIFIED:20251124T181106Z
UID:10000280-1764781200-1764792000@seasidecreativeart.com
SUMMARY:Gold Leaf Butterfly
DESCRIPTION:Gold Leaf Butterfly — Oil Painting Workshop (16×20)Experience the magic of painting in oils over genuine gold leaf. With detailed\, hands-on guidance\, you’ll create a radiant butterfly with depth\, glow\, and rich texture.All are welcome\, and all supplies are provided for this all-inclusive class.
URL:https://seasidecreativeart.com/event/gold-leaf-butterfly/
LOCATION:Seaside Creative Art Studio\, 150 East Columbia Lane\, Cocoa Beach\, FL\, 32931\, United States
CATEGORIES:Classes
ATTACH;FMTTYPE=image/png:https://seasidecreativeart.com/wp-content/uploads/2025/11/Screenshot-2025-11-24-094852.png
END:VEVENT
END:VCALENDAR