BEGIN:VCALENDAR
VERSION:2.0
PRODID:-//Seaside Creative Art, Inc - ECPv6.15.20//NONSGML v1.0//EN
CALSCALE:GREGORIAN
METHOD:PUBLISH
X-WR-CALNAME:Seaside Creative Art, Inc
X-ORIGINAL-URL:https://seasidecreativeart.com
X-WR-CALDESC:Events for Seaside Creative Art, Inc
REFRESH-INTERVAL;VALUE=DURATION:PT1H
X-Robots-Tag:noindex
X-PUBLISHED-TTL:PT1H
BEGIN:VTIMEZONE
TZID:America/New_York
BEGIN:DAYLIGHT
TZOFFSETFROM:-0500
TZOFFSETTO:-0400
TZNAME:EDT
DTSTART:20240310T070000
END:DAYLIGHT
BEGIN:STANDARD
TZOFFSETFROM:-0400
TZOFFSETTO:-0500
TZNAME:EST
DTSTART:20241103T060000
END:STANDARD
BEGIN:DAYLIGHT
TZOFFSETFROM:-0500
TZOFFSETTO:-0400
TZNAME:EDT
DTSTART:20250309T070000
END:DAYLIGHT
BEGIN:STANDARD
TZOFFSETFROM:-0400
TZOFFSETTO:-0500
TZNAME:EST
DTSTART:20251102T060000
END:STANDARD
BEGIN:DAYLIGHT
TZOFFSETFROM:-0500
TZOFFSETTO:-0400
TZNAME:EDT
DTSTART:20260308T070000
END:DAYLIGHT
BEGIN:STANDARD
TZOFFSETFROM:-0400
TZOFFSETTO:-0500
TZNAME:EST
DTSTART:20261101T060000
END:STANDARD
END:VTIMEZONE
BEGIN:VEVENT
DTSTART;TZID=America/New_York:20251218T090000
DTEND;TZID=America/New_York:20251218T123000
DTSTAMP:20260424T123717
CREATED:20251124T212453Z
LAST-MODIFIED:20251124T214107Z
UID:10000295-1766048400-1766061000@seasidecreativeart.com
SUMMARY:Sunset Swirl Cove – Block Art Acrylic Painting Class
DESCRIPTION:Double-Dip\, Multilayering Color Technique • Embellished Highlights • 16×20 Canvas \nCreate a vibrant and flowing sunset swirl cove using fun block-art techniques and acrylic double-dipping color methods. This style is perfect for beginners and those who love bold\, playful shapes with glowing highlights. \nYou’ll paint on a prepped 16×20 canvas and follow step-by-step instructions to layer swirling sky colors\, stylized cove shapes\, and bright accent highlights that make your piece pop. \n✨ In This Class You’ll Learn: \n\n\nThe “double-dip” acrylic technique for effortless color blends \n\n\nBlock-art brushwork for bold\, modern shapes \n\n\nBuilding smooth sunset transitions with layered paint \n\n\nAdding highlights to make water and sky shimmer \n\n\nSimple composition tricks for a polished 16×20 masterwork \n\n\n🎨 All supplies included👩‍🏫 Step-by-step\, beginner-friendly instruction
URL:https://seasidecreativeart.com/event/sunset-swirl-cove-block-art-acrylic-painting-class/
LOCATION:Seaside Creative Art Studio\, 150 East Columbia Lane\, Cocoa Beach\, FL\, 32931\, United States
CATEGORIES:Classes
ATTACH;FMTTYPE=image/png:https://seasidecreativeart.com/wp-content/uploads/2025/11/Screenshot-2025-11-24-155742.png
END:VEVENT
END:VCALENDAR