BEGIN:VCALENDAR
VERSION:2.0
PRODID:-//Seaside Creative Art, Inc - ECPv6.15.20//NONSGML v1.0//EN
CALSCALE:GREGORIAN
METHOD:PUBLISH
X-WR-CALNAME:Seaside Creative Art, Inc
X-ORIGINAL-URL:https://seasidecreativeart.com
X-WR-CALDESC:Events for Seaside Creative Art, Inc
REFRESH-INTERVAL;VALUE=DURATION:PT1H
X-Robots-Tag:noindex
X-PUBLISHED-TTL:PT1H
BEGIN:VTIMEZONE
TZID:America/New_York
BEGIN:DAYLIGHT
TZOFFSETFROM:-0500
TZOFFSETTO:-0400
TZNAME:EDT
DTSTART:20250309T070000
END:DAYLIGHT
BEGIN:STANDARD
TZOFFSETFROM:-0400
TZOFFSETTO:-0500
TZNAME:EST
DTSTART:20251102T060000
END:STANDARD
BEGIN:DAYLIGHT
TZOFFSETFROM:-0500
TZOFFSETTO:-0400
TZNAME:EDT
DTSTART:20260308T070000
END:DAYLIGHT
BEGIN:STANDARD
TZOFFSETFROM:-0400
TZOFFSETTO:-0500
TZNAME:EST
DTSTART:20261101T060000
END:STANDARD
BEGIN:DAYLIGHT
TZOFFSETFROM:-0500
TZOFFSETTO:-0400
TZNAME:EDT
DTSTART:20270314T070000
END:DAYLIGHT
BEGIN:STANDARD
TZOFFSETFROM:-0400
TZOFFSETTO:-0500
TZNAME:EST
DTSTART:20271107T060000
END:STANDARD
END:VTIMEZONE
BEGIN:VEVENT
DTSTART;TZID=America/New_York:20260102T170000
DTEND;TZID=America/New_York:20260102T200000
DTSTAMP:20260424T094347
CREATED:20251124T215046Z
LAST-MODIFIED:20251124T221624Z
UID:10000297-1767373200-1767384000@seasidecreativeart.com
SUMMARY:Cocca Beach Waves – Storm on the Horizon OIl Painting Class
DESCRIPTION:Oil Painting Class • White Sandy Shore • Coastal Atmosphere \nCapture the mood and beauty of Florida’s iconic coastline as you paint rolling Cocoa Beach waves with a dramatic storm building on the horizon. Soft white sand in the foreground brings the scene to life—perfect for imagining your toes in the warm beach breeze. \nThis oil painting class is beginner-friendly and focuses on blending techniques that create movement\, depth\, and atmosphere. \nYou Will Learn: \n\n\nLayering and blending ocean waves using wet-on-wet oil techniques \n\n\nCreating storm clouds with soft transitions and dramatic contrast \n\n\nPainting white sandy textures that feel warm and inviting \n\n\nAdding water highlights\, foam edges\, and shoreline movement \n\n\nBalancing calm beach tones with a powerful sky \n\n\n All supplies included Step-by-step instruction Leave with your own Cocoa Beach masterpiece
URL:https://seasidecreativeart.com/event/cocca-beach-waves-storm-on-the-horizon-oil-painting-class/
LOCATION:Seaside Creative Art Studio\, 150 East Columbia Lane\, Cocoa Beach\, FL\, 32931\, United States
CATEGORIES:Classes
ATTACH;FMTTYPE=image/png:https://seasidecreativeart.com/wp-content/uploads/2025/11/Screenshot-2025-11-24-164543.png
END:VEVENT
END:VCALENDAR