BEGIN:VCALENDAR
VERSION:2.0
PRODID:-//Seaside Creative Art, Inc - ECPv6.15.20//NONSGML v1.0//EN
CALSCALE:GREGORIAN
METHOD:PUBLISH
X-WR-CALNAME:Seaside Creative Art, Inc
X-ORIGINAL-URL:https://seasidecreativeart.com
X-WR-CALDESC:Events for Seaside Creative Art, Inc
REFRESH-INTERVAL;VALUE=DURATION:PT1H
X-Robots-Tag:noindex
X-PUBLISHED-TTL:PT1H
BEGIN:VTIMEZONE
TZID:America/New_York
BEGIN:DAYLIGHT
TZOFFSETFROM:-0500
TZOFFSETTO:-0400
TZNAME:EDT
DTSTART:20250309T070000
END:DAYLIGHT
BEGIN:STANDARD
TZOFFSETFROM:-0400
TZOFFSETTO:-0500
TZNAME:EST
DTSTART:20251102T060000
END:STANDARD
BEGIN:DAYLIGHT
TZOFFSETFROM:-0500
TZOFFSETTO:-0400
TZNAME:EDT
DTSTART:20260308T070000
END:DAYLIGHT
BEGIN:STANDARD
TZOFFSETFROM:-0400
TZOFFSETTO:-0500
TZNAME:EST
DTSTART:20261101T060000
END:STANDARD
BEGIN:DAYLIGHT
TZOFFSETFROM:-0500
TZOFFSETTO:-0400
TZNAME:EDT
DTSTART:20270314T070000
END:DAYLIGHT
BEGIN:STANDARD
TZOFFSETFROM:-0400
TZOFFSETTO:-0500
TZNAME:EST
DTSTART:20271107T060000
END:STANDARD
END:VTIMEZONE
BEGIN:VEVENT
DTSTART;TZID=America/New_York:20260109T090000
DTEND;TZID=America/New_York:20260109T120000
DTSTAMP:20260424T080949
CREATED:20251124T220918Z
LAST-MODIFIED:20251124T220918Z
UID:10000298-1767949200-1767960000@seasidecreativeart.com
SUMMARY:Beautiful Bold Turbulent Abstract Sky with Sunflower
DESCRIPTION:Sunflower Abstract Sky – Mixed-Media Acrylic Oil Painting Class\nTurbulent Clouds • Raindrop Textures • Deep Blues to Bright Yellows \nDiscover how acrylic and oil come together to create a powerful\, emotional abstract landscape. In this class\, you’ll paint a dramatic turbulent sky with acrylics\, add raindrop textures\, and transform that movement into a radiant sunflower-inspired abstract—finished with rich oil highlights for depth and glow. \nThis mixed-media approach gives the sky energy\, the raindrops texture\, and the sunflower luminous warmth. \nYou Will Learn: \n\n\nBuilding a swirling\, turbulent sky using acrylics \n\n\nAdding raindrop textures that blend into abstract floral forms \n\n\nTransitioning deep blues into bright yellows for dramatic impact \n\n\nLayering acrylics for fast-drying structure \n\n\nUsing oil paints for highlights\, blending\, and depth \n\n\nCreating a modern abstract sunflower effect with motion and emotion \n\n\n All supplies includedBeginner-friendly\, step-by-step instructionLeave with a bold\, expressive mixed-media masterpiece
URL:https://seasidecreativeart.com/event/beautiful-bold-turbulent-abstract-sky-with-sunflower/
LOCATION:Seaside Creative Art Studio\, 150 East Columbia Lane\, Cocoa Beach\, FL\, 32931\, United States
CATEGORIES:Classes
ATTACH;FMTTYPE=image/png:https://seasidecreativeart.com/wp-content/uploads/2025/11/Screenshot-2025-11-24-170113.png
END:VEVENT
BEGIN:VEVENT
DTSTART;TZID=America/New_York:20260109T180000
DTEND;TZID=America/New_York:20260109T203000
DTSTAMP:20260424T080949
CREATED:20251124T231018Z
LAST-MODIFIED:20251128T123318Z
UID:10000303-1767981600-1767990600@seasidecreativeart.com
SUMMARY:Seaside Layered Wood Art Workshop
DESCRIPTION:Stain • Paint • Create • One-of-a-Kind Multilayer Décor – CHOOSe from 15 different Deigns!  \nDesign your own beachside-inspired layered wood art using stains\, paints\, and a full palette of coastal and colorful options. Choose your favorite tones—turquoise\, driftwood grey\, sand beige\, coral\, navy\, or bold brights—to create a unique\, one-of-a-kind multilayered wood décor piece perfect for any home. \nThis workshop is fun\, beginner-friendly\, and lets you customize every layer for a beautiful 3D effect.  Dolphins * Mermaids * Rockets * Turtles \, Seahorse and MORE! \nYou Will Do & Learn: \n\n\nStaining wood layers for natural depth \n\n\nPainting with beachy or bold color schemes \n\n\nAssembling multi-layer wood art for a dimensional finish \n\n\nBlending and distressing techniques (optional) \n\n\nCreating a personalized décor piece that matches your style \n\n\n All supplies included; * Resin optional for forver glossy look Easy\, step-by-step instructionLeave with a gorgeous\, custom-made layered wood artwork for your home
URL:https://seasidecreativeart.com/event/beachside-layered-wood-art-workshop/
LOCATION:Seaside Creative Art Studio\, 150 East Columbia Lane\, Cocoa Beach\, FL\, 32931\, United States
CATEGORIES:Classes,Mulit-Layered Wood Decor
ATTACH;FMTTYPE=image/png:https://seasidecreativeart.com/wp-content/uploads/2025/11/Screenshot-2025-11-24-180243.png
END:VEVENT
END:VCALENDAR