BEGIN:VCALENDAR
VERSION:2.0
PRODID:-//Seaside Creative Art, Inc - ECPv6.15.20//NONSGML v1.0//EN
CALSCALE:GREGORIAN
METHOD:PUBLISH
X-ORIGINAL-URL:https://seasidecreativeart.com
X-WR-CALDESC:Events for Seaside Creative Art, Inc
REFRESH-INTERVAL;VALUE=DURATION:PT1H
X-Robots-Tag:noindex
X-PUBLISHED-TTL:PT1H
BEGIN:VTIMEZONE
TZID:America/New_York
BEGIN:DAYLIGHT
TZOFFSETFROM:-0500
TZOFFSETTO:-0400
TZNAME:EDT
DTSTART:20250309T070000
END:DAYLIGHT
BEGIN:STANDARD
TZOFFSETFROM:-0400
TZOFFSETTO:-0500
TZNAME:EST
DTSTART:20251102T060000
END:STANDARD
BEGIN:DAYLIGHT
TZOFFSETFROM:-0500
TZOFFSETTO:-0400
TZNAME:EDT
DTSTART:20260308T070000
END:DAYLIGHT
BEGIN:STANDARD
TZOFFSETFROM:-0400
TZOFFSETTO:-0500
TZNAME:EST
DTSTART:20261101T060000
END:STANDARD
BEGIN:DAYLIGHT
TZOFFSETFROM:-0500
TZOFFSETTO:-0400
TZNAME:EDT
DTSTART:20270314T070000
END:DAYLIGHT
BEGIN:STANDARD
TZOFFSETFROM:-0400
TZOFFSETTO:-0500
TZNAME:EST
DTSTART:20271107T060000
END:STANDARD
END:VTIMEZONE
BEGIN:VEVENT
DTSTART;TZID=America/New_York:20260130T170000
DTEND;TZID=America/New_York:20260130T203000
DTSTAMP:20260424T081201
CREATED:20251125T020843Z
LAST-MODIFIED:20251125T020843Z
UID:10000334-1769792400-1769805000@seasidecreativeart.com
SUMMARY:Floral Crown Cow
DESCRIPTION:Sculpted Flowers • Playful Cow Portrait • Mixed-Media Dimension \nCreate an adorable cow portrait topped with a beautiful floral crown\, using a blend of acrylics\, oils\, and light sculpting techniques to give the flowers real volume and dimension. This class is fun\, relaxed\, and perfect for all skill levels! \nYou Will Learn: \n\n\nPainting a sweet cow face with acrylic underlayers \n\n\nAdding expressive eyes\, soft fur textures\, and warm highlights \n\n\nSculpting petals and leaves for a 3D floral crown \n\n\nEnhancing depth and glow with oil-paint details \n\n\nBlending mixed-media techniques for a vibrant\, textured finish \n\n\n🎨 All supplies included👩‍🏫 Step-by-step\, beginner-friendly instruction🌼 Leave with a charming\, flower-crowned cow full of personality and color!
URL:https://seasidecreativeart.com/event/floral-crown-cow/
LOCATION:Seaside Creative Art Studio\, 150 East Columbia Lane\, Cocoa Beach\, FL\, 32931\, United States
CATEGORIES:Classes
ATTACH;FMTTYPE=image/png:https://seasidecreativeart.com/wp-content/uploads/2025/11/Screenshot-2025-11-24-173221.png
END:VEVENT
END:VCALENDAR