BEGIN:VCALENDAR
VERSION:2.0
PRODID:-//Seaside Creative Art, Inc - ECPv6.15.20//NONSGML v1.0//EN
CALSCALE:GREGORIAN
METHOD:PUBLISH
X-WR-CALNAME:Seaside Creative Art, Inc
X-ORIGINAL-URL:https://seasidecreativeart.com
X-WR-CALDESC:Events for Seaside Creative Art, Inc
REFRESH-INTERVAL;VALUE=DURATION:PT1H
X-Robots-Tag:noindex
X-PUBLISHED-TTL:PT1H
BEGIN:VTIMEZONE
TZID:America/New_York
BEGIN:DAYLIGHT
TZOFFSETFROM:-0500
TZOFFSETTO:-0400
TZNAME:EDT
DTSTART:20250309T070000
END:DAYLIGHT
BEGIN:STANDARD
TZOFFSETFROM:-0400
TZOFFSETTO:-0500
TZNAME:EST
DTSTART:20251102T060000
END:STANDARD
BEGIN:DAYLIGHT
TZOFFSETFROM:-0500
TZOFFSETTO:-0400
TZNAME:EDT
DTSTART:20260308T070000
END:DAYLIGHT
BEGIN:STANDARD
TZOFFSETFROM:-0400
TZOFFSETTO:-0500
TZNAME:EST
DTSTART:20261101T060000
END:STANDARD
BEGIN:DAYLIGHT
TZOFFSETFROM:-0500
TZOFFSETTO:-0400
TZNAME:EDT
DTSTART:20270314T070000
END:DAYLIGHT
BEGIN:STANDARD
TZOFFSETFROM:-0400
TZOFFSETTO:-0500
TZNAME:EST
DTSTART:20271107T060000
END:STANDARD
END:VTIMEZONE
BEGIN:VEVENT
DTSTART;TZID=America/New_York:20260204T170000
DTEND;TZID=America/New_York:20260204T200000
DTSTAMP:20260424T045743
CREATED:20251125T035854Z
LAST-MODIFIED:20251125T035854Z
UID:10000340-1770224400-1770235200@seasidecreativeart.com
SUMMARY:Turquoise Ocean Wave – Acrylic Painting Class
DESCRIPTION:Rolling Waves • Coastal Rocks • Foam & Shadows \nDive into stunning ocean color as you paint a vibrant turquoise wave breaking against rocky shoreline edges. In this acrylic class\, you’ll learn how to create movement\, foam\, and depth by building multiple layered colors—the secret to achieving rich shadows and luminous water. \nPerfect for beginners and experienced painters who love coastal scenes! \nYou Will Learn: \n\n\nBuilding layered acrylic colors for ocean-depth shadows \n\n\nCreating a powerful turquoise wave with movement and flow \n\n\nPainting coastal rocks with texture\, highlights\, and dimension \n\n\nAdding realistic foam\, splash\, and shoreline details \n\n\nUsing brush techniques that capture the dance of water and light \n\n\nComposing a bright and refreshing seascape \n\n\n🎨 All supplies included👩‍🏫 Step-by-step\, beginner-friendly instruction🌊 Leave with a glowing turquoise ocean wave painting full of life and color!
URL:https://seasidecreativeart.com/event/turquoise-ocean-wave-acrylic-painting-class/
LOCATION:Seaside Creative Art Studio\, 150 East Columbia Lane\, Cocoa Beach\, FL\, 32931\, United States
CATEGORIES:Classes
ATTACH;FMTTYPE=image/png:https://seasidecreativeart.com/wp-content/uploads/2025/11/Screenshot-2025-11-24-212830.png
END:VEVENT
END:VCALENDAR