BEGIN:VCALENDAR
VERSION:2.0
PRODID:-//Seaside Creative Art, Inc - ECPv6.15.20//NONSGML v1.0//EN
CALSCALE:GREGORIAN
METHOD:PUBLISH
X-WR-CALNAME:Seaside Creative Art, Inc
X-ORIGINAL-URL:https://seasidecreativeart.com
X-WR-CALDESC:Events for Seaside Creative Art, Inc
REFRESH-INTERVAL;VALUE=DURATION:PT1H
X-Robots-Tag:noindex
X-PUBLISHED-TTL:PT1H
BEGIN:VTIMEZONE
TZID:America/New_York
BEGIN:DAYLIGHT
TZOFFSETFROM:-0500
TZOFFSETTO:-0400
TZNAME:EDT
DTSTART:20250309T070000
END:DAYLIGHT
BEGIN:STANDARD
TZOFFSETFROM:-0400
TZOFFSETTO:-0500
TZNAME:EST
DTSTART:20251102T060000
END:STANDARD
BEGIN:DAYLIGHT
TZOFFSETFROM:-0500
TZOFFSETTO:-0400
TZNAME:EDT
DTSTART:20260308T070000
END:DAYLIGHT
BEGIN:STANDARD
TZOFFSETFROM:-0400
TZOFFSETTO:-0500
TZNAME:EST
DTSTART:20261101T060000
END:STANDARD
BEGIN:DAYLIGHT
TZOFFSETFROM:-0500
TZOFFSETTO:-0400
TZNAME:EDT
DTSTART:20270314T070000
END:DAYLIGHT
BEGIN:STANDARD
TZOFFSETFROM:-0400
TZOFFSETTO:-0500
TZNAME:EST
DTSTART:20271107T060000
END:STANDARD
END:VTIMEZONE
BEGIN:VEVENT
DTSTART;TZID=America/New_York:20260211T180000
DTEND;TZID=America/New_York:20260211T210000
DTSTAMP:20260424T045150
CREATED:20251125T052347Z
LAST-MODIFIED:20260203T154926Z
UID:10000353-1770832800-1770843600@seasidecreativeart.com
SUMMARY:Whimsical Fairy Art – Oil Painting Class
DESCRIPTION:Purple • Lavender • Green • Gold • Soft Blends & Playful Shapes \nCreate a charming\, storybook-inspired whimsical fairy using bold block-art shapes and dreamy oil blends of purple\, lavender\, green\, and shimmering gold. This class is perfect for artists who love fantasy\, color\, and a touch of sparkle! \nYou’ll learn to blend rich oils for soft gradients\, add magical gold accents\, and shape a delightful fairy silhouette with playful block-art style. \n✨ You Will Learn: \n\n\nPainting block-art style fairies with clean\, simple silhouettes \n\n\nBlending oils in purples\, lavenders\, greens\, and golds \n\n\nCreating dreamy backgrounds with soft transitions \n\n\nAdding gold highlights for a touch of shimmer \n\n\nUsing whimsical shapes and patterns to enhance the fairy’s world \n\n\nComposition tips to make your fairy feel uplifting and light \n\n\n🎨 All supplies included👩‍🏫 Step-by-step\, beginner-friendly instruction🌟 Leave with a whimsical fairy painting full of charm and color
URL:https://seasidecreativeart.com/event/whimsical-fairy-art-oil-painting-class/
LOCATION:Seaside Creative Art Studio\, 150 East Columbia Lane\, Cocoa Beach\, FL\, 32931\, United States
CATEGORIES:Classes
ATTACH;FMTTYPE=image/png:https://seasidecreativeart.com/wp-content/uploads/2025/11/Screenshot-2025-11-24-213432.png
END:VEVENT
END:VCALENDAR