BEGIN:VCALENDAR
VERSION:2.0
PRODID:-//Seaside Creative Art, Inc - ECPv6.15.20//NONSGML v1.0//EN
CALSCALE:GREGORIAN
METHOD:PUBLISH
X-ORIGINAL-URL:https://seasidecreativeart.com
X-WR-CALDESC:Events for Seaside Creative Art, Inc
REFRESH-INTERVAL;VALUE=DURATION:PT1H
X-Robots-Tag:noindex
X-PUBLISHED-TTL:PT1H
BEGIN:VTIMEZONE
TZID:America/New_York
BEGIN:DAYLIGHT
TZOFFSETFROM:-0500
TZOFFSETTO:-0400
TZNAME:EDT
DTSTART:20250309T070000
END:DAYLIGHT
BEGIN:STANDARD
TZOFFSETFROM:-0400
TZOFFSETTO:-0500
TZNAME:EST
DTSTART:20251102T060000
END:STANDARD
BEGIN:DAYLIGHT
TZOFFSETFROM:-0500
TZOFFSETTO:-0400
TZNAME:EDT
DTSTART:20260308T070000
END:DAYLIGHT
BEGIN:STANDARD
TZOFFSETFROM:-0400
TZOFFSETTO:-0500
TZNAME:EST
DTSTART:20261101T060000
END:STANDARD
BEGIN:DAYLIGHT
TZOFFSETFROM:-0500
TZOFFSETTO:-0400
TZNAME:EDT
DTSTART:20270314T070000
END:DAYLIGHT
BEGIN:STANDARD
TZOFFSETFROM:-0400
TZOFFSETTO:-0500
TZNAME:EST
DTSTART:20271107T060000
END:STANDARD
END:VTIMEZONE
BEGIN:VEVENT
DTSTART;TZID=America/New_York:20260214T150000
DTEND;TZID=America/New_York:20260214T180000
DTSTAMP:20260424T030854
CREATED:20251125T051622Z
LAST-MODIFIED:20260203T155216Z
UID:10000352-1771081200-1771092000@seasidecreativeart.com
SUMMARY:Reminiscent Melody for Valentine's Day
DESCRIPTION:Reminiscent Melody – Abstract Oil – Acrylic Painting Class\nViolin • Yellow Rose • Glass of Wine • Dreamlike Composition \nCreate a rich\, emotional painting that tells a story. In this class\, you’ll blend abstract elements with elegant realism to paint a violin\, a soft yellow rose\, and a shimmering glass —arranged in a scene filled with warmth\, nostalgia\, and quiet reflection. \nUsing layered brushwork and expressive color\, you’ll learn how to set a mood of reminiscence while keeping the painting beautifully contemporary. \nYou Will Learn: \n\n\nSketching the violin’s curves with confident\, abstract lines \n\n\nPainting a glowing yellow rose with soft petals and warm highlights \n\n\nCreating glass reflections and wine tones with depth and transparency \n\n\nUsing abstract shapes\, brushstrokes\, and color blocks to set the atmosphere \n\n\nLayering techniques for mood\, emotion\, and visual storytelling \n\n\nBalancing representational objects with expressive abstract elements \n\n\n🎨 All supplies included👩‍🏫 Step-by-step instruction for all skill levels🍷 Leave with a soulful\, expressive artwork full of warmth and memory
URL:https://seasidecreativeart.com/event/reminiscent-melody-for-valentines-day/
LOCATION:Seaside Creative Art Studio\, 150 East Columbia Lane\, Cocoa Beach\, FL\, 32931\, United States
CATEGORIES:Classes
ATTACH;FMTTYPE=image/png:https://seasidecreativeart.com/wp-content/uploads/2025/11/Screenshot-2025-11-24-211648.png
END:VEVENT
BEGIN:VEVENT
DTSTART;TZID=America/New_York:20260214T160000
DTEND;TZID=America/New_York:20260214T183000
DTSTAMP:20260424T030854
CREATED:20251125T045143Z
LAST-MODIFIED:20251125T045143Z
UID:10000347-1771084800-1771093800@seasidecreativeart.com
SUMMARY:SweetHeart Seaside Abstract Fluid Art Fun
DESCRIPTION:Fun & Family-Friendly\nAbstract Fluid Art Class \nExplore the magic of color with this exciting\, beginner-friendly fluid art experience! Choose from a wide variety of bases including Wood Dolphins\, Mermaids\, Castles\, Rockets\, Turtles\, Lazy Susans\, Tray Handles\, plus Small to XL Canvases. \nPick your own color palette\, pour freely\, and watch stunning cells\, swirls\, and patterns unfold before your eyes. It’s the perfect class for beginners\, families\, and anyone who wants to relax\, have fun\, and create a truly one-of-a-kind masterpiece. \n✨ Resin is included for a beautiful\, glossy finish.🎨 Step-by-step\, hands-on instruction provided.🧰 All supplies included. \nCost: $45–$155 depending on your base selectionDeposit: $45
URL:https://seasidecreativeart.com/event/sweetheart-seaside-abstract-fluid-art-fun/
LOCATION:Seaside Creative Art Studio\, 150 East Columbia Lane\, Cocoa Beach\, FL\, 32931\, United States
CATEGORIES:Classes,FUNctional Abstract Art - Resin Beach Cheese Boards
ATTACH;FMTTYPE=image/png:https://seasidecreativeart.com/wp-content/uploads/2025/11/Screenshot-2025-11-24-192603.png
END:VEVENT
END:VCALENDAR