BEGIN:VCALENDAR
VERSION:2.0
PRODID:-//Seaside Creative Art, Inc - ECPv6.15.20//NONSGML v1.0//EN
CALSCALE:GREGORIAN
METHOD:PUBLISH
X-WR-CALNAME:Seaside Creative Art, Inc
X-ORIGINAL-URL:https://seasidecreativeart.com
X-WR-CALDESC:Events for Seaside Creative Art, Inc
REFRESH-INTERVAL;VALUE=DURATION:PT1H
X-Robots-Tag:noindex
X-PUBLISHED-TTL:PT1H
BEGIN:VTIMEZONE
TZID:America/New_York
BEGIN:DAYLIGHT
TZOFFSETFROM:-0500
TZOFFSETTO:-0400
TZNAME:EDT
DTSTART:20250309T070000
END:DAYLIGHT
BEGIN:STANDARD
TZOFFSETFROM:-0400
TZOFFSETTO:-0500
TZNAME:EST
DTSTART:20251102T060000
END:STANDARD
BEGIN:DAYLIGHT
TZOFFSETFROM:-0500
TZOFFSETTO:-0400
TZNAME:EDT
DTSTART:20260308T070000
END:DAYLIGHT
BEGIN:STANDARD
TZOFFSETFROM:-0400
TZOFFSETTO:-0500
TZNAME:EST
DTSTART:20261101T060000
END:STANDARD
BEGIN:DAYLIGHT
TZOFFSETFROM:-0500
TZOFFSETTO:-0400
TZNAME:EDT
DTSTART:20270314T070000
END:DAYLIGHT
BEGIN:STANDARD
TZOFFSETFROM:-0400
TZOFFSETTO:-0500
TZNAME:EST
DTSTART:20271107T060000
END:STANDARD
END:VTIMEZONE
BEGIN:VEVENT
DTSTART;TZID=America/New_York:20260221T100000
DTEND;TZID=America/New_York:20260221T130000
DTSTAMP:20260424T050031
CREATED:20251125T063530Z
LAST-MODIFIED:20260203T154203Z
UID:10000361-1771668000-1771678800@seasidecreativeart.com
SUMMARY:Majestic Majesty Stallion - Acrylic Painting Oil Glaze
DESCRIPTION:Vibrant Blocks • Kind Eyes • Black Mane • Modern Coastal Style \nCreate a bold and beautiful multicolor tourquise accents with block-art Stallion with a flowing black mane and soft\, kind eyes that give this piece its heart. Using bright acrylics and playful color-block techniques\, you’ll design a modern\, expressive horse portrait full of personality and color. \nPerfect for beginners and experienced painters who love animals\, bright palettes\, and contemporary art styles. \nYou Will Learn: \n\n\nBlock-art techniques for clean\, vibrant color sections with oil glaze \n\n\nPainting expressive\, gentle eyes with warmth and softness \n\n\nCreating flow and texture in a black mane using layered strokes \n\n\nUsing bold color combinations for energy and contrast \n\n\nAdding highlights and accents to make your horse stand out \n\n\nBalancing abstract shapes with realistic details \n\n\n🎨 All supplies included👩‍🏫 Step-by-step\, beginner-friendly instruction🌈 Leave with a cheerful\, modern Colorblock Horse painting full of color and charm!
URL:https://seasidecreativeart.com/event/majestic-majesty-stallion-acrylic-painting-oil-glaze/
LOCATION:Seaside Creative Art Studio\, 150 East Columbia Lane\, Cocoa Beach\, FL\, 32931\, United States
CATEGORIES:Classes
ATTACH;FMTTYPE=image/png:https://seasidecreativeart.com/wp-content/uploads/2025/11/Screenshot-2025-11-24-211544.png
END:VEVENT
BEGIN:VEVENT
DTSTART;TZID=America/New_York:20260221T120000
DTEND;TZID=America/New_York:20260221T133000
DTSTAMP:20260424T050031
CREATED:20251125T011752Z
LAST-MODIFIED:20251125T011752Z
UID:10000330-1771675200-1771680600@seasidecreativeart.com
SUMMARY:“Coastal Waves” — Resin Charcuterie Board Class
DESCRIPTION:“Coastal Waves” — Resin Charcuterie Board Class\nAll Welcome! \nDive into creativity and design your own stunning\, coastal-inspired resin charcuterie board in this fun\, hands-on class! With guided\, step-by-step instruction\, you’ll learn how to blend ocean blues\, waves\, and shimmering details to create a board that feels like a piece of the beach. \nChoose from a variety of unique board options—Olive Tree\, Surfboard shape\, Walnut\, and more—each giving you the chance to craft a one-of-a-kind piece that fits your personal style. \nHere is what you can expect: \n\n\nChoose your board style: Olive Tree\, Surfboard\, Walnut\, and others \n\n\nUpgrade options available: Larger board sizes\, premium wood types \n\n\nPersonalize your creation: Optional laser engraving adds a special touch \n\n\nEverything included: Wood\, resin\, pigments\, tools\, and full instruction \n\n\nJust bring your creativity—you’ll have with a beautiful coastal charcuterie board you’ll be proud to display or gift!
URL:https://seasidecreativeart.com/event/coastal-waves-resin-charcuterie-board-class-7/
LOCATION:Seaside Creative Art Studio\, 150 East Columbia Lane\, Cocoa Beach\, FL\, 32931\, United States
CATEGORIES:Classes,FUNctional Abstract Art - Resin Beach Cheese Boards
ATTACH;FMTTYPE=image/png:https://seasidecreativeart.com/wp-content/uploads/2025/11/Screenshot-2025-11-24-184809.png
END:VEVENT
BEGIN:VEVENT
DTSTART;TZID=America/New_York:20260221T170000
DTEND;TZID=America/New_York:20260221T203000
DTSTAMP:20260424T050031
CREATED:20251125T053703Z
LAST-MODIFIED:20260203T154405Z
UID:10000355-1771693200-1771705800@seasidecreativeart.com
SUMMARY:Moonlit Beach Night – Oil Painting Class
DESCRIPTION:White Foam Waves • Deep Purple Hills • Wind-Blown Palms – 4 hour class\, bring a lunch/snack \nCreate a peaceful\, dramatic nighttime seascape as you paint a glowing moonlit ocean\, soft white-foam waves\, and distant deep purple hills under a breezy sky. Add gently wind-blown palm fronds in the foreground for movement and tropical charm. \nThis class blends calm coastal realism with dreamy nighttime color—perfect for beginners and experienced painters. \nYou Will Learn: \n\n\nPainting a radiant moon and shimmering moonlight reflections \n\n\nBlending deep blues\, purples\, and night tones for atmosphere \n\n\nCreating white foam waves with motion and highlight detail \n\n\nAdding soft\, distant hills in deep purples for depth \n\n\nPainting wind-swept palm fronds with elegant brushwork \n\n\nBuilding contrast between dark night hues and glowing light effects \n\n\n🎨 All supplies included👩‍🏫 Step-by-step\, beginner-friendly instruction🌊 Leave with a luminous moonlit beach night masterpiece
URL:https://seasidecreativeart.com/event/moonlit-beach-night-oil-painting-class/
LOCATION:Seaside Creative Art Studio\, 150 East Columbia Lane\, Cocoa Beach\, FL\, 32931\, United States
CATEGORIES:Classes
ATTACH;FMTTYPE=image/png:https://seasidecreativeart.com/wp-content/uploads/2025/11/Screenshot-2025-11-24-212247.png
END:VEVENT
END:VCALENDAR