BEGIN:VCALENDAR
VERSION:2.0
PRODID:-//Seaside Creative Art, Inc - ECPv6.15.20//NONSGML v1.0//EN
CALSCALE:GREGORIAN
METHOD:PUBLISH
X-WR-CALNAME:Seaside Creative Art, Inc
X-ORIGINAL-URL:https://seasidecreativeart.com
X-WR-CALDESC:Events for Seaside Creative Art, Inc
REFRESH-INTERVAL;VALUE=DURATION:PT1H
X-Robots-Tag:noindex
X-PUBLISHED-TTL:PT1H
BEGIN:VTIMEZONE
TZID:America/New_York
BEGIN:DAYLIGHT
TZOFFSETFROM:-0500
TZOFFSETTO:-0400
TZNAME:EDT
DTSTART:20250309T070000
END:DAYLIGHT
BEGIN:STANDARD
TZOFFSETFROM:-0400
TZOFFSETTO:-0500
TZNAME:EST
DTSTART:20251102T060000
END:STANDARD
BEGIN:DAYLIGHT
TZOFFSETFROM:-0500
TZOFFSETTO:-0400
TZNAME:EDT
DTSTART:20260308T070000
END:DAYLIGHT
BEGIN:STANDARD
TZOFFSETFROM:-0400
TZOFFSETTO:-0500
TZNAME:EST
DTSTART:20261101T060000
END:STANDARD
BEGIN:DAYLIGHT
TZOFFSETFROM:-0500
TZOFFSETTO:-0400
TZNAME:EDT
DTSTART:20270314T070000
END:DAYLIGHT
BEGIN:STANDARD
TZOFFSETFROM:-0400
TZOFFSETTO:-0500
TZNAME:EST
DTSTART:20271107T060000
END:STANDARD
END:VTIMEZONE
BEGIN:VEVENT
DTSTART;TZID=America/New_York:20260228T090000
DTEND;TZID=America/New_York:20260228T120000
DTSTAMP:20260424T062827
CREATED:20251125T061609Z
LAST-MODIFIED:20260203T153123Z
UID:10000359-1772269200-1772280000@seasidecreativeart.com
SUMMARY:Florida Magnolia Bloom – Classical Oil Painting Class
DESCRIPTION:Deep Detail • Timeless Style • Bloom & Stem Study \nCreate a stunning\, traditional-style floral painting as you explore the elegance of the Florida magnolia bloom. In this classical oil painting class\, you’ll learn how to capture the magnolia’s velvety petals\, soft shadows\, and graceful stem with rich detail and refined techniques. \nPerfect for students who love realism\, careful brushwork\, and timeless botanical art. \nYou Will Learn: \n\n\nClassical oil layering techniques for soft\, luminous petals \n\n\nPainting magnolia whites with subtle shadows and warm highlights \n\n\nCreating depth and realism with glazing and refinement \n\n\nAdding rich detail to the stem\, leaves\, and supporting shapes \n\n\nBuilding a traditional composition with balance and elegance \n\n\nTechniques for timeless\, museum-style botanical art \n\n\n🎨 All supplies included👩‍🏫 Step-by-step instruction for all skill levels🌿 Leave with a refined\, beautifully detailed Florida Magnolia Bloom masterpiece
URL:https://seasidecreativeart.com/event/florida-magnolia-bloom-classical-oil-painting-class/
LOCATION:Seaside Creative Art Studio\, 150 East Columbia Lane\, Cocoa Beach\, FL\, 32931\, United States
CATEGORIES:Classes
ATTACH;FMTTYPE=image/png:https://seasidecreativeart.com/wp-content/uploads/2025/11/Screenshot-2025-11-24-212758.png
END:VEVENT
BEGIN:VEVENT
DTSTART;TZID=America/New_York:20260228T170000
DTEND;TZID=America/New_York:20260228T200000
DTSTAMP:20260424T062827
CREATED:20251125T062541Z
LAST-MODIFIED:20260203T152919Z
UID:10000360-1772298000-1772308800@seasidecreativeart.com
SUMMARY:Seaside Creative Coast & Lighthouse – Oil Painting Class
DESCRIPTION:Ocean Path • Wood Fence • Hilltop Lighthouse • Crashing Waves \nPaint a beautiful coastal scene filled with charm and seaside atmosphere! In this class\, you’ll create a pathway along a stone ocean wall\, leading down toward shimmering waves\, bordered by a rustic wood fence that guides the eye. A classic lighthouse on a hill overlooks the shoreline\, standing tall above the rolling surf. \nPerfect for coastal art lovers and all skill levels\, this scene blends peaceful seaside elements with a hint of adventure. \nYou Will Learn: \n\n\nBlocking in a coastal composition with clear visual flow \n\n\nPainting a hilltop lighthouse with highlights and clean edges \n\n\nCreating a stone ocean wall and a wood fence with texture \n\n\nBlending sky-to-sea tones for a coastal glow \n\n\nPainting waves that cascade toward the path \n\n\nAdding depth and distance with layered blues and atmospheric perspective \n\n\n🎨 All supplies included👩‍🏫 Step-by-step instruction🌅 Walk away with a bright\, coastal Creative Coast & Lighthouse landscape you’ll love!
URL:https://seasidecreativeart.com/event/seaside-creative-coast-lighthouse-oil-painting-class/
LOCATION:Seaside Creative Art Studio\, 150 East Columbia Lane\, Cocoa Beach\, FL\, 32931\, United States
CATEGORIES:Classes
ATTACH;FMTTYPE=image/png:https://seasidecreativeart.com/wp-content/uploads/2025/11/Screenshot-2025-11-24-173004.png
END:VEVENT
END:VCALENDAR