BEGIN:VCALENDAR
VERSION:2.0
PRODID:-//Seaside Creative Art, Inc - ECPv6.15.20//NONSGML v1.0//EN
CALSCALE:GREGORIAN
METHOD:PUBLISH
X-ORIGINAL-URL:https://seasidecreativeart.com
X-WR-CALDESC:Events for Seaside Creative Art, Inc
REFRESH-INTERVAL;VALUE=DURATION:PT1H
X-Robots-Tag:noindex
X-PUBLISHED-TTL:PT1H
BEGIN:VTIMEZONE
TZID:America/New_York
BEGIN:DAYLIGHT
TZOFFSETFROM:-0500
TZOFFSETTO:-0400
TZNAME:EDT
DTSTART:20250309T070000
END:DAYLIGHT
BEGIN:STANDARD
TZOFFSETFROM:-0400
TZOFFSETTO:-0500
TZNAME:EST
DTSTART:20251102T060000
END:STANDARD
BEGIN:DAYLIGHT
TZOFFSETFROM:-0500
TZOFFSETTO:-0400
TZNAME:EDT
DTSTART:20260308T070000
END:DAYLIGHT
BEGIN:STANDARD
TZOFFSETFROM:-0400
TZOFFSETTO:-0500
TZNAME:EST
DTSTART:20261101T060000
END:STANDARD
BEGIN:DAYLIGHT
TZOFFSETFROM:-0500
TZOFFSETTO:-0400
TZNAME:EDT
DTSTART:20270314T070000
END:DAYLIGHT
BEGIN:STANDARD
TZOFFSETFROM:-0400
TZOFFSETTO:-0500
TZNAME:EST
DTSTART:20271107T060000
END:STANDARD
END:VTIMEZONE
BEGIN:VEVENT
DTSTART;TZID=America/New_York:20260306T180000
DTEND;TZID=America/New_York:20260306T210000
DTSTAMP:20260424T050527
CREATED:20251125T054735Z
LAST-MODIFIED:20260203T153543Z
UID:10000356-1772820000-1772830800@seasidecreativeart.com
SUMMARY:Warm Quilt Reading Nook – Oil Acrylic Painting Class
DESCRIPTION:Warm Quilt Reading Nook – Oil/Acrylic Painting Class\nSoft Light • Multi-Color Quilt  • Cozy Brown Background \nCreate a comforting\, peaceful scene as you paint a woman reading a book\, wrapped in a beautiful multi-color quilt\, resting gently on a rustic cushion. A warm brown backdrop and soft\, glowing light on the open book create an inviting atmosphere full of calm and quiet reflection. \nPerfect for painters who love warm tones\, storytelling art\, and gentle figurative scenes. \nYou Will Learn: \n\n\nPainting a warm brown background with soft depth and glow \n\n\nCreating a believable light source focused on the open book \n\n\nRendering a multi-color quilt with folds\, patchwork patterns\, and texture \n\n\nAdding subtle figure details in a relaxed\, seated pose \n\n\nPainting wood grain and stool structure with simple highlights \n\n\nUsing color temperature to achieve a warm\, cozy atmosphere \n\n\n🎨 All supplies included👩‍🏫 Step-by-step instruction for all skill levels🌟 Leave with a warm\, inviting reading nook painting that tells its own story
URL:https://seasidecreativeart.com/event/warm-quilt-reading-nook-oil-acrylic-painting-class/
LOCATION:Seaside Creative Art Studio\, 150 East Columbia Lane\, Cocoa Beach\, FL\, 32931\, United States
CATEGORIES:Classes
ATTACH;FMTTYPE=image/png:https://seasidecreativeart.com/wp-content/uploads/2025/11/Screenshot-2025-11-24-211218.png
END:VEVENT
END:VCALENDAR