BEGIN:VCALENDAR
VERSION:2.0
PRODID:-//Seaside Creative Art, Inc - ECPv6.15.20//NONSGML v1.0//EN
CALSCALE:GREGORIAN
METHOD:PUBLISH
X-WR-CALNAME:Seaside Creative Art, Inc
X-ORIGINAL-URL:https://seasidecreativeart.com
X-WR-CALDESC:Events for Seaside Creative Art, Inc
REFRESH-INTERVAL;VALUE=DURATION:PT1H
X-Robots-Tag:noindex
X-PUBLISHED-TTL:PT1H
BEGIN:VTIMEZONE
TZID:America/New_York
BEGIN:DAYLIGHT
TZOFFSETFROM:-0500
TZOFFSETTO:-0400
TZNAME:EDT
DTSTART:20250309T070000
END:DAYLIGHT
BEGIN:STANDARD
TZOFFSETFROM:-0400
TZOFFSETTO:-0500
TZNAME:EST
DTSTART:20251102T060000
END:STANDARD
BEGIN:DAYLIGHT
TZOFFSETFROM:-0500
TZOFFSETTO:-0400
TZNAME:EDT
DTSTART:20260308T070000
END:DAYLIGHT
BEGIN:STANDARD
TZOFFSETFROM:-0400
TZOFFSETTO:-0500
TZNAME:EST
DTSTART:20261101T060000
END:STANDARD
BEGIN:DAYLIGHT
TZOFFSETFROM:-0500
TZOFFSETTO:-0400
TZNAME:EDT
DTSTART:20270314T070000
END:DAYLIGHT
BEGIN:STANDARD
TZOFFSETFROM:-0400
TZOFFSETTO:-0500
TZNAME:EST
DTSTART:20271107T060000
END:STANDARD
END:VTIMEZONE
BEGIN:VEVENT
DTSTART;TZID=America/New_York:20260502T170000
DTEND;TZID=America/New_York:20260502T210000
DTSTAMP:20260423T154349
CREATED:20260329T012527Z
LAST-MODIFIED:20260329T012527Z
UID:10000390-1777741200-1777755600@seasidecreativeart.com
SUMMARY:Ocean Blue Textured Plaster with Oil Painting Class
DESCRIPTION:Ocean Blue – Textured Plaster with Oil Painting (All Inclusive) \nCreate a calming ocean scene using dimensional plaster texture and rich oil paint. In this all-inclusive class\, you’ll sculpt waves and shoreline details with textured plaster\, then enhance your artwork with layered oil painting techniques for depth and movement. \nClass Includes:\n• Canvas and textured plaster materials\n• Professional oil paints\n• Brushes and palette tools\n• Step-by-step guided instruction\n• Take-home finished artwork \nYou’ll Learn:\n• Applying textured plaster for wave dimension\n• Creating ocean movement and depth\n• Blending blue tones with oils\n• Highlighting foam and shoreline details \nSkill Level: Beginner friendly\nOutcome: One completed textured ocean painting ready to display \nEnjoy a relaxing coastal class while building texture\, depth\, and beautiful ocean blues.
URL:https://seasidecreativeart.com/event/ocean-blue-textured-plaster-with-oil-painting-class/
LOCATION:Seaside Creative Art Studio\, 150 East Columbia Lane\, Cocoa Beach\, FL\, 32931\, United States
CATEGORIES:Classes
ATTACH;FMTTYPE=image/jpeg:https://seasidecreativeart.com/wp-content/uploads/2026/03/Screenshot-2026-03-28-212024.jpg
END:VEVENT
END:VCALENDAR