BEGIN:VCALENDAR
VERSION:2.0
PRODID:-//Seaside Creative Art, Inc - ECPv6.15.20//NONSGML v1.0//EN
CALSCALE:GREGORIAN
METHOD:PUBLISH
X-WR-CALNAME:Seaside Creative Art, Inc
X-ORIGINAL-URL:https://seasidecreativeart.com
X-WR-CALDESC:Events for Seaside Creative Art, Inc
REFRESH-INTERVAL;VALUE=DURATION:PT1H
X-Robots-Tag:noindex
X-PUBLISHED-TTL:PT1H
BEGIN:VTIMEZONE
TZID:America/New_York
BEGIN:DAYLIGHT
TZOFFSETFROM:-0500
TZOFFSETTO:-0400
TZNAME:EDT
DTSTART:20250309T070000
END:DAYLIGHT
BEGIN:STANDARD
TZOFFSETFROM:-0400
TZOFFSETTO:-0500
TZNAME:EST
DTSTART:20251102T060000
END:STANDARD
BEGIN:DAYLIGHT
TZOFFSETFROM:-0500
TZOFFSETTO:-0400
TZNAME:EDT
DTSTART:20260308T070000
END:DAYLIGHT
BEGIN:STANDARD
TZOFFSETFROM:-0400
TZOFFSETTO:-0500
TZNAME:EST
DTSTART:20261101T060000
END:STANDARD
BEGIN:DAYLIGHT
TZOFFSETFROM:-0500
TZOFFSETTO:-0400
TZNAME:EDT
DTSTART:20270314T070000
END:DAYLIGHT
BEGIN:STANDARD
TZOFFSETFROM:-0400
TZOFFSETTO:-0500
TZNAME:EST
DTSTART:20271107T060000
END:STANDARD
END:VTIMEZONE
BEGIN:VEVENT
DTSTART;TZID=America/New_York:20260515T153000
DTEND;TZID=America/New_York:20260515T193000
DTSTAMP:20260423T154527
CREATED:20260329T005027Z
LAST-MODIFIED:20260329T005027Z
UID:10000387-1778859000-1778873400@seasidecreativeart.com
SUMMARY:Gary Jenkins “CatNap”
DESCRIPTION: “CatNap” Inspired Oil Painting (All Inclusive) \nPaint a peaceful resting cat using soft blending and realistic fur techniques inspired by the classic “CatNap” style. This all-inclusive oil painting class focuses on gentle color transitions\, texture\, and creating a calm\, cozy composition. \nClass Includes:\n• Canvas and professional oil paints\n• Brushes and blending tools\n• Step-by-step guided instruction\n• Take-home finished artwork \nYou’ll Learn:\n• Oil blending for soft fur texture\n• Layering light and shadow\n• Creating realistic features\n• Finishing and highlighting techniques \nSkill Level: Beginner to Intermediate\nOutcome: One completed resting cat oil painting ready to display \nCapture the warmth and tranquility of a sleeping cat with soft\, expressive oil painting techniques.
URL:https://seasidecreativeart.com/event/gary-jenkins-catnap/
LOCATION:Seaside Creative Art Studio\, 150 East Columbia Lane\, Cocoa Beach\, FL\, 32931\, United States
CATEGORIES:Classes
ATTACH;FMTTYPE=image/jpeg:https://seasidecreativeart.com/wp-content/uploads/2026/03/Screenshot-2026-03-28-204640.jpg
END:VEVENT
END:VCALENDAR