BEGIN:VCALENDAR
VERSION:2.0
PRODID:-//Seaside Creative Art, Inc - ECPv6.15.20//NONSGML v1.0//EN
CALSCALE:GREGORIAN
METHOD:PUBLISH
X-ORIGINAL-URL:https://seasidecreativeart.com
X-WR-CALDESC:Events for Seaside Creative Art, Inc
REFRESH-INTERVAL;VALUE=DURATION:PT1H
X-Robots-Tag:noindex
X-PUBLISHED-TTL:PT1H
BEGIN:VTIMEZONE
TZID:America/New_York
BEGIN:DAYLIGHT
TZOFFSETFROM:-0500
TZOFFSETTO:-0400
TZNAME:EDT
DTSTART:20250309T070000
END:DAYLIGHT
BEGIN:STANDARD
TZOFFSETFROM:-0400
TZOFFSETTO:-0500
TZNAME:EST
DTSTART:20251102T060000
END:STANDARD
BEGIN:DAYLIGHT
TZOFFSETFROM:-0500
TZOFFSETTO:-0400
TZNAME:EDT
DTSTART:20260308T070000
END:DAYLIGHT
BEGIN:STANDARD
TZOFFSETFROM:-0400
TZOFFSETTO:-0500
TZNAME:EST
DTSTART:20261101T060000
END:STANDARD
BEGIN:DAYLIGHT
TZOFFSETFROM:-0500
TZOFFSETTO:-0400
TZNAME:EDT
DTSTART:20270314T070000
END:DAYLIGHT
BEGIN:STANDARD
TZOFFSETFROM:-0400
TZOFFSETTO:-0500
TZNAME:EST
DTSTART:20271107T060000
END:STANDARD
END:VTIMEZONE
BEGIN:VEVENT
DTSTART;TZID=America/New_York:20260522T170000
DTEND;TZID=America/New_York:20260522T210000
DTSTAMP:20260423T190158
CREATED:20260329T005754Z
LAST-MODIFIED:20260329T005754Z
UID:10000388-1779469200-1779483600@seasidecreativeart.com
SUMMARY:Old English Flowers and Vase Oil Painting Class
DESCRIPTION:Class: Old English Flowers and Vase – Oil Painting (All Inclusive) \nCreate a timeless floral still life inspired by classic Old English style. In this all-inclusive oil painting class\, you’ll paint elegant blooms arranged in a traditional vase using rich colors\, soft blending\, and gentle light. \nClass Includes:\n• Canvas and professional oil paints\n• Brushes and blending tools\n• Step-by-step guided instruction\n• Take-home finished artwork \nYou’ll Learn:\n• Classic floral composition techniques\n• Soft oil blending for petals\n• Painting glass or ceramic vase highlights\n• Creating depth with light and shadow \nSkill Level: Beginner to Intermediate\nOutcome: One completed floral still-life oil painting ready to display \nEnjoy a relaxing class while creating a graceful\, traditional floral painting with timeless charm.
URL:https://seasidecreativeart.com/event/old-english-flowers-and-vase-oil-painting-class/
LOCATION:Seaside Creative Art Studio\, 150 East Columbia Lane\, Cocoa Beach\, FL\, 32931\, United States
CATEGORIES:Classes
ATTACH;FMTTYPE=image/jpeg:https://seasidecreativeart.com/wp-content/uploads/2026/03/Screenshot-2026-03-28-205527.jpg
END:VEVENT
END:VCALENDAR