BEGIN:VCALENDAR
VERSION:2.0
PRODID:-//Seaside Creative Art, Inc - ECPv6.15.20//NONSGML v1.0//EN
CALSCALE:GREGORIAN
METHOD:PUBLISH
X-ORIGINAL-URL:https://seasidecreativeart.com
X-WR-CALDESC:Events for Seaside Creative Art, Inc
REFRESH-INTERVAL;VALUE=DURATION:PT1H
X-Robots-Tag:noindex
X-PUBLISHED-TTL:PT1H
BEGIN:VTIMEZONE
TZID:America/New_York
BEGIN:DAYLIGHT
TZOFFSETFROM:-0500
TZOFFSETTO:-0400
TZNAME:EDT
DTSTART:20250309T070000
END:DAYLIGHT
BEGIN:STANDARD
TZOFFSETFROM:-0400
TZOFFSETTO:-0500
TZNAME:EST
DTSTART:20251102T060000
END:STANDARD
BEGIN:DAYLIGHT
TZOFFSETFROM:-0500
TZOFFSETTO:-0400
TZNAME:EDT
DTSTART:20260308T070000
END:DAYLIGHT
BEGIN:STANDARD
TZOFFSETFROM:-0400
TZOFFSETTO:-0500
TZNAME:EST
DTSTART:20261101T060000
END:STANDARD
BEGIN:DAYLIGHT
TZOFFSETFROM:-0500
TZOFFSETTO:-0400
TZNAME:EDT
DTSTART:20270314T070000
END:DAYLIGHT
BEGIN:STANDARD
TZOFFSETFROM:-0400
TZOFFSETTO:-0500
TZNAME:EST
DTSTART:20271107T060000
END:STANDARD
END:VTIMEZONE
BEGIN:VEVENT
DTSTART;TZID=America/New_York:20260704T090000
DTEND;TZID=America/New_York:20260704T140000
DTSTAMP:20260423T190057
CREATED:20260329T022711Z
LAST-MODIFIED:20260329T023016Z
UID:10000395-1783155600-1783173600@seasidecreativeart.com
SUMMARY:Seaside Summer Wave Series -Mixed Media Painting
DESCRIPTION:Seaside Summer Waves Series – Mixed Media Painting (All Inclusive) \nPaint a tropical coastal scene featuring turquoise Caribbean waters and palm trees swaying in the breeze. In this all-inclusive mixed media class\, you’ll layer acrylics for the sky and shoreline\, then enhance the ocean and palms with oil details for depth\, motion\, and highlights. \nClass Includes:\n• Canvas and mixed media supplies\n• Acrylic paints with oil embellishments\n• Brushes and palette tools\n• Step-by-step guided instruction\n• Take-home finished artwork \nYou’ll Learn:\n• Blending turquoise Caribbean water tones\n• Painting palm trees with movement\n• Creating wave motion and foam\n• Layering acrylics with oil highlights \nSkill Level: Beginner friendly\nOutcome: One completed tropical seaside painting ready to display \nBring the feeling of a breezy island getaway to life with vibrant water and swaying palms.
URL:https://seasidecreativeart.com/event/28066/
LOCATION:Seaside Creative Art Studio\, 150 East Columbia Lane\, Cocoa Beach\, FL\, 32931\, United States
CATEGORIES:Classes
ATTACH;FMTTYPE=image/jpeg:https://seasidecreativeart.com/wp-content/uploads/2026/03/Screenshot-2026-03-28-222031.jpg
END:VEVENT
END:VCALENDAR