BEGIN:VCALENDAR
VERSION:2.0
PRODID:-//Seaside Creative Art, Inc - ECPv6.15.20//NONSGML v1.0//EN
CALSCALE:GREGORIAN
METHOD:PUBLISH
X-WR-CALNAME:Seaside Creative Art, Inc
X-ORIGINAL-URL:https://seasidecreativeart.com
X-WR-CALDESC:Events for Seaside Creative Art, Inc
REFRESH-INTERVAL;VALUE=DURATION:PT1H
X-Robots-Tag:noindex
X-PUBLISHED-TTL:PT1H
BEGIN:VTIMEZONE
TZID:America/New_York
BEGIN:DAYLIGHT
TZOFFSETFROM:-0500
TZOFFSETTO:-0400
TZNAME:EDT
DTSTART:20250309T070000
END:DAYLIGHT
BEGIN:STANDARD
TZOFFSETFROM:-0400
TZOFFSETTO:-0500
TZNAME:EST
DTSTART:20251102T060000
END:STANDARD
BEGIN:DAYLIGHT
TZOFFSETFROM:-0500
TZOFFSETTO:-0400
TZNAME:EDT
DTSTART:20260308T070000
END:DAYLIGHT
BEGIN:STANDARD
TZOFFSETFROM:-0400
TZOFFSETTO:-0500
TZNAME:EST
DTSTART:20261101T060000
END:STANDARD
BEGIN:DAYLIGHT
TZOFFSETFROM:-0500
TZOFFSETTO:-0400
TZNAME:EDT
DTSTART:20270314T070000
END:DAYLIGHT
BEGIN:STANDARD
TZOFFSETFROM:-0400
TZOFFSETTO:-0500
TZNAME:EST
DTSTART:20271107T060000
END:STANDARD
END:VTIMEZONE
BEGIN:VEVENT
DTSTART;TZID=America/New_York:20260203T130000
DTEND;TZID=America/New_York:20260203T143000
DTSTAMP:20260422T060403
CREATED:20251125T042927Z
LAST-MODIFIED:20251125T042927Z
UID:10000343-1770123600-1770129000@seasidecreativeart.com
SUMMARY:Seaside Abstract Fluid Art Fun – Pour\, Play & Create!
DESCRIPTION:Seaside Abstract Fluid Art Fun – Pour\, Play & Create!\nCanvas • Wood Shapes • Dolphins • Mermaids • Rockets • Lazy Susan Functional Art \nDive into creativity with a seaside-inspired abstract fluid art class where the sky is truly the limit! Choose your own color palette—ocean blues\, tropical brights\, sunset blends\, pastels\, metallics—and watch as your paints flow\, blend\, and form beautiful natural cells right before your eyes. \nCreate on canvas or functional wood pieces like dolphins\, mermaids\, rockets\, turtles\, or even a Lazy Susan for stunning rotating art. This class is pure fun and perfect for beginners\, families\, and anyone who loves color play. Cost of Class and Supplies $45-$155 depending on the base you choose. Deposit of $45 required \nYou Will Learn: \n\n\nChoosing and mixing your custom color palette \n\n\nPouring techniques to create waves\, swirls\, and magical cells \n\n\nUsing wood shapes (dolphins\, mermaids\, rockets & more!) for unique art \n\n\nCreating functional pieces like a Lazy Susan \n\n\nTilting\, swiping\, and layering for dynamic effects \n\n\nResin finishing tips for a glossy\, ocean-like shine (optional) \n\n\n🎨 All supplies included👩‍🏫 Step-by-step\, approachable instruction🌈 Sky’s the limit—watch your colors come alive and create a one-of-a-kind abstract masterpiece!
URL:https://seasidecreativeart.com/event/seaside-abstract-fluid-art-fun-pour-play-create/
LOCATION:Seaside Creative Art Studio\, 150 East Columbia Lane\, Cocoa Beach\, FL\, 32931\, United States
CATEGORIES:Classes,FUNctional Abstract Art - Resin Beach Cheese Boards
ATTACH;FMTTYPE=image/png:https://seasidecreativeart.com/wp-content/uploads/2025/11/Screenshot-2025-11-24-192603.png
END:VEVENT
BEGIN:VEVENT
DTSTART;TZID=America/New_York:20260203T180000
DTEND;TZID=America/New_York:20260203T193000
DTSTAMP:20260422T060403
CREATED:20251125T010643Z
LAST-MODIFIED:20251125T010643Z
UID:10000325-1770141600-1770147000@seasidecreativeart.com
SUMMARY:Seaside Resin Chacuterie Board Class
DESCRIPTION:All Welcome! \nDive into creativity and design your own stunning\, coastal-inspired resin charcuterie board in this fun\, hands-on class! With guided\, step-by-step instruction\, you’ll learn how to blend ocean blues\, waves\, and shimmering details to create a board that feels like a piece of the beach. \nChoose from a variety of unique board options—Olive Tree\, Surfboard shape\, Walnut\, and more—each giving you the chance to craft a one-of-a-kind piece that fits your personal style. \nHere is what you can expect: \n\n\nChoose your board style: Olive Tree\, Surfboard\, Walnut\, and others \n\n\nUpgrade options available: Larger board sizes\, premium wood types \n\n\nPersonalize your creation: Optional laser engraving adds a special touch \n\n\nEverything included: Wood\, resin\, pigments\, tools\, and full instruction \n\n\nJust bring your creativity—you’ll have with a beautiful coastal charcuterie board you’ll be proud to display or gift!
URL:https://seasidecreativeart.com/event/seaside-resin-chacuterie-board-class-2/
LOCATION:Seaside Creative Art Studio\, 150 East Columbia Lane\, Cocoa Beach\, FL\, 32931\, United States
CATEGORIES:Classes,FUNctional Abstract Art - Resin Beach Cheese Boards
ATTACH;FMTTYPE=image/png:https://seasidecreativeart.com/wp-content/uploads/2025/11/Screenshot-2025-11-24-125947.png
END:VEVENT
END:VCALENDAR