BEGIN:VCALENDAR
VERSION:2.0
PRODID:-//Seaside Creative Art, Inc - ECPv6.15.20//NONSGML v1.0//EN
CALSCALE:GREGORIAN
METHOD:PUBLISH
X-ORIGINAL-URL:https://seasidecreativeart.com
X-WR-CALDESC:Events for Seaside Creative Art, Inc
REFRESH-INTERVAL;VALUE=DURATION:PT1H
X-Robots-Tag:noindex
X-PUBLISHED-TTL:PT1H
BEGIN:VTIMEZONE
TZID:America/New_York
BEGIN:DAYLIGHT
TZOFFSETFROM:-0500
TZOFFSETTO:-0400
TZNAME:EDT
DTSTART:20240310T070000
END:DAYLIGHT
BEGIN:STANDARD
TZOFFSETFROM:-0400
TZOFFSETTO:-0500
TZNAME:EST
DTSTART:20241103T060000
END:STANDARD
BEGIN:DAYLIGHT
TZOFFSETFROM:-0500
TZOFFSETTO:-0400
TZNAME:EDT
DTSTART:20250309T070000
END:DAYLIGHT
BEGIN:STANDARD
TZOFFSETFROM:-0400
TZOFFSETTO:-0500
TZNAME:EST
DTSTART:20251102T060000
END:STANDARD
BEGIN:DAYLIGHT
TZOFFSETFROM:-0500
TZOFFSETTO:-0400
TZNAME:EDT
DTSTART:20260308T070000
END:DAYLIGHT
BEGIN:STANDARD
TZOFFSETFROM:-0400
TZOFFSETTO:-0500
TZNAME:EST
DTSTART:20261101T060000
END:STANDARD
END:VTIMEZONE
BEGIN:VEVENT
DTSTART;TZID=America/New_York:20251223T140000
DTEND;TZID=America/New_York:20251223T153000
DTSTAMP:20260422T122952
CREATED:20251124T231746Z
LAST-MODIFIED:20251124T231746Z
UID:10000307-1766498400-1766503800@seasidecreativeart.com
SUMMARY:NEW! Coastal Waves Resin Charcuterie Board Class
DESCRIPTION:“Coastal Waves” — Resin Charcuterie Board ClassAll Welcome!Create your own stunning coastal-inspired resin charcuterie board with step-by-step\, hands-on instruction. Choose from beautiful board options including Olive Tree\, Surfboard shapes\, Walnut\, and more.Pricing varies based on board size\, wood type\, and optional laser engravings.All supplies are included—just bring your creativity!
URL:https://seasidecreativeart.com/event/new-coastal-waves-resin-charcuterie-board-class-5/
LOCATION:Seaside Creative Art Studio\, 150 East Columbia Lane\, Cocoa Beach\, FL\, 32931\, United States
CATEGORIES:Classes,FUNctional Abstract Art - Resin Beach Cheese Boards
ATTACH;FMTTYPE=image/png:https://seasidecreativeart.com/wp-content/uploads/2025/11/Screenshot-2025-11-24-125947.png
END:VEVENT
BEGIN:VEVENT
DTSTART;TZID=America/New_York:20251222T140000
DTEND;TZID=America/New_York:20251222T153000
DTSTAMP:20260422T122952
CREATED:20251124T231629Z
LAST-MODIFIED:20251124T231629Z
UID:10000306-1766412000-1766417400@seasidecreativeart.com
SUMMARY:NEW! Coastal Waves Resin Charcuterie Board Class
DESCRIPTION:“Coastal Waves” — Resin Charcuterie Board ClassAll Welcome!Create your own stunning coastal-inspired resin charcuterie board with step-by-step\, hands-on instruction. Choose from beautiful board options including Olive Tree\, Surfboard shapes\, Walnut\, and more.Pricing varies based on board size\, wood type\, and optional laser engravings.All supplies are included—just bring your creativity!
URL:https://seasidecreativeart.com/event/new-coastal-waves-resin-charcuterie-board-class-4/
LOCATION:Seaside Creative Art Studio\, 150 East Columbia Lane\, Cocoa Beach\, FL\, 32931\, United States
CATEGORIES:Classes,FUNctional Abstract Art - Resin Beach Cheese Boards
ATTACH;FMTTYPE=image/png:https://seasidecreativeart.com/wp-content/uploads/2025/11/Screenshot-2025-11-24-125947.png
END:VEVENT
BEGIN:VEVENT
DTSTART;TZID=America/New_York:20251211T180000
DTEND;TZID=America/New_York:20251211T200000
DTSTAMP:20260422T122952
CREATED:20251124T184049Z
LAST-MODIFIED:20251124T184049Z
UID:10000282-1765476000-1765483200@seasidecreativeart.com
SUMMARY:Beachside Multi-Layered Wood Decor Class
DESCRIPTION:Create your own coastal-inspired layered wood art featuring your choice of Dolphin\, Mermaid\, or Sea Turtle. Learn staining\, blending\, and painting techniques with step-by-step\, hands-on instruction. We use professional acrylics to give your artwork an extra luminous glow!✨ Optional resin finishing available for added shine and beautiful ocean-wave effects.All supplies included. All skill levels welcome!
URL:https://seasidecreativeart.com/event/beachside-multi-layered-wood-decor-class-2/
LOCATION:Seaside Creative Art Studio\, 150 East Columbia Lane\, Cocoa Beach\, FL\, 32931\, United States
CATEGORIES:Classes,FUNctional Abstract Art - Resin Beach Cheese Boards
ATTACH;FMTTYPE=image/png:https://seasidecreativeart.com/wp-content/uploads/2025/11/Screenshot-2025-11-24-111925.png
END:VEVENT
BEGIN:VEVENT
DTSTART;TZID=America/New_York:20251206T170000
DTEND;TZID=America/New_York:20251206T183000
DTSTAMP:20260422T122952
CREATED:20251124T203035Z
LAST-MODIFIED:20251124T203035Z
UID:10000289-1765040400-1765045800@seasidecreativeart.com
SUMMARY:Seaside Creative Abstract Fluid Art Fun
DESCRIPTION:🎨 Fun & Family-Friendly\nAbstract Fluid Art Class \nExplore the magic of color with this exciting\, beginner-friendly fluid art experience! Choose from a wide variety of bases including Wood Dolphins\, Mermaids\, Castles\, Rockets\, Turtles\, Lazy Susans\, Tray Handles\, plus Small to XL Canvases. \nPick your own color palette\, pour freely\, and watch stunning cells\, swirls\, and patterns unfold before your eyes. It’s the perfect class for beginners\, families\, and anyone who wants to relax\, have fun\, and create a truly one-of-a-kind masterpiece. \n✨ Resin is included for a beautiful\, glossy finish.🎨 Step-by-step\, hands-on instruction provided.🧰 All supplies included. \nCost: $45–$155 depending on your base selectionDeposit: $45
URL:https://seasidecreativeart.com/event/seaside-creative-abstract-fluid-art-fun-2/
LOCATION:Seaside Creative Art Studio\, 150 East Columbia Lane\, Cocoa Beach\, FL\, 32931\, United States
CATEGORIES:Classes,FUNctional Abstract Art - Resin Beach Cheese Boards
ATTACH;FMTTYPE=image/png:https://seasidecreativeart.com/wp-content/uploads/2025/11/Screenshot-2025-11-24-142657.png
END:VEVENT
BEGIN:VEVENT
DTSTART;TZID=America/New_York:20251206T150000
DTEND;TZID=America/New_York:20251206T163000
DTSTAMP:20260422T122952
CREATED:20251124T192939Z
LAST-MODIFIED:20251124T193549Z
UID:10000287-1765033200-1765038600@seasidecreativeart.com
SUMMARY:Seaside Creative Abstract Fluid Art Fun
DESCRIPTION:🎨 Fun & Family-Friendly\nAbstract Fluid Art Class \nExplore the magic of color with this exciting\, beginner-friendly fluid art experience! Choose from a wide variety of bases including Wood Dolphins\, Mermaids\, Castles\, Rockets\, Turtles\, Lazy Susans\, Tray Handles\, plus Small to XL Canvases. \nPick your own color palette\, pour freely\, and watch stunning cells\, swirls\, and patterns unfold before your eyes. It’s the perfect class for beginners\, families\, and anyone who wants to relax\, have fun\, and create a truly one-of-a-kind masterpiece. \n✨ Resin is included for a beautiful\, glossy finish.🎨 Step-by-step\, hands-on instruction provided.🧰 All supplies included. \nCost: $45–$155 depending on your base selectionDeposit: $45
URL:https://seasidecreativeart.com/event/seaside-creative-abstract-fluid-art-fun/
LOCATION:Seaside Creative Art Studio\, 150 East Columbia Lane\, Cocoa Beach\, FL\, 32931\, United States
CATEGORIES:Classes,FUNctional Abstract Art - Resin Beach Cheese Boards
ATTACH;FMTTYPE=image/png:https://seasidecreativeart.com/wp-content/uploads/2025/11/Screenshot-2025-11-24-142657.png
END:VEVENT
BEGIN:VEVENT
DTSTART;TZID=America/New_York:20251129T180000
DTEND;TZID=America/New_York:20251129T200000
DTSTAMP:20260422T122952
CREATED:20251124T183823Z
LAST-MODIFIED:20251124T183823Z
UID:10000281-1764439200-1764446400@seasidecreativeart.com
SUMMARY:Beachside Multi-Layered Wood Decor Class
DESCRIPTION:Create your own coastal-inspired layered wood art featuring your choice of Dolphin\, Mermaid\, or Sea Turtle. Learn staining\, blending\, and painting techniques with step-by-step\, hands-on instruction. We use professional acrylics to give your artwork an extra luminous glow!✨ Optional resin finishing available for added shine and beautiful ocean-wave effects.All supplies included. All skill levels welcome!
URL:https://seasidecreativeart.com/event/beachside-multi-layered-wood-decor-class/
LOCATION:Seaside Creative Art Studio\, 150 East Columbia Lane\, Cocoa Beach\, FL\, 32931\, United States
CATEGORIES:Classes,FUNctional Abstract Art - Resin Beach Cheese Boards
ATTACH;FMTTYPE=image/png:https://seasidecreativeart.com/wp-content/uploads/2025/11/Screenshot-2025-11-24-111925.png
END:VEVENT
BEGIN:VEVENT
DTSTART;TZID=America/New_York:20251129T110000
DTEND;TZID=America/New_York:20251129T123000
DTSTAMP:20260422T122952
CREATED:20251124T180505Z
LAST-MODIFIED:20251124T180505Z
UID:10000279-1764414000-1764419400@seasidecreativeart.com
SUMMARY:NEW! Coastal Waves Resin Charcuterie Board Class
DESCRIPTION:“Coastal Waves” — Resin Charcuterie Board ClassAll Welcome!Create your own stunning coastal-inspired resin charcuterie board with step-by-step\, hands-on instruction. Choose from beautiful board options including Olive Tree\, Surfboard shapes\, Walnut\, and more.Pricing varies based on board size\, wood type\, and optional laser engravings.All supplies are included—just bring your creativity!
URL:https://seasidecreativeart.com/event/new-coastal-waves-resin-charcuterie-board-class/
LOCATION:Seaside Creative Art Studio\, 150 East Columbia Lane\, Cocoa Beach\, FL\, 32931\, United States
CATEGORIES:Classes,FUNctional Abstract Art - Resin Beach Cheese Boards
ATTACH;FMTTYPE=image/png:https://seasidecreativeart.com/wp-content/uploads/2025/11/Screenshot-2025-11-24-125947.png
END:VEVENT
END:VCALENDAR