BEGIN:VCALENDAR
VERSION:2.0
PRODID:-//Seaside Creative Art, Inc - ECPv6.15.20//NONSGML v1.0//EN
CALSCALE:GREGORIAN
METHOD:PUBLISH
X-ORIGINAL-URL:https://seasidecreativeart.com
X-WR-CALDESC:Events for Seaside Creative Art, Inc
REFRESH-INTERVAL;VALUE=DURATION:PT1H
X-Robots-Tag:noindex
X-PUBLISHED-TTL:PT1H
BEGIN:VTIMEZONE
TZID:America/New_York
BEGIN:DAYLIGHT
TZOFFSETFROM:-0500
TZOFFSETTO:-0400
TZNAME:EDT
DTSTART:20240310T070000
END:DAYLIGHT
BEGIN:STANDARD
TZOFFSETFROM:-0400
TZOFFSETTO:-0500
TZNAME:EST
DTSTART:20241103T060000
END:STANDARD
BEGIN:DAYLIGHT
TZOFFSETFROM:-0500
TZOFFSETTO:-0400
TZNAME:EDT
DTSTART:20250309T070000
END:DAYLIGHT
BEGIN:STANDARD
TZOFFSETFROM:-0400
TZOFFSETTO:-0500
TZNAME:EST
DTSTART:20251102T060000
END:STANDARD
BEGIN:DAYLIGHT
TZOFFSETFROM:-0500
TZOFFSETTO:-0400
TZNAME:EDT
DTSTART:20260308T070000
END:DAYLIGHT
BEGIN:STANDARD
TZOFFSETFROM:-0400
TZOFFSETTO:-0500
TZNAME:EST
DTSTART:20261101T060000
END:STANDARD
END:VTIMEZONE
BEGIN:VEVENT
DTSTART;TZID=America/New_York:20251222T140000
DTEND;TZID=America/New_York:20251222T153000
DTSTAMP:20260422T184440
CREATED:20251124T231629Z
LAST-MODIFIED:20251124T231629Z
UID:10000306-1766412000-1766417400@seasidecreativeart.com
SUMMARY:NEW! Coastal Waves Resin Charcuterie Board Class
DESCRIPTION:“Coastal Waves” — Resin Charcuterie Board ClassAll Welcome!Create your own stunning coastal-inspired resin charcuterie board with step-by-step\, hands-on instruction. Choose from beautiful board options including Olive Tree\, Surfboard shapes\, Walnut\, and more.Pricing varies based on board size\, wood type\, and optional laser engravings.All supplies are included—just bring your creativity!
URL:https://seasidecreativeart.com/event/new-coastal-waves-resin-charcuterie-board-class-4/
LOCATION:Seaside Creative Art Studio\, 150 East Columbia Lane\, Cocoa Beach\, FL\, 32931\, United States
CATEGORIES:Classes,FUNctional Abstract Art - Resin Beach Cheese Boards
ATTACH;FMTTYPE=image/png:https://seasidecreativeart.com/wp-content/uploads/2025/11/Screenshot-2025-11-24-125947.png
END:VEVENT
BEGIN:VEVENT
DTSTART;TZID=America/New_York:20251223T140000
DTEND;TZID=America/New_York:20251223T153000
DTSTAMP:20260422T184440
CREATED:20251124T231746Z
LAST-MODIFIED:20251124T231746Z
UID:10000307-1766498400-1766503800@seasidecreativeart.com
SUMMARY:NEW! Coastal Waves Resin Charcuterie Board Class
DESCRIPTION:“Coastal Waves” — Resin Charcuterie Board ClassAll Welcome!Create your own stunning coastal-inspired resin charcuterie board with step-by-step\, hands-on instruction. Choose from beautiful board options including Olive Tree\, Surfboard shapes\, Walnut\, and more.Pricing varies based on board size\, wood type\, and optional laser engravings.All supplies are included—just bring your creativity!
URL:https://seasidecreativeart.com/event/new-coastal-waves-resin-charcuterie-board-class-5/
LOCATION:Seaside Creative Art Studio\, 150 East Columbia Lane\, Cocoa Beach\, FL\, 32931\, United States
CATEGORIES:Classes,FUNctional Abstract Art - Resin Beach Cheese Boards
ATTACH;FMTTYPE=image/png:https://seasidecreativeart.com/wp-content/uploads/2025/11/Screenshot-2025-11-24-125947.png
END:VEVENT
BEGIN:VEVENT
DTSTART;TZID=America/New_York:20251224T140000
DTEND;TZID=America/New_York:20251224T153000
DTSTAMP:20260422T184440
CREATED:20251124T233400Z
LAST-MODIFIED:20251128T125307Z
UID:10000308-1766584800-1766590200@seasidecreativeart.com
SUMMARY:Holiday Treat Coastal Resin Charcuterie Board Class
DESCRIPTION:“Coastal Waves” — Resin Charcuterie Board Class\nAll Welcome! \nDive into creativity and design your own stunning\, coastal-inspired resin charcuterie board in this fun\, hands-on class! With guided\, step-by-step instruction\, you’ll learn how to blend ocean blues\, waves\, and shimmering details to create a board that feels like a piece of the beach. \nChoose from a variety of unique board options—Olive Tree\, Surfboard shape\, Walnut\, and more—each giving you the chance to craft a one-of-a-kind piece that fits your personal style. \nHere is what you can expect: \n\n\nChoose your board style: Olive Tree\, Surfboard\, Walnut\, and others \n\n\nUpgrade options available: Larger board sizes\, premium wood types \n\n\nPersonalize your creation: Optional laser engraving adds a special touch \n\n\nEverything included: Wood\, resin\, pigments\, tools\, and full instruction \n\n\nJust bring your creativity—you’ll have with a beautiful coastal charcuterie board you’ll be proud to display or gift!
URL:https://seasidecreativeart.com/event/holiday-treat-coastal-resin-chachuterie-board-class/
LOCATION:Seaside Creative Art Studio\, 150 East Columbia Lane\, Cocoa Beach\, FL\, 32931\, United States
CATEGORIES:Classes,FUNctional Abstract Art - Resin Beach Cheese Boards
ATTACH;FMTTYPE=image/png:https://seasidecreativeart.com/wp-content/uploads/2025/11/Screenshot-2025-11-24-182548.png
END:VEVENT
BEGIN:VEVENT
DTSTART;TZID=America/New_York:20251225T140000
DTEND;TZID=America/New_York:20251225T153000
DTSTAMP:20260422T184440
CREATED:20251124T233643Z
LAST-MODIFIED:20251128T124940Z
UID:10000309-1766671200-1766676600@seasidecreativeart.com
SUMMARY:Holiday Treat Coastal Resin Chachuterie Board Class
DESCRIPTION:“Coastal Waves” — Resin Charcuterie Board Class\nAll Welcome! \nDive into creativity and design your own stunning\, coastal-inspired resin charcuterie board in this fun\, hands-on class! With guided\, step-by-step instruction\, you’ll learn how to blend ocean blues\, waves\, and shimmering details to create a board that feels like a piece of the beach. \nChoose from a variety of unique board options—Olive Tree\, Surfboard shape\, Walnut\, and more—each giving you the chance to craft a one-of-a-kind piece that fits your personal style. \nHere is what you can expect: \n\n\nChoose your board style: Olive Tree\, Surfboard\, Walnut\, and others \n\n\nUpgrade options available: Larger board sizes\, premium wood types \n\n\nPersonalize your creation: Optional laser engraving adds a special touch \n\n\nEverything included: Wood\, resin\, pigments\, tools\, and full instruction \n\n\nJust bring your creativity—you’ll have with a beautiful coastal charcuterie board you’ll be proud to display or gift!
URL:https://seasidecreativeart.com/event/holiday-treat-coastal-resin-chachuterie-board-class-2/
LOCATION:Seaside Creative Art Studio\, 150 East Columbia Lane\, Cocoa Beach\, FL\, 32931\, United States
CATEGORIES:Classes,FUNctional Abstract Art - Resin Beach Cheese Boards
ATTACH;FMTTYPE=image/png:https://seasidecreativeart.com/wp-content/uploads/2025/11/Screenshot-2025-11-24-182548.png
END:VEVENT
BEGIN:VEVENT
DTSTART;TZID=America/New_York:20251226T140000
DTEND;TZID=America/New_York:20251226T153000
DTSTAMP:20260422T184440
CREATED:20251124T234125Z
LAST-MODIFIED:20251128T124559Z
UID:10000310-1766757600-1766763000@seasidecreativeart.com
SUMMARY:Holiday Treat Coastal Resin Chachuterie Board Class
DESCRIPTION:“Coastal Waves” — Resin Charcuterie Board Class\nAll Welcome! \nDive into creativity and design your own stunning\, coastal-inspired resin charcuterie board in this fun\, hands-on class! With guided\, step-by-step instruction\, you’ll learn how to blend ocean blues\, waves\, and shimmering details to create a board that feels like a piece of the beach. \nChoose from a variety of unique board options—Olive Tree\, Surfboard shape\, Walnut\, and more—each giving you the chance to craft a one-of-a-kind piece that fits your personal style. \nHere is what you can expect: \n\n\nChoose your board style: Olive Tree\, Surfboard\, Walnut\, and others \n\n\nUpgrade options available: Larger board sizes\, premium wood types \n\n\nPersonalize your creation: Optional laser engraving adds a special touch \n\n\nEverything included: Wood\, resin\, pigments\, tools\, and full instruction \n\n\nJust bring your creativity—you’ll have with a beautiful coastal charcuterie board you’ll be proud to display or gift!
URL:https://seasidecreativeart.com/event/holiday-treat-coastal-resin-chachuterie-board-class-3/
LOCATION:Seaside Creative Art Studio\, 150 East Columbia Lane\, Cocoa Beach\, FL\, 32931\, United States
CATEGORIES:Classes,FUNctional Abstract Art - Resin Beach Cheese Boards
ATTACH;FMTTYPE=image/png:https://seasidecreativeart.com/wp-content/uploads/2025/11/Screenshot-2025-11-24-182548.png
END:VEVENT
BEGIN:VEVENT
DTSTART;TZID=America/New_York:20251227T140000
DTEND;TZID=America/New_York:20251227T163000
DTSTAMP:20260422T184440
CREATED:20251124T235325Z
LAST-MODIFIED:20251124T235325Z
UID:10000312-1766844000-1766853000@seasidecreativeart.com
SUMMARY:“Coastal Waves” — Resin Charcuterie Board Class
DESCRIPTION:“Coastal Waves” — Resin Charcuterie Board Class\nAll Welcome! \nDive into creativity and design your own stunning\, coastal-inspired resin charcuterie board in this fun\, hands-on class! With guided\, step-by-step instruction\, you’ll learn how to blend ocean blues\, waves\, and shimmering details to create a board that feels like a piece of the beach. \nChoose from a variety of unique board options—Olive Tree\, Surfboard shape\, Walnut\, and more—each giving you the chance to craft a one-of-a-kind piece that fits your personal style. \nHere is what you can expect: \n\n\nChoose your board style: Olive Tree\, Surfboard\, Walnut\, and others \n\n\nUpgrade options available: Larger board sizes\, premium wood types \n\n\nPersonalize your creation: Optional laser engraving adds a special touch \n\n\nEverything included: Wood\, resin\, pigments\, tools\, and full instruction \n\n\nJust bring your creativity—you’ll have with a beautiful coastal charcuterie board you’ll be proud to display or gift!
URL:https://seasidecreativeart.com/event/coastal-waves-resin-charcuterie-board-class/
LOCATION:Seaside Creative Art Studio\, 150 East Columbia Lane\, Cocoa Beach\, FL\, 32931\, United States
CATEGORIES:Classes,FUNctional Abstract Art - Resin Beach Cheese Boards
ATTACH;FMTTYPE=image/png:https://seasidecreativeart.com/wp-content/uploads/2025/11/Screenshot-2025-11-24-184809.png
END:VEVENT
BEGIN:VEVENT
DTSTART;TZID=America/New_York:20251227T180000
DTEND;TZID=America/New_York:20251227T193000
DTSTAMP:20260422T184440
CREATED:20251124T235506Z
LAST-MODIFIED:20251124T235506Z
UID:10000313-1766858400-1766863800@seasidecreativeart.com
SUMMARY:“Coastal Waves” — Resin Charcuterie Board Class
DESCRIPTION:“Coastal Waves” — Resin Charcuterie Board Class\nAll Welcome! \nDive into creativity and design your own stunning\, coastal-inspired resin charcuterie board in this fun\, hands-on class! With guided\, step-by-step instruction\, you’ll learn how to blend ocean blues\, waves\, and shimmering details to create a board that feels like a piece of the beach. \nChoose from a variety of unique board options—Olive Tree\, Surfboard shape\, Walnut\, and more—each giving you the chance to craft a one-of-a-kind piece that fits your personal style. \nHere is what you can expect: \n\n\nChoose your board style: Olive Tree\, Surfboard\, Walnut\, and others \n\n\nUpgrade options available: Larger board sizes\, premium wood types \n\n\nPersonalize your creation: Optional laser engraving adds a special touch \n\n\nEverything included: Wood\, resin\, pigments\, tools\, and full instruction \n\n\nJust bring your creativity—you’ll have with a beautiful coastal charcuterie board you’ll be proud to display or gift!
URL:https://seasidecreativeart.com/event/coastal-waves-resin-charcuterie-board-class-2/
LOCATION:Seaside Creative Art Studio\, 150 East Columbia Lane\, Cocoa Beach\, FL\, 32931\, United States
CATEGORIES:Classes,FUNctional Abstract Art - Resin Beach Cheese Boards
ATTACH;FMTTYPE=image/png:https://seasidecreativeart.com/wp-content/uploads/2025/11/Screenshot-2025-11-24-184809.png
END:VEVENT
END:VCALENDAR