BEGIN:VCALENDAR
VERSION:2.0
PRODID:-//Seaside Creative Art, Inc - ECPv6.15.20//NONSGML v1.0//EN
CALSCALE:GREGORIAN
METHOD:PUBLISH
X-WR-CALNAME:Seaside Creative Art, Inc
X-ORIGINAL-URL:https://seasidecreativeart.com
X-WR-CALDESC:Events for Seaside Creative Art, Inc
REFRESH-INTERVAL;VALUE=DURATION:PT1H
X-Robots-Tag:noindex
X-PUBLISHED-TTL:PT1H
BEGIN:VTIMEZONE
TZID:America/New_York
BEGIN:DAYLIGHT
TZOFFSETFROM:-0500
TZOFFSETTO:-0400
TZNAME:EDT
DTSTART:20250309T070000
END:DAYLIGHT
BEGIN:STANDARD
TZOFFSETFROM:-0400
TZOFFSETTO:-0500
TZNAME:EST
DTSTART:20251102T060000
END:STANDARD
BEGIN:DAYLIGHT
TZOFFSETFROM:-0500
TZOFFSETTO:-0400
TZNAME:EDT
DTSTART:20260308T070000
END:DAYLIGHT
BEGIN:STANDARD
TZOFFSETFROM:-0400
TZOFFSETTO:-0500
TZNAME:EST
DTSTART:20261101T060000
END:STANDARD
BEGIN:DAYLIGHT
TZOFFSETFROM:-0500
TZOFFSETTO:-0400
TZNAME:EDT
DTSTART:20270314T070000
END:DAYLIGHT
BEGIN:STANDARD
TZOFFSETFROM:-0400
TZOFFSETTO:-0500
TZNAME:EST
DTSTART:20271107T060000
END:STANDARD
END:VTIMEZONE
BEGIN:VEVENT
DTSTART;TZID=America/New_York:20260110T130000
DTEND;TZID=America/New_York:20260110T143000
DTSTAMP:20260422T192527
CREATED:20251124T231439Z
LAST-MODIFIED:20251124T231439Z
UID:10000304-1768050000-1768055400@seasidecreativeart.com
SUMMARY:NEW! Coastal Waves Resin Charcuterie Board Class
DESCRIPTION:“Coastal Waves” — Resin Charcuterie Board ClassAll Welcome!Create your own stunning coastal-inspired resin charcuterie board with step-by-step\, hands-on instruction. Choose from beautiful board options including Olive Tree\, Surfboard shapes\, Walnut\, and more.Pricing varies based on board size\, wood type\, and optional laser engravings.All supplies are included—just bring your creativity!
URL:https://seasidecreativeart.com/event/new-coastal-waves-resin-charcuterie-board-class-3/
LOCATION:Seaside Creative Art Studio\, 150 East Columbia Lane\, Cocoa Beach\, FL\, 32931\, United States
CATEGORIES:Classes,FUNctional Abstract Art - Resin Beach Cheese Boards
ATTACH;FMTTYPE=image/png:https://seasidecreativeart.com/wp-content/uploads/2025/11/Screenshot-2025-11-24-125947.png
END:VEVENT
BEGIN:VEVENT
DTSTART;TZID=America/New_York:20260110T180000
DTEND;TZID=America/New_York:20260110T200000
DTSTAMP:20260422T192527
CREATED:20251125T001906Z
LAST-MODIFIED:20251125T001906Z
UID:10000320-1768068000-1768075200@seasidecreativeart.com
SUMMARY:Seaside Creative Abstract Fluid Art Fun
DESCRIPTION:🎨 Fun & Family-Friendly\nAbstract Fluid Art Class \nExplore the magic of color with this exciting\, beginner-friendly fluid art experience! Choose from a wide variety of bases including Wood Dolphins\, Mermaids\, Castles\, Rockets\, Turtles\, Lazy Susans\, Tray Handles\, plus Small to XL Canvases. \nPick your own color palette\, pour freely\, and watch stunning cells\, swirls\, and patterns unfold before your eyes. It’s the perfect class for beginners\, families\, and anyone who wants to relax\, have fun\, and create a truly one-of-a-kind masterpiece. \n✨ Resin is included for a beautiful\, glossy finish.🎨 Step-by-step\, hands-on instruction provided.🧰 All supplies included. \nCost: $45–$155 depending on your base selectionDeposit: $45
URL:https://seasidecreativeart.com/event/seaside-creative-abstract-fluid-art-fun-3/
LOCATION:Seaside Creative Art Studio\, 150 East Columbia Lane\, Cocoa Beach\, FL\, 32931\, United States
CATEGORIES:Classes,FUNctional Abstract Art - Resin Beach Cheese Boards
ATTACH;FMTTYPE=image/png:https://seasidecreativeart.com/wp-content/uploads/2025/11/Screenshot-2025-11-24-142657.png
END:VEVENT
END:VCALENDAR