BEGIN:VCALENDAR
VERSION:2.0
PRODID:-//Seaside Creative Art, Inc - ECPv6.15.20//NONSGML v1.0//EN
CALSCALE:GREGORIAN
METHOD:PUBLISH
X-ORIGINAL-URL:https://seasidecreativeart.com
X-WR-CALDESC:Events for Seaside Creative Art, Inc
REFRESH-INTERVAL;VALUE=DURATION:PT1H
X-Robots-Tag:noindex
X-PUBLISHED-TTL:PT1H
BEGIN:VTIMEZONE
TZID:America/New_York
BEGIN:DAYLIGHT
TZOFFSETFROM:-0500
TZOFFSETTO:-0400
TZNAME:EDT
DTSTART:20250309T070000
END:DAYLIGHT
BEGIN:STANDARD
TZOFFSETFROM:-0400
TZOFFSETTO:-0500
TZNAME:EST
DTSTART:20251102T060000
END:STANDARD
BEGIN:DAYLIGHT
TZOFFSETFROM:-0500
TZOFFSETTO:-0400
TZNAME:EDT
DTSTART:20260308T070000
END:DAYLIGHT
BEGIN:STANDARD
TZOFFSETFROM:-0400
TZOFFSETTO:-0500
TZNAME:EST
DTSTART:20261101T060000
END:STANDARD
BEGIN:DAYLIGHT
TZOFFSETFROM:-0500
TZOFFSETTO:-0400
TZNAME:EDT
DTSTART:20270314T070000
END:DAYLIGHT
BEGIN:STANDARD
TZOFFSETFROM:-0400
TZOFFSETTO:-0500
TZNAME:EST
DTSTART:20271107T060000
END:STANDARD
END:VTIMEZONE
BEGIN:VEVENT
DTSTART;TZID=America/New_York:20260131T160000
DTEND;TZID=America/New_York:20260131T183000
DTSTAMP:20260422T190545
CREATED:20251125T033531Z
LAST-MODIFIED:20251125T043706Z
UID:10000337-1769875200-1769884200@seasidecreativeart.com
SUMMARY:Seaside Abstract Fluid Art Fun
DESCRIPTION:Fun & Family-Friendly\nAbstract Fluid Art Class \nExplore the magic of color with this exciting\, beginner-friendly fluid art experience! Choose from a wide variety of bases including Wood Dolphins\, Mermaids\, Castles\, Rockets\, Turtles\, Lazy Susans\, Tray Handles\, plus Small to XL Canvases. \nPick your own color palette\, pour freely\, and watch stunning cells\, swirls\, and patterns unfold before your eyes. It’s the perfect class for beginners\, families\, and anyone who wants to relax\, have fun\, and create a truly one-of-a-kind masterpiece. \n✨ Resin is included for a beautiful\, glossy finish.🎨 Step-by-step\, hands-on instruction provided.🧰 All supplies included. \nCost: $45–$155 depending on your base selectionDeposit: $45
URL:https://seasidecreativeart.com/event/seaside-abstract-fluid-art-fun-4/
LOCATION:Seaside Creative Art Studio\, 150 East Columbia Lane\, Cocoa Beach\, FL\, 32931\, United States
CATEGORIES:Classes,FUNctional Abstract Art - Resin Beach Cheese Boards
ATTACH;FMTTYPE=image/png:https://seasidecreativeart.com/wp-content/uploads/2025/11/Screenshot-2025-11-24-192603.png
END:VEVENT
BEGIN:VEVENT
DTSTART;TZID=America/New_York:20260131T160000
DTEND;TZID=America/New_York:20260131T183000
DTSTAMP:20260422T190545
CREATED:20251125T044720Z
LAST-MODIFIED:20251125T044720Z
UID:10000345-1769875200-1769884200@seasidecreativeart.com
SUMMARY:Seaside Abstract Fluid Art Fun
DESCRIPTION:Fun & Family-Friendly\nAbstract Fluid Art Class \nExplore the magic of color with this exciting\, beginner-friendly fluid art experience! Choose from a wide variety of bases including Wood Dolphins\, Mermaids\, Castles\, Rockets\, Turtles\, Lazy Susans\, Tray Handles\, plus Small to XL Canvases. \nPick your own color palette\, pour freely\, and watch stunning cells\, swirls\, and patterns unfold before your eyes. It’s the perfect class for beginners\, families\, and anyone who wants to relax\, have fun\, and create a truly one-of-a-kind masterpiece. \n✨ Resin is included for a beautiful\, glossy finish.🎨 Step-by-step\, hands-on instruction provided.🧰 All supplies included. \nCost: $45–$155 depending on your base selectionDeposit: $45
URL:https://seasidecreativeart.com/event/seaside-abstract-fluid-art-fun-6/
LOCATION:Seaside Creative Art Studio\, 150 East Columbia Lane\, Cocoa Beach\, FL\, 32931\, United States
CATEGORIES:Classes,FUNctional Abstract Art - Resin Beach Cheese Boards
ATTACH;FMTTYPE=image/png:https://seasidecreativeart.com/wp-content/uploads/2025/11/Screenshot-2025-11-24-192603.png
END:VEVENT
BEGIN:VEVENT
DTSTART;TZID=America/New_York:20260131T190000
DTEND;TZID=America/New_York:20260131T203000
DTSTAMP:20260422T190545
CREATED:20251125T033816Z
LAST-MODIFIED:20251125T033816Z
UID:10000338-1769886000-1769891400@seasidecreativeart.com
SUMMARY:Seaside Abstract Fluid Art Fun
DESCRIPTION:Fun & Family-Friendly\nAbstract Fluid Art Class \nExplore the magic of color with this exciting\, beginner-friendly fluid art experience! Choose from a wide variety of bases including Wood Dolphins\, Mermaids\, Castles\, Rockets\, Turtles\, Lazy Susans\, Tray Handles\, plus Small to XL Canvases. \nPick your own color palette\, pour freely\, and watch stunning cells\, swirls\, and patterns unfold before your eyes. It’s the perfect class for beginners\, families\, and anyone who wants to relax\, have fun\, and create a truly one-of-a-kind masterpiece. \n✨ Resin is included for a beautiful\, glossy finish.🎨 Step-by-step\, hands-on instruction provided.🧰 All supplies included. \nCost: $45–$155 depending on your base selectionDeposit: $45
URL:https://seasidecreativeart.com/event/seaside-abstract-fluid-art-fun-5/
LOCATION:Seaside Creative Art Studio\, 150 East Columbia Lane\, Cocoa Beach\, FL\, 32931\, United States
CATEGORIES:Classes,FUNctional Abstract Art - Resin Beach Cheese Boards
ATTACH;FMTTYPE=image/png:https://seasidecreativeart.com/wp-content/uploads/2025/11/Screenshot-2025-11-24-192603.png
END:VEVENT
END:VCALENDAR