BEGIN:VCALENDAR
VERSION:2.0
PRODID:-//Seaside Creative Art, Inc - ECPv6.15.20//NONSGML v1.0//EN
CALSCALE:GREGORIAN
METHOD:PUBLISH
X-WR-CALNAME:Seaside Creative Art, Inc
X-ORIGINAL-URL:https://seasidecreativeart.com
X-WR-CALDESC:Events for Seaside Creative Art, Inc
REFRESH-INTERVAL;VALUE=DURATION:PT1H
X-Robots-Tag:noindex
X-PUBLISHED-TTL:PT1H
BEGIN:VTIMEZONE
TZID:America/New_York
BEGIN:DAYLIGHT
TZOFFSETFROM:-0500
TZOFFSETTO:-0400
TZNAME:EDT
DTSTART:20250309T070000
END:DAYLIGHT
BEGIN:STANDARD
TZOFFSETFROM:-0400
TZOFFSETTO:-0500
TZNAME:EST
DTSTART:20251102T060000
END:STANDARD
BEGIN:DAYLIGHT
TZOFFSETFROM:-0500
TZOFFSETTO:-0400
TZNAME:EDT
DTSTART:20260308T070000
END:DAYLIGHT
BEGIN:STANDARD
TZOFFSETFROM:-0400
TZOFFSETTO:-0500
TZNAME:EST
DTSTART:20261101T060000
END:STANDARD
BEGIN:DAYLIGHT
TZOFFSETFROM:-0500
TZOFFSETTO:-0400
TZNAME:EDT
DTSTART:20270314T070000
END:DAYLIGHT
BEGIN:STANDARD
TZOFFSETFROM:-0400
TZOFFSETTO:-0500
TZNAME:EST
DTSTART:20271107T060000
END:STANDARD
END:VTIMEZONE
BEGIN:VEVENT
DTSTART;TZID=America/New_York:20260620T080000
DTEND;TZID=America/New_York:20260620T170000
DTSTAMP:20260423T191112
CREATED:20260329T020637Z
LAST-MODIFIED:20260329T020840Z
UID:10000393-1781942400-1781974800@seasidecreativeart.com
SUMMARY:NEW BARN QUILT  painting class perfect for your patio!
DESCRIPTION:NEW Barn Quilt – Outdoor Painting Class (All Inclusive) (9 hour class\, lunch included) \nCreate a bold decorative barn quilt perfect for your patio\, porch\, or outdoor space. In this all-inclusive class\, you’ll paint a classic geometric barn quilt design on a durable 3′ x 3′ composite board made for outdoor display. Choose your colors and personalize your pattern to match your home décor. \nClass Includes:\n• 3′ x 3′ outdoor composite board\n• All paints and finishing materials\n• Pattern options and design templates\n• Brushes and layout tools\n• Step-by-step guided instruction \nYou’ll Learn:\n• Laying out barn quilt geometric patterns\n• Choosing coordinating color palettes\n• Clean line painting techniques\n• Sealing for outdoor durability \nSkill Level: Beginner friendly\nOutcome: One large outdoor barn quilt ready for patio or exterior display \nDesign a striking piece of outdoor art and add colorful charm to your patio space.
URL:https://seasidecreativeart.com/event/new-barn-quilt-painting-class-perfect-for-your-patio/
LOCATION:Seaside Creative Art Studio\, 150 East Columbia Lane\, Cocoa Beach\, FL\, 32931\, United States
CATEGORIES:Classes
ATTACH;FMTTYPE=image/jpeg:https://seasidecreativeart.com/wp-content/uploads/2026/03/Screenshot-2026-03-28-220041.jpg
END:VEVENT
BEGIN:VEVENT
DTSTART;TZID=America/New_York:20260627T090000
DTEND;TZID=America/New_York:20260627T130000
DTSTAMP:20260423T191112
CREATED:20260329T021829Z
LAST-MODIFIED:20260329T021829Z
UID:10000394-1782550800-1782565200@seasidecreativeart.com
SUMMARY:Seaside Summer Waves Series -  Oil Painting Class
DESCRIPTION:Seaside Summer Waves Series – Mixed Media Painting (All Inclusive) \nPaint a dynamic coastal scene featuring rocky shoreline\, crashing waves\, and distant seagulls. In this all-inclusive  class\, you’ll oil painting  for the sky and rocks\, then enhance the ocean using oil details to create motion\, foam\, and depth. \nClass Includes:\n• Canvas and mixed media supplies\n• Acrylic paints with oil embellishments\n• Brushes and palette tools\n• Step-by-step guided instruction\n• Take-home finished artwork \nYou’ll Learn:\n• Painting rocks with texture and depth\n• Creating crashing wave movement\n• Blending turquoise and deep ocean tones\n• Adding seagulls and coastal details \nSkill Level: Beginner friendly\nOutcome: One completed seaside waves painting ready to display \nCapture the energy of the shoreline with dramatic waves\, textured rocks\, and soaring seagulls.
URL:https://seasidecreativeart.com/event/seaside-summer-waves-series-oil-painting-class/
LOCATION:Seaside Creative Art Studio\, 150 East Columbia Lane\, Cocoa Beach\, FL\, 32931\, United States
CATEGORIES:Classes
ATTACH;FMTTYPE=image/jpeg:https://seasidecreativeart.com/wp-content/uploads/2026/03/Screenshot-2026-03-28-221153.jpg
END:VEVENT
BEGIN:VEVENT
DTSTART;TZID=America/New_York:20260704T090000
DTEND;TZID=America/New_York:20260704T140000
DTSTAMP:20260423T191112
CREATED:20260329T022711Z
LAST-MODIFIED:20260329T023016Z
UID:10000395-1783155600-1783173600@seasidecreativeart.com
SUMMARY:Seaside Summer Wave Series -Mixed Media Painting
DESCRIPTION:Seaside Summer Waves Series – Mixed Media Painting (All Inclusive) \nPaint a tropical coastal scene featuring turquoise Caribbean waters and palm trees swaying in the breeze. In this all-inclusive mixed media class\, you’ll layer acrylics for the sky and shoreline\, then enhance the ocean and palms with oil details for depth\, motion\, and highlights. \nClass Includes:\n• Canvas and mixed media supplies\n• Acrylic paints with oil embellishments\n• Brushes and palette tools\n• Step-by-step guided instruction\n• Take-home finished artwork \nYou’ll Learn:\n• Blending turquoise Caribbean water tones\n• Painting palm trees with movement\n• Creating wave motion and foam\n• Layering acrylics with oil highlights \nSkill Level: Beginner friendly\nOutcome: One completed tropical seaside painting ready to display \nBring the feeling of a breezy island getaway to life with vibrant water and swaying palms.
URL:https://seasidecreativeart.com/event/28066/
LOCATION:Seaside Creative Art Studio\, 150 East Columbia Lane\, Cocoa Beach\, FL\, 32931\, United States
CATEGORIES:Classes
ATTACH;FMTTYPE=image/jpeg:https://seasidecreativeart.com/wp-content/uploads/2026/03/Screenshot-2026-03-28-222031.jpg
END:VEVENT
BEGIN:VEVENT
DTSTART;TZID=America/New_York:20260711T090000
DTEND;TZID=America/New_York:20260711T170000
DTSTAMP:20260423T191112
CREATED:20260329T023738Z
LAST-MODIFIED:20260329T023738Z
UID:10000396-1783760400-1783789200@seasidecreativeart.com
SUMMARY:Seaside Summer Night Waves  Mixed Media Painting Class
DESCRIPTION:Seaside Summer Night Waves – Mixed Media Painting (All Inclusive) * 8 hour class \nCapture the magic of a moonlit shoreline with glowing night skies and shimmering ocean waves. In this all-inclusive mixed media class\, you’ll layer dark acrylics for the night sky and water\, then enhance highlights\, reflections\, and wave textures with oil paints for depth and luminosity. \nClass Includes:\n• Canvas and mixed media supplies\n• Acrylic paints with oil embellishments\n• Brushes and palette tools\n• Step-by-step guided instruction\n• Take-home finished artwork \nYou’ll Learn:\n• Painting night skies with gradient and moonlight effects\n• Creating shimmering water reflections\n• Layering acrylics with oil highlights for waves\n• Adding depth and contrast for dramatic night scenes \nSkill Level: Beginner to Intermediate\nOutcome: One completed moonlit seaside painting ready to display \nBring a serene evening beach to life with glowing waves\, starry skies\, and tranquil coastal ambiance.
URL:https://seasidecreativeart.com/event/seaside-summer-night-waves-mixed-media-painting-class/
LOCATION:Seaside Creative Art Studio\, 150 East Columbia Lane\, Cocoa Beach\, FL\, 32931\, United States
CATEGORIES:Classes
ATTACH;FMTTYPE=image/jpeg:https://seasidecreativeart.com/wp-content/uploads/2026/03/Screenshot-2026-03-28-223232.jpg
END:VEVENT
BEGIN:VEVENT
DTSTART;TZID=America/New_York:20260718T090000
DTEND;TZID=America/New_York:20260718T170000
DTSTAMP:20260423T191112
CREATED:20260329T024526Z
LAST-MODIFIED:20260329T024852Z
UID:10000397-1784365200-1784394000@seasidecreativeart.com
SUMMARY:Seaside Summer Beach Sky  Mixed Media Painting Class
DESCRIPTION:Seaside Summer Beach Sky – Mixed Media Painting (All Inclusive) * 8 hour class  \nPaint a dramatic coastal sky over summer beaches featuring striking lightning and dynamic clouds. In this all-inclusive mixed media class\, you’ll layer acrylics for the sky and shoreline\, then enhance lightning\, highlights\, and wave reflections with oil paints for intensity and depth. \nClass Includes:\n• Canvas and mixed media supplies\n• Acrylic paints with oil embellishments\n• Brushes and palette tools\n• Step-by-step guided instruction\n• Take-home finished artwork \nYou’ll Learn:\n• Painting stormy skies and cloud textures\n• Creating dramatic lightning effects\n• Layering acrylics with oil highlights for dynamic lighting\n• Adding reflective water and shoreline details \nSkill Level: Beginner to Intermediate\nOutcome: One completed dramatic seaside sky painting ready to display \nBring the power and beauty of a summer storm at the beach to life with glowing lightning and atmospheric coastal lighting.
URL:https://seasidecreativeart.com/event/seaside-summer-beach-sky-mixed-media-painting-class/
LOCATION:Seaside Creative Art Studio\, 150 East Columbia Lane\, Cocoa Beach\, FL\, 32931\, United States
CATEGORIES:Classes
ATTACH;FMTTYPE=image/jpeg:https://seasidecreativeart.com/wp-content/uploads/2026/03/Screenshot-2026-03-28-224122.jpg
END:VEVENT
END:VCALENDAR