BEGIN:VCALENDAR
VERSION:2.0
PRODID:-//Seaside Creative Art, Inc - ECPv6.15.20//NONSGML v1.0//EN
CALSCALE:GREGORIAN
METHOD:PUBLISH
X-WR-CALNAME:Seaside Creative Art, Inc
X-ORIGINAL-URL:https://seasidecreativeart.com
X-WR-CALDESC:Events for Seaside Creative Art, Inc
REFRESH-INTERVAL;VALUE=DURATION:PT1H
X-Robots-Tag:noindex
X-PUBLISHED-TTL:PT1H
BEGIN:VTIMEZONE
TZID:America/New_York
BEGIN:DAYLIGHT
TZOFFSETFROM:-0500
TZOFFSETTO:-0400
TZNAME:EDT
DTSTART:20250309T070000
END:DAYLIGHT
BEGIN:STANDARD
TZOFFSETFROM:-0400
TZOFFSETTO:-0500
TZNAME:EST
DTSTART:20251102T060000
END:STANDARD
BEGIN:DAYLIGHT
TZOFFSETFROM:-0500
TZOFFSETTO:-0400
TZNAME:EDT
DTSTART:20260308T070000
END:DAYLIGHT
BEGIN:STANDARD
TZOFFSETFROM:-0400
TZOFFSETTO:-0500
TZNAME:EST
DTSTART:20261101T060000
END:STANDARD
BEGIN:DAYLIGHT
TZOFFSETFROM:-0500
TZOFFSETTO:-0400
TZNAME:EDT
DTSTART:20270314T070000
END:DAYLIGHT
BEGIN:STANDARD
TZOFFSETFROM:-0400
TZOFFSETTO:-0500
TZNAME:EST
DTSTART:20271107T060000
END:STANDARD
END:VTIMEZONE
BEGIN:VEVENT
DTSTART;TZID=America/New_York:20260422T140000
DTEND;TZID=America/New_York:20260422T163000
DTSTAMP:20260422T060723
CREATED:20260328T220321Z
LAST-MODIFIED:20260329T010949Z
UID:10000380-1776866400-1776875400@seasidecreativeart.com
SUMMARY:Beachside Multi Layered Wood Decor Stain & Painting Class
DESCRIPTION:CHOOSE YOUR DESIGN;  Beachside Multi-Layered Wood Décor – Stain & Painting (All Inclusive) \nCreate dimensional coastal wood art featuring your choice of Dolphin\, Mermaid\, or Turtle designs. This hands-on class combines staining\, painting\, and layering techniques for eye-catching beach décor. \nClass Includes:\n• Multi-layered wood pieces (choose one design per project)\n• Paints\, stains\, and finishing materials\n• Brushes\, assembly tools\, and adhesives\n• Step-by-step guided instruction\n• Take-home completed artwork \nYou’ll Learn:\n• Staining and painting layered wood\n• Blending colors and adding highlights\n• Layer alignment and assembly\n• Finishing techniques for display \nSkill Level: Beginner friendly\nOutcome: One completed multi-layered wood coastal décor piece ready to hang \nPaint\, stain\, and assemble your favorite beach-themed design for a personalized coastal accent.
URL:https://seasidecreativeart.com/event/beachside-multi-layered-wood-decor-stain-painting-class/
LOCATION:Seaside Creative Art Studio\, 150 East Columbia Lane\, Cocoa Beach\, FL\, 32931\, United States
CATEGORIES:Classes,Mulit-Layered Wood Decor
ATTACH;FMTTYPE=image/jpeg:https://seasidecreativeart.com/wp-content/uploads/2026/03/Screenshot-2026-03-28-175842.jpg
END:VEVENT
END:VCALENDAR