BEGIN:VCALENDAR
VERSION:2.0
PRODID:-//Seaside Creative Art, Inc - ECPv6.15.20//NONSGML v1.0//EN
CALSCALE:GREGORIAN
METHOD:PUBLISH
X-ORIGINAL-URL:https://seasidecreativeart.com
X-WR-CALDESC:Events for Seaside Creative Art, Inc
REFRESH-INTERVAL;VALUE=DURATION:PT1H
X-Robots-Tag:noindex
X-PUBLISHED-TTL:PT1H
BEGIN:VTIMEZONE
TZID:America/New_York
BEGIN:DAYLIGHT
TZOFFSETFROM:-0500
TZOFFSETTO:-0400
TZNAME:EDT
DTSTART:20250309T070000
END:DAYLIGHT
BEGIN:STANDARD
TZOFFSETFROM:-0400
TZOFFSETTO:-0500
TZNAME:EST
DTSTART:20251102T060000
END:STANDARD
BEGIN:DAYLIGHT
TZOFFSETFROM:-0500
TZOFFSETTO:-0400
TZNAME:EDT
DTSTART:20260308T070000
END:DAYLIGHT
BEGIN:STANDARD
TZOFFSETFROM:-0400
TZOFFSETTO:-0500
TZNAME:EST
DTSTART:20261101T060000
END:STANDARD
BEGIN:DAYLIGHT
TZOFFSETFROM:-0500
TZOFFSETTO:-0400
TZNAME:EDT
DTSTART:20270314T070000
END:DAYLIGHT
BEGIN:STANDARD
TZOFFSETFROM:-0400
TZOFFSETTO:-0500
TZNAME:EST
DTSTART:20271107T060000
END:STANDARD
END:VTIMEZONE
BEGIN:VEVENT
DTSTART;TZID=America/New_York:20260718T090000
DTEND;TZID=America/New_York:20260718T170000
DTSTAMP:20260423T171910
CREATED:20260329T024526Z
LAST-MODIFIED:20260329T024852Z
UID:10000397-1784365200-1784394000@seasidecreativeart.com
SUMMARY:Seaside Summer Beach Sky  Mixed Media Painting Class
DESCRIPTION:Seaside Summer Beach Sky – Mixed Media Painting (All Inclusive) * 8 hour class  \nPaint a dramatic coastal sky over summer beaches featuring striking lightning and dynamic clouds. In this all-inclusive mixed media class\, you’ll layer acrylics for the sky and shoreline\, then enhance lightning\, highlights\, and wave reflections with oil paints for intensity and depth. \nClass Includes:\n• Canvas and mixed media supplies\n• Acrylic paints with oil embellishments\n• Brushes and palette tools\n• Step-by-step guided instruction\n• Take-home finished artwork \nYou’ll Learn:\n• Painting stormy skies and cloud textures\n• Creating dramatic lightning effects\n• Layering acrylics with oil highlights for dynamic lighting\n• Adding reflective water and shoreline details \nSkill Level: Beginner to Intermediate\nOutcome: One completed dramatic seaside sky painting ready to display \nBring the power and beauty of a summer storm at the beach to life with glowing lightning and atmospheric coastal lighting.
URL:https://seasidecreativeart.com/event/seaside-summer-beach-sky-mixed-media-painting-class/
LOCATION:Seaside Creative Art Studio\, 150 East Columbia Lane\, Cocoa Beach\, FL\, 32931\, United States
CATEGORIES:Classes
ATTACH;FMTTYPE=image/jpeg:https://seasidecreativeart.com/wp-content/uploads/2026/03/Screenshot-2026-03-28-224122.jpg
END:VEVENT
END:VCALENDAR