BEGIN:VCALENDAR
VERSION:2.0
PRODID:-//Seaside Creative Art, Inc - ECPv6.15.20//NONSGML v1.0//EN
CALSCALE:GREGORIAN
METHOD:PUBLISH
X-WR-CALNAME:Seaside Creative Art, Inc
X-ORIGINAL-URL:https://seasidecreativeart.com
X-WR-CALDESC:Events for Seaside Creative Art, Inc
REFRESH-INTERVAL;VALUE=DURATION:PT1H
X-Robots-Tag:noindex
X-PUBLISHED-TTL:PT1H
BEGIN:VTIMEZONE
TZID:America/New_York
BEGIN:DAYLIGHT
TZOFFSETFROM:-0500
TZOFFSETTO:-0400
TZNAME:EDT
DTSTART:20240310T070000
END:DAYLIGHT
BEGIN:STANDARD
TZOFFSETFROM:-0400
TZOFFSETTO:-0500
TZNAME:EST
DTSTART:20241103T060000
END:STANDARD
BEGIN:DAYLIGHT
TZOFFSETFROM:-0500
TZOFFSETTO:-0400
TZNAME:EDT
DTSTART:20250309T070000
END:DAYLIGHT
BEGIN:STANDARD
TZOFFSETFROM:-0400
TZOFFSETTO:-0500
TZNAME:EST
DTSTART:20251102T060000
END:STANDARD
BEGIN:DAYLIGHT
TZOFFSETFROM:-0500
TZOFFSETTO:-0400
TZNAME:EDT
DTSTART:20260308T070000
END:DAYLIGHT
BEGIN:STANDARD
TZOFFSETFROM:-0400
TZOFFSETTO:-0500
TZNAME:EST
DTSTART:20261101T060000
END:STANDARD
END:VTIMEZONE
BEGIN:VEVENT
DTSTART;TZID=America/New_York:20250729T090000
DTEND;TZID=America/New_York:20250729T120000
DTSTAMP:20260425T000911
CREATED:20250521T162422Z
LAST-MODIFIED:20250521T162422Z
UID:10000229-1753779600-1753790400@seasidecreativeart.com
SUMMARY:Rose Elegance
DESCRIPTION: Celebrate the Grace of Blooming Beauty \nExperience the delicate charm of white and orange roses as you create a stunning floral arrangement that brightens any room. This elegant design captures the soft petals and vibrant hues of roses in full bloom\, bringing a touch of nature’s artistry indoors. Perfect for all skill levels\, this project invites creativity and relaxation. \nAll supplies are included: fresh white and orange roses\, a stylish vase\, floral foam\, scissors\, and decorative accents. \nNo experience needed—just a love for flowers and beauty. Ages 4+. Join us and bloom with Rose Elegance!
URL:https://seasidecreativeart.com/event/rose-elegance/
LOCATION:Seaside Creative Art Studio\, 150 East Columbia Lane\, Cocoa Beach\, FL\, 32931\, United States
CATEGORIES:Classes
ATTACH;FMTTYPE=image/jpeg:https://seasidecreativeart.com/wp-content/uploads/2025/05/July-29-9-12pm.jpg
END:VEVENT
BEGIN:VEVENT
DTSTART;TZID=America/New_York:20250731T140000
DTEND;TZID=America/New_York:20250731T170000
DTSTAMP:20260425T000911
CREATED:20250521T164741Z
LAST-MODIFIED:20250521T164741Z
UID:10000230-1753970400-1753981200@seasidecreativeart.com
SUMMARY:Tropical Walk
DESCRIPTION:Escape into a Tropical Walk \nStep into a world of lush colors and island vibes with this vibrant floral arrangement experience. Inspired by the beauty of a tropical path lined with exotic blooms\, participants will create a lively display that brings the warmth and wonder of the tropics into any room. \nBright\, fresh flowers in bold\, sun-soaked hues capture the spirit of a breezy seaside stroll. This creative and relaxing activity is perfect for all skill levels and offers a refreshing way to connect with nature’s bold palette. \nAll supplies are included: a selection of tropical-inspired flowers\, a stylish vase\, floral foam\, scissors\, and decorative accents. \nNo experience needed—just a love for color and creativity. Ages 4+. Come take a Tropical Walk and let your imagination bloom!
URL:https://seasidecreativeart.com/event/tropical-walk/
LOCATION:Seaside Creative Art Studio\, 150 East Columbia Lane\, Cocoa Beach\, FL\, 32931\, United States
CATEGORIES:Classes
ATTACH;FMTTYPE=image/jpeg:https://seasidecreativeart.com/wp-content/uploads/2025/05/July-31-Acrylic-2-5-pm.jpg
END:VEVENT
BEGIN:VEVENT
DTSTART;TZID=America/New_York:20250801T160000
DTEND;TZID=America/New_York:20250801T180000
DTSTAMP:20260425T000911
CREATED:20250521T180931Z
LAST-MODIFIED:20250613T183442Z
UID:10000231-1754064000-1754071200@seasidecreativeart.com
SUMMARY:Midnight Shore
DESCRIPTION:Embrace the Mystery of Midnight Shore \nExperience the serene allure of moonlit waves and coastal charm as you create a floral arrangement inspired by the quiet beauty of the shore at night. Deep\, moody hues blend with soft textures to evoke the calm and elegance of a midnight seaside stroll. \nThis captivating design features flowers in cool\, twilight tones—perfect for setting a tranquil mood in any space. Ideal for all skill levels\, this project invites participants to unwind and express their creativity through nature’s more mysterious palette. \nAll supplies are included: fresh flowers in deep blues\, purples\, and soft neutrals\, a stylish vase\, floral foam\, scissors\, and decorative accents. \nNo experience needed—just an appreciation for beauty and the magic of the coast. Ages 4+. Join us and create your own Midnight Shore masterpiece.
URL:https://seasidecreativeart.com/event/midnight-shore/
LOCATION:Seaside Creative Art Studio\, 150 East Columbia Lane\, Cocoa Beach\, FL\, 32931\, United States
CATEGORIES:Classes,On the BEACH Class
ATTACH;FMTTYPE=image/jpeg:https://seasidecreativeart.com/wp-content/uploads/2025/05/August-1-scaled.jpg
END:VEVENT
BEGIN:VEVENT
DTSTART;TZID=America/New_York:20250802T090000
DTEND;TZID=America/New_York:20250802T120000
DTSTAMP:20260425T000911
CREATED:20250521T182211Z
LAST-MODIFIED:20250521T182211Z
UID:10000232-1754125200-1754136000@seasidecreativeart.com
SUMMARY:Hibiscus Bloom
DESCRIPTION:Capture the vibrant charm of the tropics with Hibiscus Bloom\, a painting that celebrates the radiant beauty of the pink hibiscus flower. With its delicate petals and bold color\, this artwork brings a fresh\, island-inspired energy to any space. Ideal for all skill levels\, this creative session encourages relaxation and self-expression through vivid brushstrokes and floral elegance. No experience needed—just a love for color and creativity. All materials are included. Ages 4+. Let your imagination bloom!
URL:https://seasidecreativeart.com/event/hibiscus-bloom/
LOCATION:Seaside Creative Art Studio\, 150 East Columbia Lane\, Cocoa Beach\, FL\, 32931\, United States
CATEGORIES:Classes
ATTACH;FMTTYPE=image/jpeg:https://seasidecreativeart.com/wp-content/uploads/2025/05/August-2-9-12pm.jpg
END:VEVENT
END:VCALENDAR