BEGIN:VCALENDAR
VERSION:2.0
PRODID:-//Seaside Creative Art, Inc - ECPv6.15.20//NONSGML v1.0//EN
CALSCALE:GREGORIAN
METHOD:PUBLISH
X-WR-CALNAME:Seaside Creative Art, Inc
X-ORIGINAL-URL:https://seasidecreativeart.com
X-WR-CALDESC:Events for Seaside Creative Art, Inc
REFRESH-INTERVAL;VALUE=DURATION:PT1H
X-Robots-Tag:noindex
X-PUBLISHED-TTL:PT1H
BEGIN:VTIMEZONE
TZID:America/New_York
BEGIN:DAYLIGHT
TZOFFSETFROM:-0500
TZOFFSETTO:-0400
TZNAME:EDT
DTSTART:20240310T070000
END:DAYLIGHT
BEGIN:STANDARD
TZOFFSETFROM:-0400
TZOFFSETTO:-0500
TZNAME:EST
DTSTART:20241103T060000
END:STANDARD
BEGIN:DAYLIGHT
TZOFFSETFROM:-0500
TZOFFSETTO:-0400
TZNAME:EDT
DTSTART:20250309T070000
END:DAYLIGHT
BEGIN:STANDARD
TZOFFSETFROM:-0400
TZOFFSETTO:-0500
TZNAME:EST
DTSTART:20251102T060000
END:STANDARD
BEGIN:DAYLIGHT
TZOFFSETFROM:-0500
TZOFFSETTO:-0400
TZNAME:EDT
DTSTART:20260308T070000
END:DAYLIGHT
BEGIN:STANDARD
TZOFFSETFROM:-0400
TZOFFSETTO:-0500
TZNAME:EST
DTSTART:20261101T060000
END:STANDARD
END:VTIMEZONE
BEGIN:VEVENT
DTSTART;TZID=America/New_York:20251024T173000
DTEND;TZID=America/New_York:20251024T203000
DTSTAMP:20260424T222932
CREATED:20251015T204051Z
LAST-MODIFIED:20251015T204051Z
UID:10000268-1761327000-1761337800@seasidecreativeart.com
SUMMARY:Hidden Pirate Ship Painting Class
DESCRIPTION:Set sail on a creative adventure! In this exciting oil painting class\, you’ll uncover the mystery of a hidden pirate ship amidst vibrant\, dynamic colors and textures. Golden hues with mountain escape will provide you with the perfect escape! Art is HEALING. \nWith all materials included—from a large canvas to premium oil paints—and hands-on instruction\, you’ll learn layering techniques that bring this legendary ship to life. Perfect for all skill levels\, you’ll leave with a masterpiece that tells a story and sparks imagination. \nPLUS! Enjoy our Paint and Dip Snack to keep your creative energy high. \nWhat you’ll get: \n\n\nLarge canvas and quality oil paints provided \n\n\nStep-by-step\, hands-on guidance \n\n\nTechniques for vibrant color layering and brushwork \n\n\nA delicious snack break with Paint and Dip treats \n\n\nJoin us and create your own treasure — a painting that’s sure to be a favorite!
URL:https://seasidecreativeart.com/event/hidden-pirate-ship-painting-class/
LOCATION:Seaside Creative Art Studio\, 150 East Columbia Lane\, Cocoa Beach\, FL\, 32931\, United States
CATEGORIES:Classes
ATTACH;FMTTYPE=image/png:https://seasidecreativeart.com/wp-content/uploads/2025/09/Hidden-Pirate-Ship.png
END:VEVENT
BEGIN:VEVENT
DTSTART;TZID=America/New_York:20251025T180000
DTEND;TZID=America/New_York:20251025T200000
DTSTAMP:20260424T222932
CREATED:20251015T204843Z
LAST-MODIFIED:20251015T204843Z
UID:10000269-1761415200-1761422400@seasidecreativeart.com
SUMMARY:Bossy the Cow in ACRYLICS
DESCRIPTION:Paint Bossy the Cow in Acrylics — Family Fun Class! \nGet ready for a day full of laughter\, creativity\, and colorful fun! Join us as we paint Bossy the Cow\, a quirky and lovable character brought to life with bright acrylics. \nThis class is perfect for all ages — whether you’re a kid\, a parent\, or just young at heart! With easy-to-follow instructions\, everyone will walk away with their very own fun masterpiece and big smiles. \nWhat to expect: \n\n\nAll acrylic paints and materials provided \n\n\nStep-by-step guidance for painters of all skill levels \n\n\nA lively\, relaxed\, and joyful atmosphere \n\n\nFamily-friendly fun — bring the whole crew! \n\n\nCome make memories and masterpieces together — laughter guaranteed!
URL:https://seasidecreativeart.com/event/bossy-the-cow-in-acrylics/
LOCATION:Seaside Creative Art Studio\, 150 East Columbia Lane\, Cocoa Beach\, FL\, 32931\, United States
CATEGORIES:Classes
ATTACH;FMTTYPE=image/jpeg:https://seasidecreativeart.com/wp-content/uploads/2025/10/Screenshot_20251015_070114_Chrome-scaled.jpg
END:VEVENT
END:VCALENDAR