BEGIN:VCALENDAR
VERSION:2.0
PRODID:-//Seaside Creative Art, Inc - ECPv6.15.20//NONSGML v1.0//EN
CALSCALE:GREGORIAN
METHOD:PUBLISH
X-ORIGINAL-URL:https://seasidecreativeart.com
X-WR-CALDESC:Events for Seaside Creative Art, Inc
REFRESH-INTERVAL;VALUE=DURATION:PT1H
X-Robots-Tag:noindex
X-PUBLISHED-TTL:PT1H
BEGIN:VTIMEZONE
TZID:America/New_York
BEGIN:DAYLIGHT
TZOFFSETFROM:-0500
TZOFFSETTO:-0400
TZNAME:EDT
DTSTART:20240310T070000
END:DAYLIGHT
BEGIN:STANDARD
TZOFFSETFROM:-0400
TZOFFSETTO:-0500
TZNAME:EST
DTSTART:20241103T060000
END:STANDARD
BEGIN:DAYLIGHT
TZOFFSETFROM:-0500
TZOFFSETTO:-0400
TZNAME:EDT
DTSTART:20250309T070000
END:DAYLIGHT
BEGIN:STANDARD
TZOFFSETFROM:-0400
TZOFFSETTO:-0500
TZNAME:EST
DTSTART:20251102T060000
END:STANDARD
BEGIN:DAYLIGHT
TZOFFSETFROM:-0500
TZOFFSETTO:-0400
TZNAME:EDT
DTSTART:20260308T070000
END:DAYLIGHT
BEGIN:STANDARD
TZOFFSETFROM:-0400
TZOFFSETTO:-0500
TZNAME:EST
DTSTART:20261101T060000
END:STANDARD
END:VTIMEZONE
BEGIN:VEVENT
DTSTART;TZID=America/New_York:20251114T170000
DTEND;TZID=America/New_York:20251114T200000
DTSTAMP:20260424T204111
CREATED:20251016T171921Z
LAST-MODIFIED:20251016T172224Z
UID:10000275-1763139600-1763150400@seasidecreativeart.com
SUMMARY:Where the Sea Meets Stone
DESCRIPTION:Ocean Painting Workshop – Waves & Rocks in Mixed Media of Acrylic and Oils \nStep into serenity and paint the poetry of the coast in this immersive acrylic art class. In “Where the Sea Meets Stone\,” you’ll capture the power and calm of the shoreline—rolling waves\, rocky outcrops\, and endless skies—all with a brush in hand. \nWhether you’re a beginner or a practiced painter\, this class invites you to slow down\, explore texture and light\, and walk away with a frame-worthy seascape all your own. \nIn This Class\, You’ll Learn:\n\n\nTechniques for painting dynamic ocean waves and foamy surf \n\n\nHow to build rocky textures and depth using brush and palette knife \n\n\nBlending methods for skies\, water\, and sand \n\n\nComposition tips to create balance and movement in coastal scenes \n\n\nThe emotional impact of color\, contrast\, and natural forms \n\n\n\n🖌️ What’s Included:\n\nDip and Paint Snack: Famous Dip with Chips and Vegtables; \n\nAll art materials: professional-grade acrylic & oil paints\, brushes\, tools\, and canvas (11×14 ) \n\n\nPre-sketched and Prepped canvas \n\n\nStep-by-step\, encouraging instruction from an experienced artist \n\n\nYour finished coastal painting to take home \n\n\nA peaceful\, supportive environment to relax and create \nOptional Upgrades:\n\n\nLarger canvas sizes – from $10 \n\n\nPalette knife texture detailing – $5 \n\n\nFraming or varnishing options available on-site
URL:https://seasidecreativeart.com/event/where-the-sea-meets-stone/
LOCATION:Seaside Creative Art Studio\, 150 East Columbia Lane\, Cocoa Beach\, FL\, 32931\, United States
CATEGORIES:Classes
ATTACH;FMTTYPE=image/jpeg:https://seasidecreativeart.com/wp-content/uploads/2025/01/Modern-Aesthetic-Medical-Care-Consultation-Video-Facebook-Post-33.jpg
END:VEVENT
END:VCALENDAR