BEGIN:VCALENDAR
VERSION:2.0
PRODID:-//Seaside Creative Art, Inc - ECPv6.15.20//NONSGML v1.0//EN
CALSCALE:GREGORIAN
METHOD:PUBLISH
X-WR-CALNAME:Seaside Creative Art, Inc
X-ORIGINAL-URL:https://seasidecreativeart.com
X-WR-CALDESC:Events for Seaside Creative Art, Inc
REFRESH-INTERVAL;VALUE=DURATION:PT1H
X-Robots-Tag:noindex
X-PUBLISHED-TTL:PT1H
BEGIN:VTIMEZONE
TZID:America/New_York
BEGIN:DAYLIGHT
TZOFFSETFROM:-0500
TZOFFSETTO:-0400
TZNAME:EDT
DTSTART:20250309T070000
END:DAYLIGHT
BEGIN:STANDARD
TZOFFSETFROM:-0400
TZOFFSETTO:-0500
TZNAME:EST
DTSTART:20251102T060000
END:STANDARD
BEGIN:DAYLIGHT
TZOFFSETFROM:-0500
TZOFFSETTO:-0400
TZNAME:EDT
DTSTART:20260308T070000
END:DAYLIGHT
BEGIN:STANDARD
TZOFFSETFROM:-0400
TZOFFSETTO:-0500
TZNAME:EST
DTSTART:20261101T060000
END:STANDARD
BEGIN:DAYLIGHT
TZOFFSETFROM:-0500
TZOFFSETTO:-0400
TZNAME:EDT
DTSTART:20270314T070000
END:DAYLIGHT
BEGIN:STANDARD
TZOFFSETFROM:-0400
TZOFFSETTO:-0500
TZNAME:EST
DTSTART:20271107T060000
END:STANDARD
END:VTIMEZONE
BEGIN:VEVENT
DTSTART;TZID=America/New_York:20260112T170000
DTEND;TZID=America/New_York:20260112T183000
DTSTAMP:20260424T113534
CREATED:20251125T005025Z
LAST-MODIFIED:20251125T005358Z
UID:10000321-1768237200-1768242600@seasidecreativeart.com
SUMMARY:Seaside Abstract Fluid Art Fun
DESCRIPTION:Fun & Family-Friendly\nAbstract Fluid Art Class \nExplore the magic of color with this exciting\, beginner-friendly fluid art experience! Choose from a wide variety of bases including Wood Dolphins\, Mermaids\, Castles\, Rockets\, Turtles\, Lazy Susans\, Tray Handles\, plus Small to XL Canvases. \nPick your own color palette\, pour freely\, and watch stunning cells\, swirls\, and patterns unfold before your eyes. It’s the perfect class for beginners\, families\, and anyone who wants to relax\, have fun\, and create a truly one-of-a-kind masterpiece. \n✨ Resin is included for a beautiful\, glossy finish.🎨 Step-by-step\, hands-on instruction provided.🧰 All supplies included. \nCost: $45–$155 depending on your base selectionDeposit: $45
URL:https://seasidecreativeart.com/event/seaside-abstract-fluid-art-fun/
LOCATION:Seaside Creative Art Studio\, 150 East Columbia Lane\, Cocoa Beach\, FL\, 32931\, United States
CATEGORIES:Classes,FUNctional Abstract Art - Resin Beach Cheese Boards
ATTACH;FMTTYPE=image/png:https://seasidecreativeart.com/wp-content/uploads/2025/11/Screenshot-2025-11-24-192603.png
END:VEVENT
BEGIN:VEVENT
DTSTART;TZID=America/New_York:20260114T160000
DTEND;TZID=America/New_York:20260114T200000
DTSTAMP:20260424T113534
CREATED:20251124T213822Z
LAST-MODIFIED:20251124T213822Z
UID:10000296-1768406400-1768420800@seasidecreativeart.com
SUMMARY:Stepping Stone Path – Spring Woods Oil Painting Class
DESCRIPTION:Wood Bridge • Creek Reflections • Wild Spring Plants \nEscape into a peaceful landscape as you paint a meandering stepping-stone path leading over a charming wooden bridge that crosses a sparkling creek. Lush spring-color woods\, soft new leaves\, and wild plants surround the scene\, creating a sense of calm and renewal. \nPerfect for all skill levels\, this class guides you step-by-step through building depth\, light\, and movement in a forest setting. \nYou Will Learn: \n\n\nCreating a winding stepping-stone path that draws the eye \n\n\nPainting a rustic wood bridge with soft creek reflections \n\n\nLayering spring greens\, soft pastels\, and bright woodland colors \n\n\nAdding depth with overlapping trees\, plants\, and shadows \n\n\nHighlight techniques for water\, rocks\, and foliage \n\n\nBlending colors to create a serene spring atmosphere \n\n\n All supplies included.  Beginner-friendly\, step-by-step instructions. Take home a dreamy landscape
URL:https://seasidecreativeart.com/event/stepping-stone-path-spring-woods-oil-painting-class/
LOCATION:Seaside Creative Art Studio\, 150 East Columbia Lane\, Cocoa Beach\, FL\, 32931\, United States
CATEGORIES:Classes
ATTACH;FMTTYPE=image/png:https://seasidecreativeart.com/wp-content/uploads/2025/11/Screenshot-2025-11-24-160218-1.png
END:VEVENT
BEGIN:VEVENT
DTSTART;TZID=America/New_York:20260116T140000
DTEND;TZID=America/New_York:20260116T163000
DTSTAMP:20260424T113534
CREATED:20260114T023208Z
LAST-MODIFIED:20260115T141249Z
UID:10000363-1768572000-1768581000@seasidecreativeart.com
SUMMARY:Private Event Girls Weekend
DESCRIPTION:Layered Wood Home Decor Art Class; Turtles and SeaHorses \nAll Supplies included
URL:https://seasidecreativeart.com/event/private-event-girls-weekend/
LOCATION:Seaside Creative Art Studio\, 150 East Columbia Lane\, Cocoa Beach\, FL\, 32931\, United States
CATEGORIES:Classes
ATTACH;FMTTYPE=image/png:https://seasidecreativeart.com/wp-content/uploads/2025/11/Screenshot-2025-11-24-111925.png
END:VEVENT
BEGIN:VEVENT
DTSTART;TZID=America/New_York:20260116T180000
DTEND;TZID=America/New_York:20260116T210000
DTSTAMP:20260424T113534
CREATED:20251125T012938Z
LAST-MODIFIED:20251125T012938Z
UID:10000331-1768586400-1768597200@seasidecreativeart.com
SUMMARY:Mountain Escape Waterfall Oil Painting
DESCRIPTION:Mountain Escape – Oil Painting Class\nCascading Waterfall • Soft Mist • Sunlit Peaks • Cool Mountain Air \nStep into a peaceful mountain world as you paint a breathtaking cascading waterfall surrounded by soft mist\, glowing sunlight\, and distant blue-toned mountains. This oil painting class blends serenity with scenic beauty—perfect for anyone who loves landscapes. \nYou’ll learn how to create the feeling of cool mountain air drifting off the stream\, using soft brushwork\, atmospheric depth\, and gentle wet-on-wet blending. \nYou Will Learn: \n\n\nPainting a multi-layered mountain range with distant haze \n\n\nCreating a luminous waterfall with movement and flow \n\n\nSoftening mist as it rises from the stream \n\n\nUsing light and shadow for a glowing sunlight effect \n\n\nBlending oils to create smooth\, airy transitions \n\n\nAdding cool highlights to make the water feel crisp and refreshing \n\n\n🎨 All supplies included👩‍🏫 Step-by-step instruction❄️ Leave with a calming mountain escape you can almost feel
URL:https://seasidecreativeart.com/event/mountain-escape-waterfall-oil-painting/
LOCATION:Seaside Creative Art Studio\, 150 East Columbia Lane\, Cocoa Beach\, FL\, 32931\, United States
CATEGORIES:Classes
ATTACH;FMTTYPE=image/png:https://seasidecreativeart.com/wp-content/uploads/2025/11/Screenshot-2025-11-24-165857.png
END:VEVENT
BEGIN:VEVENT
DTSTART;TZID=America/New_York:20260117T090000
DTEND;TZID=America/New_York:20260117T123000
DTSTAMP:20260424T113534
CREATED:20251125T013936Z
LAST-MODIFIED:20251125T013936Z
UID:10000332-1768640400-1768653000@seasidecreativeart.com
SUMMARY:Midnight Seascape Oil Painting
DESCRIPTION:Midnight Seascape – Oil/Acrylic Black Background \nFull Moon • Turquoise Rolling Waves • Coastal Stones \nCreate a mesmerizing nighttime ocean scene filled with glowing moonlight and shimmering turquoise waves. In this relaxing\, step-by-step class\, you’ll paint a peaceful midnight seascape featuring a bright full moon\, soft rolling surf\, and smooth stones along the beach. \nThis project is perfect for beginners and experienced painters who love the magic of moonlit water. \nYou Will Learn: \n\n\nPainting a radiant full moon with glowing halos \n\n\nBlending a midnight sky with deep blues and soft stars \n\n\nCreating turquoise waves that roll and sparkle \n\n\nAdding water foam\, reflections\, and shoreline movement \n\n\nPainting beach stones with subtle highlights and textures \n\n\nUsing layering and blending techniques for a moody\, magical finish \n\n\n🎨 All supplies included👩‍🏫 Step-by-step\, beginner-friendly instruction🌊 Leave with a peaceful nighttime ocean painting you’ll love!
URL:https://seasidecreativeart.com/event/midnight-seascape-oil-painting/
LOCATION:Seaside Creative Art Studio\, 150 East Columbia Lane\, Cocoa Beach\, FL\, 32931\, United States
CATEGORIES:Classes
ATTACH;FMTTYPE=image/png:https://seasidecreativeart.com/wp-content/uploads/2025/11/Screenshot-2025-11-24-203401.png
END:VEVENT
BEGIN:VEVENT
DTSTART;TZID=America/New_York:20260117T130000
DTEND;TZID=America/New_York:20260117T153000
DTSTAMP:20260424T113534
CREATED:20251125T005849Z
LAST-MODIFIED:20251125T010205Z
UID:10000323-1768654800-1768663800@seasidecreativeart.com
SUMMARY:Seaside Resin Chacuterie Board Class
DESCRIPTION:All Welcome! \nDive into creativity and design your own stunning\, coastal-inspired resin charcuterie board in this fun\, hands-on class! With guided\, step-by-step instruction\, you’ll learn how to blend ocean blues\, waves\, and shimmering details to create a board that feels like a piece of the beach. \nChoose from a variety of unique board options—Olive Tree\, Surfboard shape\, Walnut\, and more—each giving you the chance to craft a one-of-a-kind piece that fits your personal style. \nHere is what you can expect: \n\n\nChoose your board style: Olive Tree\, Surfboard\, Walnut\, and others \n\n\nUpgrade options available: Larger board sizes\, premium wood types \n\n\nPersonalize your creation: Optional laser engraving adds a special touch \n\n\nEverything included: Wood\, resin\, pigments\, tools\, and full instruction \n\n\nJust bring your creativity—you’ll have with a beautiful coastal charcuterie board you’ll be proud to display or gift!
URL:https://seasidecreativeart.com/event/seaside-resin-chacuterie-board-class-4/
LOCATION:Seaside Creative Art Studio\, 150 East Columbia Lane\, Cocoa Beach\, FL\, 32931\, United States
CATEGORIES:Classes,FUNctional Abstract Art - Resin Beach Cheese Boards
ATTACH;FMTTYPE=image/png:https://seasidecreativeart.com/wp-content/uploads/2025/11/Screenshot-2025-11-24-125947.png
END:VEVENT
BEGIN:VEVENT
DTSTART;TZID=America/New_York:20260117T170000
DTEND;TZID=America/New_York:20260117T190000
DTSTAMP:20260424T113534
CREATED:20251125T005724Z
LAST-MODIFIED:20251125T005724Z
UID:10000322-1768669200-1768676400@seasidecreativeart.com
SUMMARY:Seaside Abstract Fluid Art Fun
DESCRIPTION:Fun & Family-Friendly\nAbstract Fluid Art Class \nExplore the magic of color with this exciting\, beginner-friendly fluid art experience! Choose from a wide variety of bases including Wood Dolphins\, Mermaids\, Castles\, Rockets\, Turtles\, Lazy Susans\, Tray Handles\, plus Small to XL Canvases. \nPick your own color palette\, pour freely\, and watch stunning cells\, swirls\, and patterns unfold before your eyes. It’s the perfect class for beginners\, families\, and anyone who wants to relax\, have fun\, and create a truly one-of-a-kind masterpiece. \n✨ Resin is included for a beautiful\, glossy finish.🎨 Step-by-step\, hands-on instruction provided.🧰 All supplies included. \nCost: $45–$155 depending on your base selectionDeposit: $45
URL:https://seasidecreativeart.com/event/seaside-abstract-fluid-art-fun-2/
LOCATION:Seaside Creative Art Studio\, 150 East Columbia Lane\, Cocoa Beach\, FL\, 32931\, United States
CATEGORIES:Classes,FUNctional Abstract Art - Resin Beach Cheese Boards
ATTACH;FMTTYPE=image/png:https://seasidecreativeart.com/wp-content/uploads/2025/11/Screenshot-2025-11-24-192603.png
END:VEVENT
END:VCALENDAR