BEGIN:VCALENDAR
VERSION:2.0
PRODID:-//Seaside Creative Art, Inc - ECPv6.15.20//NONSGML v1.0//EN
CALSCALE:GREGORIAN
METHOD:PUBLISH
X-WR-CALNAME:Seaside Creative Art, Inc
X-ORIGINAL-URL:https://seasidecreativeart.com
X-WR-CALDESC:Events for Seaside Creative Art, Inc
REFRESH-INTERVAL;VALUE=DURATION:PT1H
X-Robots-Tag:noindex
X-PUBLISHED-TTL:PT1H
BEGIN:VTIMEZONE
TZID:America/New_York
BEGIN:DAYLIGHT
TZOFFSETFROM:-0500
TZOFFSETTO:-0400
TZNAME:EDT
DTSTART:20250309T070000
END:DAYLIGHT
BEGIN:STANDARD
TZOFFSETFROM:-0400
TZOFFSETTO:-0500
TZNAME:EST
DTSTART:20251102T060000
END:STANDARD
BEGIN:DAYLIGHT
TZOFFSETFROM:-0500
TZOFFSETTO:-0400
TZNAME:EDT
DTSTART:20260308T070000
END:DAYLIGHT
BEGIN:STANDARD
TZOFFSETFROM:-0400
TZOFFSETTO:-0500
TZNAME:EST
DTSTART:20261101T060000
END:STANDARD
BEGIN:DAYLIGHT
TZOFFSETFROM:-0500
TZOFFSETTO:-0400
TZNAME:EDT
DTSTART:20270314T070000
END:DAYLIGHT
BEGIN:STANDARD
TZOFFSETFROM:-0400
TZOFFSETTO:-0500
TZNAME:EST
DTSTART:20271107T060000
END:STANDARD
END:VTIMEZONE
BEGIN:VEVENT
DTSTART;TZID=America/New_York:20260401T180000
DTEND;TZID=America/New_York:20260401T210000
DTSTAMP:20260423T185540
CREATED:20260328T182911Z
LAST-MODIFIED:20260328T183239Z
UID:10000366-1775066400-1775077200@seasidecreativeart.com
SUMMARY:Beach Swirl Acrylic Painting\, Embellish with Oils
DESCRIPTION:Acrylic Swirl Painting with Oil Embellishments \nCreate a dynamic\, flowing abstract painting using acrylic swirl techniques\, then elevate your artwork with rich oil paint embellishments. In this hands-on class\, you’ll explore color movement\, layering\, and texture while learning how to combine fast-drying acrylics with slow-blending oils for stunning visual depth. \nParticipants will begin with acrylic paint to form beautiful swirl patterns on canvas. Once the base layer is set\, you’ll add refined details using oil paints—enhancing highlights\, soft blends\, and dimensional textures. This mixed-media approach allows for both expressive freedom and thoughtful finishing touches. \nYou’ll Learn:\n• Acrylic swirl and flow techniques\n• Color harmony and movement\n• Layering for depth and dimension\n• Oil paint embellishment methods\n• Highlighting and finishing techniques\n• Tips for drying\, sealing\, and display \nSkill Level: Beginner to Intermediate – no prior experience required\nMediums: Acrylic paint\, oil paint accents\, mixed media tools\nOutcome: One completed abstract swirl painting with textured oil enhancements \nALL-INCLUSIVE – Everything! \nCome ready to experiment\, relax\, and enjoy the creative process. Each painting will be uniquely yours—vibrant\, expressive\, and gallery-worthy.
URL:https://seasidecreativeart.com/event/beach-swirl-acrylic-painting-embellish-with-oils/
LOCATION:Seaside Creative Art Studio\, 150 East Columbia Lane\, Cocoa Beach\, FL\, 32931\, United States
CATEGORIES:Classes
ATTACH;FMTTYPE=image/jpeg:https://seasidecreativeart.com/wp-content/uploads/2026/03/march-2026.jpg
END:VEVENT
BEGIN:VEVENT
DTSTART;TZID=America/New_York:20260402T180000
DTEND;TZID=America/New_York:20260402T213000
DTSTAMP:20260423T185540
CREATED:20260328T183930Z
LAST-MODIFIED:20260328T190802Z
UID:10000367-1775152800-1775165400@seasidecreativeart.com
SUMMARY:Tropical Cocoa Beach SpringTime
DESCRIPTION:Learn to Paint: Tropical Cocoa Beach in Springtime \nCapture the beauty of a tropical spring day inspired by Cocoa Beach! In this relaxing\, step-by-step class\, you’ll create a coastal scene featuring soft turquoise waters\, warm peach sunset skies\, and delicate shell accents along the shoreline. This painting blends peaceful ocean hues with vibrant spring color\, perfect for beginners and experienced artists alike. \nYou’ll be guided through layering techniques to build a glowing sky\, blending turquoise tones for gentle waves\, and adding beach textures that bring your scene to life. Optional shell details and light reflections will add charm and dimension\, creating a finished piece that feels fresh\, airy\, and coastal. \nYou’ll Learn:\n• Blending a soft peach sunset sky\n• Creating turquoise ocean depth and movement\n• Painting sandy shoreline textures\n• Adding  coastal accents + palm tree\n• Light reflection and highlights\n• Finishing touches for a polished tropical look \nSkill Level: Beginner friendly\nTheme Colors: Turquoise\, peach\, sandy neutrals\, soft coastal tones\nOutcome: One completed tropical spring beach painting inspired by Cocoa Beach \nRelax\, unwind\, and bring the colors of springtime by the ocean to your canvas. Leave with a peaceful coastal artwork and new painting skills!
URL:https://seasidecreativeart.com/event/tropical-cocoa-beach-springtime/
LOCATION:Seaside Creative Art Studio\, 150 East Columbia Lane\, Cocoa Beach\, FL\, 32931\, United States
CATEGORIES:Classes
ATTACH;FMTTYPE=image/jpeg:https://seasidecreativeart.com/wp-content/uploads/2026/03/march.beach_.jpg
END:VEVENT
BEGIN:VEVENT
DTSTART;TZID=America/New_York:20260403T170000
DTEND;TZID=America/New_York:20260403T210000
DTSTAMP:20260423T185540
CREATED:20260328T192358Z
LAST-MODIFIED:20260331T222704Z
UID:10000368-1775235600-1775250000@seasidecreativeart.com
SUMMARY:Easter Bunny Impressionalistic Oil Painting
DESCRIPTION:Paint Class: Easter Bunny Impressionistic Oil Painting (All-Inclusive) \nCelebrate spring with a charming impressionistic Easter Bunny surrounded by soft\, colorful spring flowers. In this all-inclusive paint class\, you’ll learn how to create a warm\, expressive oil painting featuring gentle brushstrokes\, pastel tones\, and a whimsical seasonal theme. Perfect for beginners and experienced painters\, this class focuses on capturing light\, texture\, and movement in an impressionistic style. \nYou’ll be guided step-by-step through building a soft background\, shaping the bunny with loose painterly strokes\, and adding spring florals in delicate layers. Learn how to blend oils for depth\, create fluffy texture\, and highlight your composition with soft seasonal colors. \nClass Includes:\n• All painting supplies provided\n• Oil paints and brushes\n• Apron and workspace setup\n• Step-by-step guided instruction\n• Take-home finished artwork \nYou’ll Learn:\n• Impressionistic oil painting techniques\n• Creating soft bunny fur texture\n• Blending pastel spring color palettes\n• Painting loose\, expressive flowers\n• Layering and highlighting with oils\n• Finishing and display tips \nSkill Level: Beginner friendly\nTheme: Easter Bunny with spring flowers\nColors: Soft pastels\, florals\, warm spring tones \nEnjoy a relaxing\, creative class and leave with a beautiful seasonal painting perfect for Easter décor or gifting.
URL:https://seasidecreativeart.com/event/easter-bunny-impressionalistic-oil-painting/
LOCATION:Seaside Creative Art Studio\, 150 East Columbia Lane\, Cocoa Beach\, FL\, 32931\, United States
CATEGORIES:Classes
ATTACH;FMTTYPE=image/jpeg:https://seasidecreativeart.com/wp-content/uploads/2026/03/bunny.jpg
END:VEVENT
BEGIN:VEVENT
DTSTART;TZID=America/New_York:20260404T080000
DTEND;TZID=America/New_York:20260404T120000
DTSTAMP:20260423T185540
CREATED:20260328T193152Z
LAST-MODIFIED:20260328T193152Z
UID:10000369-1775289600-1775304000@seasidecreativeart.com
SUMMARY:Tourquise Beach Mixed Media (Acrylics + Oils)
DESCRIPTION:Class: Turquoise Beach Mixed Media (Acrylics + Oils) – All Inclusive \nPaint a vibrant coastal scene featuring crashing turquoise waves\, white sea foam\, a hidden hillside\, and a peaceful sandy beach. In this all-inclusive mixed media class\, you’ll combine the fast-drying versatility of acrylics with the rich blending qualities of oils to create depth\, texture\, and movement. \nYou’ll begin by building the composition with acrylic layers—blocking in the sky\, distant hill\, and shoreline. Then\, enhance your painting using oil embellishments to create realistic crashing waves\, soft foam details\, and dimensional highlights across the sand and water. This technique allows for expressive movement and a luminous coastal finish. \nClass Includes:\n• All painting supplies provided\n• Canvas and mixed media materials\n• Acrylic paints + oil embellishment paints\n• Brushes and palette tools\n• Apron and workspace setup\n• Step-by-step guided instruction\n• Take-home finished artwork \nYou’ll Learn:\n• Creating turquoise ocean color blends\n• Painting crashing waves and motion\n• Layering white foam and sea spray\n• Building depth with a hidden hillside\n• Sandy beach texture techniques\n• Combining acrylic base layers with oil details\n• Final highlighting and finishing methods \nSkill Level: Beginner to Intermediate\nTheme: Turquoise beach with waves\, foam\, and coastal landscape\nOutcome: One completed mixed media coastal painting ready to display \nRelax\, explore coastal color\, and bring the energy of the ocean to your canvas in this immersive beach painting class.
URL:https://seasidecreativeart.com/event/tourquise-beach-mixed-media-acrylics-oils/
LOCATION:Seaside Creative Art Studio\, 150 East Columbia Lane\, Cocoa Beach\, FL\, 32931\, United States
CATEGORIES:Classes
ATTACH;FMTTYPE=image/jpeg:https://seasidecreativeart.com/wp-content/uploads/2026/03/beachtourquise.jpg
END:VEVENT
END:VCALENDAR