BEGIN:VCALENDAR
VERSION:2.0
PRODID:-//Seaside Creative Art, Inc - ECPv6.15.20//NONSGML v1.0//EN
CALSCALE:GREGORIAN
METHOD:PUBLISH
X-WR-CALNAME:Seaside Creative Art, Inc
X-ORIGINAL-URL:https://seasidecreativeart.com
X-WR-CALDESC:Events for Seaside Creative Art, Inc
REFRESH-INTERVAL;VALUE=DURATION:PT1H
X-Robots-Tag:noindex
X-PUBLISHED-TTL:PT1H
BEGIN:VTIMEZONE
TZID:America/New_York
BEGIN:DAYLIGHT
TZOFFSETFROM:-0500
TZOFFSETTO:-0400
TZNAME:EDT
DTSTART:20250309T070000
END:DAYLIGHT
BEGIN:STANDARD
TZOFFSETFROM:-0400
TZOFFSETTO:-0500
TZNAME:EST
DTSTART:20251102T060000
END:STANDARD
BEGIN:DAYLIGHT
TZOFFSETFROM:-0500
TZOFFSETTO:-0400
TZNAME:EDT
DTSTART:20260308T070000
END:DAYLIGHT
BEGIN:STANDARD
TZOFFSETFROM:-0400
TZOFFSETTO:-0500
TZNAME:EST
DTSTART:20261101T060000
END:STANDARD
BEGIN:DAYLIGHT
TZOFFSETFROM:-0500
TZOFFSETTO:-0400
TZNAME:EDT
DTSTART:20270314T070000
END:DAYLIGHT
BEGIN:STANDARD
TZOFFSETFROM:-0400
TZOFFSETTO:-0500
TZNAME:EST
DTSTART:20271107T060000
END:STANDARD
END:VTIMEZONE
BEGIN:VEVENT
DTSTART;TZID=America/New_York:20260407T170000
DTEND;TZID=America/New_York:20260407T200000
DTSTAMP:20260423T154236
CREATED:20260328T194438Z
LAST-MODIFIED:20260328T211143Z
UID:10000370-1775581200-1775592000@seasidecreativeart.com
SUMMARY:Abstract Colorful Spring Bouquet
DESCRIPTION:Class: Abstract Colorful Spring Bouquet – All Inclusive \nCreate a vibrant abstract spring bouquet filled with bold color\, expressive brushwork\, and beautiful blended depth. In this all-inclusive class\, you’ll explore how to layer and blend colors to form loose floral shapes that feel fresh\, modern\, and full of movement. Perfect for beginners and experienced painters\, this class focuses on color harmony and creating dimension through blending techniques. \nYou’ll start by building a soft\, colorful background\, then layer abstract flower forms using bright spring tones. Learn how to blend colors directly on the canvas to create depth\, highlight petals\, and add energy to your bouquet. The result is a lively\, cheerful painting that captures the spirit of spring. \nClass Includes:\n• All painting supplies provided\n• Canvas and acrylic paints\n• Brushes and palette tools\n• Apron and workspace setup\n• Step-by-step guided instruction\n• Take-home finished artwork \nYou’ll Learn:\n• Abstract floral composition techniques\n• Color blending for depth and dimension\n• Layering vibrant spring colors\n• Creating loose\, expressive petals\n• Highlighting and contrast methods\n• Finishing touches for a polished look \nSkill Level: Beginner friendly\nTheme: Colorful abstract spring bouquet\nOutcome: One completed vibrant floral painting ready to display \nRelax\, blend bold colors\, and celebrate spring with a cheerful abstract bouquet full of movement and depth.
URL:https://seasidecreativeart.com/event/abstract-colorful-spring-bouquet/
LOCATION:Seaside Creative Art Studio\, 150 East Columbia Lane\, Cocoa Beach\, FL\, 32931\, United States
CATEGORIES:Classes
ATTACH;FMTTYPE=image/jpeg:https://seasidecreativeart.com/wp-content/uploads/2026/03/flowers.acrylic.jpg
END:VEVENT
BEGIN:VEVENT
DTSTART;TZID=America/New_York:20260410T170000
DTEND;TZID=America/New_York:20260410T200000
DTSTAMP:20260423T154236
CREATED:20260328T203050Z
LAST-MODIFIED:20260328T203050Z
UID:10000375-1775840400-1775851200@seasidecreativeart.com
SUMMARY:Women in the Woods Mixed Media
DESCRIPTION:Class: Women in the Woods – Abstract Acrylic + Oil Mixed Media (All Inclusive) \nExplore abstract forest-inspired art in this all-inclusive mixed media class. Combine acrylics and oil paints to create layered textures\, vibrant colors\, and expressive brushwork. \nClass Includes:\n• Canvas\, acrylics\, and oil paints\n• Brushes and palette tools\n• Step-by-step guided instruction\n• Take-home finished artwork \nYou’ll Learn:\n• Abstract composition and layering\n• Blending acrylics and oils\n• Texture and color depth techniques\n• Finishing and highlights \nSkill Level: Beginner friendly\nOutcome: One completed abstract forest-inspired painting ready to display \nExpress creativity\, explore color and texture\, and leave with a striking mixed media artwork.
URL:https://seasidecreativeart.com/event/women-in-the-woods-mixed-media/
LOCATION:Seaside Creative Art Studio\, 150 East Columbia Lane\, Cocoa Beach\, FL\, 32931\, United States
CATEGORIES:Classes
ATTACH;FMTTYPE=image/jpeg:https://seasidecreativeart.com/wp-content/uploads/2026/03/women-in-the-woods.jpg
END:VEVENT
BEGIN:VEVENT
DTSTART;TZID=America/New_York:20260411T170000
DTEND;TZID=America/New_York:20260411T210000
DTSTAMP:20260423T154236
CREATED:20260328T200238Z
LAST-MODIFIED:20260328T200238Z
UID:10000371-1775926800-1775941200@seasidecreativeart.com
SUMMARY:“Blooms on the Range” Textured Plaster Art & Mixed Media
DESCRIPTION:Class: “Blooms on the Range” – Textured Plaster Art & Acrylic/Oils (All Inclusive) \nCreate a rustic-meets-modern Cow floral masterpiece using textured plaster and layered acrylic and oil painting techniques. In this all-inclusive class\, you’ll design a dimensional floral composition inspired by open fields and natural blooms\, combining sculpted texture with soft blended color. \nYou’ll begin by applying plaster to build raised floral shapes and organic background movement. Once the texture is set\, you’ll paint using acrylics to establish base tones\, then enhance depth and softness with oil embellishments. This mixed-media approach creates a beautiful balance of texture\, color\, and artistic expression. \nClass Includes:\n• All supplies provided (canvas\, plaster\, paints)\n• Acrylic paints and oil embellishments\n• Palette knives and texture tools\n• Brushes and blending tools\n• Apron and workspace setup\n• Step-by-step guided instruction\n• Take-home finished textured artwork \nYou’ll Learn:\n• Applying plaster for raised floral texture\n• Sculpting petals and organic background movement\n• Acrylic base layering techniques\n• Blending oils for depth and highlights\n• Color harmony for natural floral compositions\n• Finishing and sealing textured artwork \nSkill Level: Beginner to Intermediate\nTheme: Textured rustic floral bouquet\nOutcome: One dimensional textured plaster floral painting ready to display \nEnjoy a creative\, hands-on experience blending texture and color to create a one-of-a-kind floral artwork full of depth and character.
URL:https://seasidecreativeart.com/event/blooms-on-the-range-textured-plaster-art-mixed-media/
LOCATION:Seaside Creative Art Studio\, 150 East Columbia Lane\, Cocoa Beach\, FL\, 32931\, United States
CATEGORIES:Classes
ATTACH;FMTTYPE=image/jpeg:https://seasidecreativeart.com/wp-content/uploads/2026/03/cow.jpg
END:VEVENT
END:VCALENDAR