BEGIN:VCALENDAR
VERSION:2.0
PRODID:-//Seaside Creative Art, Inc - ECPv6.15.20//NONSGML v1.0//EN
CALSCALE:GREGORIAN
METHOD:PUBLISH
X-ORIGINAL-URL:https://seasidecreativeart.com
X-WR-CALDESC:Events for Seaside Creative Art, Inc
REFRESH-INTERVAL;VALUE=DURATION:PT1H
X-Robots-Tag:noindex
X-PUBLISHED-TTL:PT1H
BEGIN:VTIMEZONE
TZID:America/New_York
BEGIN:DAYLIGHT
TZOFFSETFROM:-0500
TZOFFSETTO:-0400
TZNAME:EDT
DTSTART:20250309T070000
END:DAYLIGHT
BEGIN:STANDARD
TZOFFSETFROM:-0400
TZOFFSETTO:-0500
TZNAME:EST
DTSTART:20251102T060000
END:STANDARD
BEGIN:DAYLIGHT
TZOFFSETFROM:-0500
TZOFFSETTO:-0400
TZNAME:EDT
DTSTART:20260308T070000
END:DAYLIGHT
BEGIN:STANDARD
TZOFFSETFROM:-0400
TZOFFSETTO:-0500
TZNAME:EST
DTSTART:20261101T060000
END:STANDARD
BEGIN:DAYLIGHT
TZOFFSETFROM:-0500
TZOFFSETTO:-0400
TZNAME:EDT
DTSTART:20270314T070000
END:DAYLIGHT
BEGIN:STANDARD
TZOFFSETFROM:-0400
TZOFFSETTO:-0500
TZNAME:EST
DTSTART:20271107T060000
END:STANDARD
END:VTIMEZONE
BEGIN:VEVENT
DTSTART;TZID=America/New_York:20260413T140000
DTEND;TZID=America/New_York:20260413T160000
DTSTAMP:20260423T165840
CREATED:20260410T213835Z
LAST-MODIFIED:20260410T213835Z
UID:10000406-1776088800-1776096000@seasidecreativeart.com
SUMMARY:“Coastal Waves” — Resin Charcuterie Board Class
DESCRIPTION:“Coastal Waves” — Resin Charcuterie Board Class\nAll Welcome! \nDive into creativity and design your own stunning\, coastal-inspired resin charcuterie board in this fun\, hands-on class! With guided\, step-by-step instruction\, you’ll learn how to blend ocean blues\, waves\, and shimmering details to create a board that feels like a piece of the beach. \nChoose from a variety of unique board options—Olive Tree\, Surfboard shape\, Walnut\, and more—each giving you the chance to craft a one-of-a-kind piece that fits your personal style. \nHere is what you can expect: \n\n\nChoose your board style: Basic Charcuterie or Sea-Inspired Shape \n\n\nUpgrade options available: Larger board sizes\, Premium wood – Olive\, Walnut\, etc \n\n\nPersonalize your creation: Optional laser engraving adds a special touch \n\n\nEverything included: Wood\, resin\, pigments\, tools\, and full instruction \n\n\nJust bring your creativity—you’ll have with a beautiful coastal charcuterie board you’ll be proud to display or gift! \nNote: Resin requires 24+ hrs to cure; pick up is 2-3 days after class\, or shipping is available.
URL:https://seasidecreativeart.com/event/coastal-waves-resin-charcuterie-board-class-8/
LOCATION:Seaside Creative Art Studio\, 150 East Columbia Lane\, Cocoa Beach\, FL\, 32931\, United States
CATEGORIES:Classes,FUNctional Abstract Art - Resin Beach Cheese Boards
ATTACH;FMTTYPE=image/png:https://seasidecreativeart.com/wp-content/uploads/2025/11/Screenshot-2025-11-24-184809.png
END:VEVENT
BEGIN:VEVENT
DTSTART;TZID=America/New_York:20260414T180000
DTEND;TZID=America/New_York:20260414T210000
DTSTAMP:20260423T165840
CREATED:20260328T200659Z
LAST-MODIFIED:20260328T200812Z
UID:10000372-1776189600-1776200400@seasidecreativeart.com
SUMMARY:“Impasso Tucan”  Oil Painting Class
DESCRIPTION:Class: “Impasto Toucan” – Oil Painting (All Inclusive) \nCreate a bold\, tropical toucan using expressive impasto oil painting techniques. In this all-inclusive class\, you’ll learn how to apply thick\, textured paint to build vibrant feathers\, a colorful beak\, and lush tropical surroundings. This hands-on experience focuses on palette knife work\, dimensional brushstrokes\, and rich color layering. \nYou’ll begin by sketching the composition\, then apply thick oil paint to create dramatic texture and movement. Learn how to layer bright tropical colors\, shape the toucan’s features\, and highlight your painting with raised\, dimensional strokes that bring the artwork to life. \nClass Includes:\n• All painting supplies provided\n• Canvas and professional oil paints\n• Brushes and palette knives\n• Texture-building mediums\n• Apron and workspace setup\n• Step-by-step guided instruction\n• Take-home finished artwork \nYou’ll Learn:\n• Impasto oil painting techniques\n• Palette knife texture application\n• Blending bold tropical colors\n• Creating dimensional feather details\n• Highlighting with thick paint strokes\n• Finishing and display tips \nSkill Level: Beginner to Intermediate\nTheme: Tropical toucan with textured impasto style\nOutcome: One completed dimensional oil painting ready to display \nEnjoy a fun\, colorful class and bring a vibrant tropical toucan to life with rich texture and bold expression.
URL:https://seasidecreativeart.com/event/impasso-tucan-oil-painting-class/
LOCATION:Seaside Creative Art Studio\, 150 East Columbia Lane\, Cocoa Beach\, FL\, 32931\, United States
CATEGORIES:Classes
ATTACH;FMTTYPE=image/jpeg:https://seasidecreativeart.com/wp-content/uploads/2026/03/Toucan.jpg
END:VEVENT
BEGIN:VEVENT
DTSTART;TZID=America/New_York:20260415T140000
DTEND;TZID=America/New_York:20260415T160000
DTSTAMP:20260423T165840
CREATED:20260328T201534Z
LAST-MODIFIED:20260328T201534Z
UID:10000373-1776261600-1776268800@seasidecreativeart.com
SUMMARY:Resin Floral Coasters
DESCRIPTION:Class: Resin Floral Coasters – Set of 4 (All Inclusive) \nCreate a beautiful set of four resin floral coasters using pressed flowers\, pigments\, and shimmering accents. In this all-inclusive class\, you’ll design custom coasters that combine delicate botanical elements with glossy resin for a professional\, glass-like finish. Perfect for beginners\, this class focuses on layering\, composition\, and safe resin techniques. \nYou’ll learn how to arrange dried florals\, add color tints\, and pour resin to encapsulate your design. Choose from a variety of flowers\, metallic flakes\, and soft color options to create a coordinated set or four unique pieces. \nClass Includes:\n• Four coaster molds\n• All resin and mixing supplies\n• Assorted pressed flowers and greenery\n• Color pigments and metallic accents\n• Stir sticks\, gloves\, and protective materials\n• Step-by-step guided instruction\n• Set of four finished coasters (cured for pickup or later delivery) \nYou’ll Learn:\n• Safe resin mixing and pouring techniques\n• Floral placement and composition\n• Adding color pigments and shimmer accents\n• Removing bubbles for a smooth finish\n• Layering for depth and dimension\n• Resin curing and care instructions \nSkill Level: Beginner friendly\nProject: Set of four floral resin coasters\nOutcome: Four glossy botanical coasters perfect for home décor or gifting \nRelax\, design\, and create a stunning handcrafted coaster set with beautiful preserved florals.
URL:https://seasidecreativeart.com/event/resin-floral-coasters/
LOCATION:Seaside Creative Art Studio\, 150 East Columbia Lane\, Cocoa Beach\, FL\, 32931\, United States
CATEGORIES:Classes,FUNctional Abstract Art - Resin Beach Cheese Boards
ATTACH;FMTTYPE=image/jpeg:https://seasidecreativeart.com/wp-content/uploads/2026/03/resin-flower-coasters.jpg
END:VEVENT
BEGIN:VEVENT
DTSTART;TZID=America/New_York:20260416T160000
DTEND;TZID=America/New_York:20260416T173000
DTSTAMP:20260423T165840
CREATED:20260410T230027Z
LAST-MODIFIED:20260410T230027Z
UID:10000408-1776355200-1776360600@seasidecreativeart.com
SUMMARY:Beach Themed Multi-Layered Wood Decor
DESCRIPTION:Beach Themedo Multi-Layered Wood Décor ClassCreate your own coastal-inspired layered wood art featuring your choice of Dolphin\, Mermaid\, or Sea Turtle. Learn staining\, blending\, and painting techniques with step-by-step\, hands-on instruction. Resin finishing is optional for added shine and wave effects.All supplies included. All skill levels welcome!
URL:https://seasidecreativeart.com/event/beach-themed-multi-layered-wood-decor/
LOCATION:Seaside Creative Art Studio\, 150 East Columbia Lane\, Cocoa Beach\, FL\, 32931\, United States
CATEGORIES:Classes,Mulit-Layered Wood Decor
END:VEVENT
BEGIN:VEVENT
DTSTART;TZID=America/New_York:20260417T170000
DTEND;TZID=America/New_York:20260417T190000
DTSTAMP:20260423T165840
CREATED:20260410T215554Z
LAST-MODIFIED:20260410T223334Z
UID:10000407-1776445200-1776452400@seasidecreativeart.com
SUMMARY:“Coastal Waves” — Resin Charcuterie Board Class
DESCRIPTION:“Coastal Waves” — Resin Charcuterie Board Class\nAll Welcome! \nDive into creativity and design your own stunning\, coastal-inspired resin charcuterie board in this fun\, hands-on class! With guided\, step-by-step instruction\, you’ll learn how to blend ocean blues\, waves\, and shimmering details to create a board that feels like a piece of the beach. \nChoose from a variety of unique board options—Olive Tree\, Surfboard shape\, Walnut\, and more—each giving you the chance to craft a one-of-a-kind piece that fits your personal style. \nHere is what you can expect: \n\n\nChoose your board style: Basic Charcuterie or Sea-Inspired Shape \n\n\nUpgrade options available: Larger board sizes\, Premium wood – Olive\, Walnut\, etc \n\n\nPersonalize your creation: Optional laser engraving adds a special touch \n\n\nEverything included: Wood\, resin\, pigments\, tools\, and full instruction \n\n\nJust bring your creativity—you’ll have with a beautiful coastal charcuterie board you’ll be proud to display or gift! \nNote: Resin requires 24+ hrs to cure; pick up is 2-3 days after class\, or shipping is available.
URL:https://seasidecreativeart.com/event/coastal-waves-resin-charcuterie-board-class-9/
LOCATION:Seaside Creative Art Studio\, 150 East Columbia Lane\, Cocoa Beach\, FL\, 32931\, United States
CATEGORIES:Classes,FUNctional Abstract Art - Resin Beach Cheese Boards
ATTACH;FMTTYPE=image/png:https://seasidecreativeart.com/wp-content/uploads/2025/11/Screenshot-2025-11-24-184809.png
END:VEVENT
BEGIN:VEVENT
DTSTART;TZID=America/New_York:20260417T180000
DTEND;TZID=America/New_York:20260417T210000
DTSTAMP:20260423T165840
CREATED:20260328T212918Z
LAST-MODIFIED:20260328T212918Z
UID:10000377-1776448800-1776459600@seasidecreativeart.com
SUMMARY:Purple Majesty Waterfall  Oil Painting Class
DESCRIPTION:Class: Purple Majesty Waterfall – Oil Painting (All Inclusive) \nCapture the drama of a cascading waterfall in rich purple and violet tones. In this all-inclusive oil painting class\, you’ll learn to create depth\, movement\, and light reflections for a luminous waterfall scene. \nClass Includes:\n• Canvas and professional oil paints\n• Brushes and palette knives\n• Step-by-step guided instruction\n• Take-home finished artwork \nYou’ll Learn:\n• Oil blending for water and mist effects\n• Layering for depth and dimension\n• Highlighting with light and color\n• Finishing techniques for a polished look \nSkill Level: Beginner to Intermediate\nOutcome: One completed waterfall oil painting ready to display \nBring the majesty of cascading water to life with vibrant purples and expert brushwork.
URL:https://seasidecreativeart.com/event/purple-majesty-waterfall-oil-painting-class/
LOCATION:Seaside Creative Art Studio\, 150 East Columbia Lane\, Cocoa Beach\, FL\, 32931\, United States
CATEGORIES:Classes
ATTACH;FMTTYPE=image/jpeg:https://seasidecreativeart.com/wp-content/uploads/2026/03/purple-waterfall.jpg
END:VEVENT
BEGIN:VEVENT
DTSTART;TZID=America/New_York:20260418T170000
DTEND;TZID=America/New_York:20260418T200000
DTSTAMP:20260423T165840
CREATED:20260328T212422Z
LAST-MODIFIED:20260329T011633Z
UID:10000376-1776531600-1776542400@seasidecreativeart.com
SUMMARY:Giraffee Fun
DESCRIPTION:Class: Giraffe with Bubble Gum – Acrylic Fun Art (All Inclusive) \nBring whimsy to your canvas with a playful giraffe blowing bubble gum! In this all-inclusive acrylic class\, you’ll create a colorful\, lighthearted painting full of character and fun. \nClass Includes:\n• Canvas and acrylic paints\n• Brushes and palette tools\n• Step-by-step guided instruction\n• Take-home finished artwork \nYou’ll Learn:\n• Layering and blending acrylics\n• Adding playful details and highlights\n• Creating expressive animal features\n• Fun color techniques for whimsical art \nSkill Level: Beginner friendly\nOutcome: One completed whimsical giraffe painting ready to display \nUnleash your creativity and have fun bringing a bubble-blowing giraffe to life!
URL:https://seasidecreativeart.com/event/giraffee-fun/
LOCATION:Seaside Creative Art Studio\, 150 East Columbia Lane\, Cocoa Beach\, FL\, 32931\, United States
CATEGORIES:Classes
ATTACH;FMTTYPE=image/jpeg:https://seasidecreativeart.com/wp-content/uploads/2026/03/giraffe.jpg
END:VEVENT
END:VCALENDAR