BEGIN:VCALENDAR
VERSION:2.0
PRODID:-//Seaside Creative Art, Inc - ECPv6.15.20//NONSGML v1.0//EN
CALSCALE:GREGORIAN
METHOD:PUBLISH
X-ORIGINAL-URL:https://seasidecreativeart.com
X-WR-CALDESC:Events for Seaside Creative Art, Inc
REFRESH-INTERVAL;VALUE=DURATION:PT1H
X-Robots-Tag:noindex
X-PUBLISHED-TTL:PT1H
BEGIN:VTIMEZONE
TZID:America/New_York
BEGIN:DAYLIGHT
TZOFFSETFROM:-0500
TZOFFSETTO:-0400
TZNAME:EDT
DTSTART:20250309T070000
END:DAYLIGHT
BEGIN:STANDARD
TZOFFSETFROM:-0400
TZOFFSETTO:-0500
TZNAME:EST
DTSTART:20251102T060000
END:STANDARD
BEGIN:DAYLIGHT
TZOFFSETFROM:-0500
TZOFFSETTO:-0400
TZNAME:EDT
DTSTART:20260308T070000
END:DAYLIGHT
BEGIN:STANDARD
TZOFFSETFROM:-0400
TZOFFSETTO:-0500
TZNAME:EST
DTSTART:20261101T060000
END:STANDARD
BEGIN:DAYLIGHT
TZOFFSETFROM:-0500
TZOFFSETTO:-0400
TZNAME:EDT
DTSTART:20270314T070000
END:DAYLIGHT
BEGIN:STANDARD
TZOFFSETFROM:-0400
TZOFFSETTO:-0500
TZNAME:EST
DTSTART:20271107T060000
END:STANDARD
END:VTIMEZONE
BEGIN:VEVENT
DTSTART;TZID=America/New_York:20260602T183000
DTEND;TZID=America/New_York:20260602T203000
DTSTAMP:20260423T172648
CREATED:20260328T225458Z
LAST-MODIFIED:20260416T170118Z
UID:10000383-1780425000-1780432200@seasidecreativeart.com
SUMMARY:NEW 5 Week Watercolor Workshop Series
DESCRIPTION:Workshop: 5-Week Watercolor Series\nSchedule: Every Tuesday – June 2nd\, 9th\, 16th\, 23rd\, 30th\nTime: 6:30 – 8:30 PM \nExplore the art of watercolor in this five-week workshop series. Learn techniques for washes\, blending\, layering\, and creating vibrant compositions while developing your own watercolor style. \nWorkshop Includes:\n• All watercolor supplies provided including Seaside Watercolor Workbook\n• Step-by-step demonstrations\n• Guided exercises and projects each week\n• Supportive\, hands-on instruction \nYou’ll Learn:\n• Watercolor washes and layering\n• Color mixing and blending\n• Creating texture and depth\n• Composition and perspective\n• Tips for finishing and framing your work \nSkill Level: Beginner to Intermediate\nOutcome: Build confidence with watercolor and complete multiple small projects \nEnjoy a structured\, creative series that brings your watercolor ideas to life.
URL:https://seasidecreativeart.com/event/new-5-week-watercolor-workshop-series/
LOCATION:Seaside Creative Art Studio\, 150 East Columbia Lane\, Cocoa Beach\, FL\, 32931\, United States
CATEGORIES:Classes,Workshops
ATTACH;FMTTYPE=image/jpeg:https://seasidecreativeart.com/wp-content/uploads/2026/03/WaterColor-Painting-5-week-series.jpg
END:VEVENT
BEGIN:VEVENT
DTSTART;TZID=America/New_York:20260605T180000
DTEND;TZID=America/New_York:20260605T210000
DTSTAMP:20260423T172648
CREATED:20260330T094821Z
LAST-MODIFIED:20260330T095212Z
UID:10000402-1780682400-1780693200@seasidecreativeart.com
SUMMARY:Whispers of the Sea Mixed Media Painting
DESCRIPTION:Whispers of the Sea – Mixed Media Seashell Painting  \nCreate a serene coastal-inspired artwork featuring a beautiful seashell as the focal point. In this mixed media class\, you’ll layer acrylics\, texture\, and subtle oil paint accents to capture the soft colors\, movement\, and calming energy of the ocean. Learn blending techniques\, light reflections\, and dimensional effects that bring your seashell to life. Perfect for all skill levels—come relax\, create\, and let the sea inspire you. \nAll Supplies Provided. 16×20 inch prepped canvas
URL:https://seasidecreativeart.com/event/whispers-of-the-sea-mixed-media-painting/
LOCATION:Seaside Creative Art Studio\, 150 East Columbia Lane\, Cocoa Beach\, FL\, 32931\, United States
CATEGORIES:Classes
ATTACH;FMTTYPE=image/jpeg:https://seasidecreativeart.com/wp-content/uploads/2026/03/Screenshot-2026-03-30-054310.jpg
END:VEVENT
BEGIN:VEVENT
DTSTART;TZID=America/New_York:20260606T090000
DTEND;TZID=America/New_York:20260606T150000
DTSTAMP:20260423T172648
CREATED:20260329T014032Z
LAST-MODIFIED:20260329T014032Z
UID:10000391-1780736400-1780758000@seasidecreativeart.com
SUMMARY:Seaside Summer Waves Series - Mixed Media Painting Class
DESCRIPTION: Seaside Summer Waves Series– Mixed Media Painting (All Inclusive) (5 hour class) \nCapture the beauty of summer at the shore with layered mixed media techniques. In this all-inclusive class\, you’ll paint bright blue waves\, sandy shoreline\, and soft sky using acrylic base layers enhanced with oil details for depth and movement. \nClass Includes:\n• Canvas and mixed media supplies\n• Acrylic paints with oil embellishments\n• Brushes and palette tools\n• Step-by-step guided instruction\n• Take-home finished artwork \nYou’ll Learn:\n• Blending summer ocean colors\n• Creating wave motion and foam\n• Layering acrylics with oil highlights\n• Adding shoreline texture and depth \nSkill Level: Beginner friendly\nOutcome: One completed seaside summer painting ready to display \nEnjoy a relaxing beach-inspired class and bring sunny coastal waves to life.
URL:https://seasidecreativeart.com/event/seaside-summer-waves-series-mixed-media-painting-class/
LOCATION:Seaside Creative Art Studio\, 150 East Columbia Lane\, Cocoa Beach\, FL\, 32931\, United States
CATEGORIES:Classes
ATTACH;FMTTYPE=image/jpeg:https://seasidecreativeart.com/wp-content/uploads/2026/03/Screenshot-2026-03-28-213052.jpg
END:VEVENT
BEGIN:VEVENT
DTSTART;TZID=America/New_York:20260606T180000
DTEND;TZID=America/New_York:20260606T210000
DTSTAMP:20260423T172648
CREATED:20260331T224527Z
LAST-MODIFIED:20260331T224527Z
UID:10000405-1780768800-1780779600@seasidecreativeart.com
SUMMARY:Florida Egret  Oil Painting Class
DESCRIPTION:Create a stunning coastal wildlife painting featuring a graceful Florida egret. Learn step-by-step oil painting techniques including blending skies\, building soft feather textures\, and capturing reflections in marsh or shoreline water. This class focuses on composition\, color harmony\, and light to bring your egret to life. Perfect for beginners to intermediate painters. All supplies provided.
URL:https://seasidecreativeart.com/event/florida-egret-oil-painting-class/
LOCATION:Seaside Creative Art Studio\, 150 East Columbia Lane\, Cocoa Beach\, FL\, 32931\, United States
CATEGORIES:Classes
ATTACH;FMTTYPE=image/jpeg:https://seasidecreativeart.com/wp-content/uploads/2026/03/Screenshot-2026-03-31-184157.jpg
END:VEVENT
END:VCALENDAR