BEGIN:VCALENDAR
VERSION:2.0
PRODID:-//Seaside Creative Art, Inc - ECPv6.15.20//NONSGML v1.0//EN
CALSCALE:GREGORIAN
METHOD:PUBLISH
X-ORIGINAL-URL:https://seasidecreativeart.com
X-WR-CALDESC:Events for Seaside Creative Art, Inc
REFRESH-INTERVAL;VALUE=DURATION:PT1H
X-Robots-Tag:noindex
X-PUBLISHED-TTL:PT1H
BEGIN:VTIMEZONE
TZID:America/New_York
BEGIN:DAYLIGHT
TZOFFSETFROM:-0500
TZOFFSETTO:-0400
TZNAME:EDT
DTSTART:20240310T070000
END:DAYLIGHT
BEGIN:STANDARD
TZOFFSETFROM:-0400
TZOFFSETTO:-0500
TZNAME:EST
DTSTART:20241103T060000
END:STANDARD
BEGIN:DAYLIGHT
TZOFFSETFROM:-0500
TZOFFSETTO:-0400
TZNAME:EDT
DTSTART:20250309T070000
END:DAYLIGHT
BEGIN:STANDARD
TZOFFSETFROM:-0400
TZOFFSETTO:-0500
TZNAME:EST
DTSTART:20251102T060000
END:STANDARD
BEGIN:DAYLIGHT
TZOFFSETFROM:-0500
TZOFFSETTO:-0400
TZNAME:EDT
DTSTART:20260308T070000
END:DAYLIGHT
BEGIN:STANDARD
TZOFFSETFROM:-0400
TZOFFSETTO:-0500
TZNAME:EST
DTSTART:20261101T060000
END:STANDARD
BEGIN:DAYLIGHT
TZOFFSETFROM:-0500
TZOFFSETTO:-0400
TZNAME:EDT
DTSTART:20270314T070000
END:DAYLIGHT
BEGIN:STANDARD
TZOFFSETFROM:-0400
TZOFFSETTO:-0500
TZNAME:EST
DTSTART:20271107T060000
END:STANDARD
END:VTIMEZONE
BEGIN:VEVENT
DTSTART;TZID=America/New_York:20260202T160000
DTEND;TZID=America/New_York:20260202T183000
DTSTAMP:20260422T010855
CREATED:20251128T131550Z
LAST-MODIFIED:20251213T041033Z
UID:10000362-1770048000-1770057000@seasidecreativeart.com
SUMMARY:NEW 8-Week Artist Course: Learn Oils & Acrylics
DESCRIPTION:8-Week Painting CourseEvery Monday • February 2 – March 23\, 2026 • 4–6:30 PM \nDiscover the joy of painting—from beginner fundamentals to classic still-life techniques. This engaging course is designed for students of all skill levels\, especially beginners to intermediate artists\, who want to strengthen their foundations and grow their artistic confidence. \nYou’ll explore mixed-media methods\, refine your technique\, and learn step-by-step approaches used by master painters. \nAll supplies included. Enjoy a fully guided art journey using both oils and acrylics. \nWeeks 1–5: Oil Painting Mastery: You Will Learn: \nGlazing for depth & luminosity \nSculpted texture methods \nGold-leaf borders & accents \nWet-on-wet vs. linseed oil mixtures \nColor blending & tonal harmony \nComplete 3 professional oil paintings \nWeeks 6–8: Acrylic Series: You Will Learn: \nMulti-Color Block-Art Painting \nSketching foundations \nLayering acrylics to create vibrant florals \nComplete 3 professional acrylic paintings \nCourse Includes: \nAll supplies *Full instruction *Step-by-Step Techniques \nSnacks Provided \nSmall class environment \nSeating is limited — reserve early!
URL:https://seasidecreativeart.com/event/new-8-week-artist-course-learn-oils-acrylics/
LOCATION:Seaside Creative Art Studio\, 150 East Columbia Lane\, Cocoa Beach\, FL\, 32931\, United States
CATEGORIES:Art Courses,Classes,Workshops
ATTACH;FMTTYPE=image/png:https://seasidecreativeart.com/wp-content/uploads/2025/11/Screenshot-2025-11-28-085408-e1764338178803.png
END:VEVENT
BEGIN:VEVENT
DTSTART;TZID=America/New_York:20251107T180000
DTEND;TZID=America/New_York:20251107T193000
DTSTAMP:20260422T010855
CREATED:20251016T152759Z
LAST-MODIFIED:20251016T152759Z
UID:10000272-1762538400-1762543800@seasidecreativeart.com
SUMMARY:Ocean Wave Charcuterie Board Art Class
DESCRIPTION:Join us for a fun and creative 90-minute resin art class where you’ll design your very own stunning ocean wave charcuterie board! Whether you’re a total beginner or a seasoned DIY enthusiast\, this hands-on workshop is perfect for: . \n\n\nSolo creatives \n\n\nDate nights \n\n\nGirls’ night out \n\n\nFamily fun with kids \n\n\nPrivate parties & team events \n\n\nLet your creativity flow while crafting a functional piece of ocean-inspired art that’s perfect for gifting\, entertaining\, or home decor. \n What’s Included:\n\n\nYour choice of wood charcuterie board (approx. 12” x 6”) or animal-shaped wall art \n\n\nAll materials provided (resin\, pigments\, mica\, tools\, gloves\, etc.) \n\n\nExpert instruction on: \n\n\nResin types & safety \n\n\nMixing & pouring techniques \n\n\nHow to create realistic white resin waves \n\n\nMica integration & color layering \n\n\n\n\nFinishing service: We’ll remove drips and clean your board after curing \n\n\n Optional Upgrades:\n\n\nLarger boards & wood canvas upgrades – starting at $15 \n\n\nCustom engraving (photos\, logos\, names) – starting at $15 \n\n\nFood-safe oil finishing pack – $5 \n\n\n\nImportant Notes:\n\n\nPlease arrive 15 minutes early for sign-in and to choose your board. \n\n\nClass starts promptly at 5 PM. \n\n\nFinished pieces will be available for pickup after curing (pickup time will be provided in class).
URL:https://seasidecreativeart.com/event/ocean-wave-charcuterie-board-art-class/
LOCATION:Seaside Creative Art Studio\, 150 East Columbia Lane\, Cocoa Beach\, FL\, 32931\, United States
CATEGORIES:Classes,Workshops
ATTACH;FMTTYPE=image/heic:https://seasidecreativeart.com/wp-content/uploads/2025/10/20251015_145455-scaled.jpg
END:VEVENT
BEGIN:VEVENT
DTSTART;TZID=America/New_York:20251010T170000
DTEND;TZID=America/New_York:20251010T200000
DTSTAMP:20260422T010855
CREATED:20250927T174121Z
LAST-MODIFIED:20250927T174121Z
UID:10000265-1760115600-1760126400@seasidecreativeart.com
SUMMARY:Paint and Create Parrott Workshop
DESCRIPTION:“Paint & Create Workshop”Join us for a fun and inspiring painting workshop where we’ll create a vibrant parrot perched on a branch using bold colors and expressive brushstrokes. \nPerfect for beginners and seasoned painters alike! Background: soft tropical tones (turquoise\, orange\, yellow) with artistic brushstroke textures. Your own colorful parrot masterpiece to brighten your space! \nWhat is included: \n\n\nStep-by-step instruction \n\n\nAll painting supplies provided (canvas\, brushes\, paints\, apron) \n\n\nLight refreshments \n\n\nA joyful\, creative atmosphere
URL:https://seasidecreativeart.com/event/paint-and-create-parrott-workshop/
LOCATION:Seaside Creative Art Studio\, 150 East Columbia Lane\, Cocoa Beach\, FL\, 32931\, United States
CATEGORIES:Classes,Workshops
ATTACH;FMTTYPE=image/jpeg:https://seasidecreativeart.com/wp-content/uploads/2025/05/August-11-6-9pm.jpg
END:VEVENT
BEGIN:VEVENT
DTSTART;TZID=America/New_York:20250531T090000
DTEND;TZID=America/New_York:20250531T160000
DTSTAMP:20260422T010855
CREATED:20250428T222350Z
LAST-MODIFIED:20250530T133353Z
UID:10000162-1748682000-1748707200@seasidecreativeart.com
SUMMARY:Christian Art Workshop
DESCRIPTION:Christian Art Workshop – Two Paintings Plus Lunch. Learning to Paint is Healthy\, Healing\, and Peaceful. This workshop will allow everyone to experience joy\,  gather as friends\, and build friendships. Soft blends of oils with wet-on-wet technique. \nLunch will be provided- Olive Garden Soups and Salad. \nAll-Inclusive Painting Class with two 16 x 20″ Canvases. All Welcome\, Beginners to Improvers. \nMake sure to add one or more tickets to your cart before clicking “Get Tickets.”
URL:https://seasidecreativeart.com/event/christian-art-workshop/
LOCATION:Seaside Creative Art Studio\, 150 East Columbia Lane\, Cocoa Beach\, FL\, 32931\, United States
CATEGORIES:Classes,Workshops
ATTACH;FMTTYPE=image/png:https://seasidecreativeart.com/wp-content/uploads/2025/04/May-31-Christian-Day-9-4pm-lunch-included-7.png
END:VEVENT
END:VCALENDAR